{"text_format":"3","workbook":"xlsx","n_sheets":1,"sheets":["JILIDAN JADI"],"not_rendered":{"defined_names":1},"read":"whole","date_system":"1900"}

{"sheet":"JILIDAN JADI","index":0,"n_rows":221,"n_cols":8,"rows_kept":221}
[null,null,"DATA JILID YANG SUDAH JADI"]
[]
[null,"PERTAMA (RANI)"]
[null,"NO","NO.TLP","NIM","NAMA","JMLH JILID"]
[null,1,17087,"11.11.1936","Joni Gunawan ",4]
[null,2,17176,"11.12.2017","Raafika Dewi Prihandini ",4]
[null,3,17193,"11.12.2062","Ria Sarah Banun ",3]
[null,4,17195,"11.11.1940","Hastoro ",4]
[null,5,17196,"11.11.2578","Imawan Wahyu Adi ",4]
[null,6,17197,"10.12.1318","Taryono ",4]
[null,7,17199,"11.11.2582","Abdullah Cahya Iswahyudi ",3]
[null,8,17232,"11.12.2085","Riswanto ",4]
[null,9,17247,"11.11.2414","Andri Susilo",4]
[null,10,17250,"11.11.2635","Galang Widya Wicaksono ",3]
[null,11,17255,"11.12.2287","Risna Rosmalina",4]
[null,12,17259,"11.12.2176","Lilis Purwati ",4]
[null,13,17261,"11.11.2541","Yusuf Suprianto ",3]
[null,14,17262,"11.11.2565","Erick Mustika ",4,null,{"$f":"14+16+31+7+20+24","v":112}]
[{"$nulls":5},{"$f":"SUM(F5:F18)","v":52}]
[{"$nulls":7},{"$f":"112+60","v":172}]
[null,"KEDUA (PAK ARIF)"]
[null,"NO","NO.TLP","NIM","NAMA","JMLH JILID"]
[null,1,null,"11.11.2579","Rudi Fitrianto ",3]
[null,2,"085727383511","11.11.2375","Januar Sudiono",{"$f":"#REF!/20000","v":{"$error":"#REF!"}}]
[null,3,"08563658511","11.11.2404","M. Kharis Gunawan",{"$f":"#REF!/20000","v":{"$error":"#REF!"}}]
[null,4,"0819829491","11.12.2278","Muhamad Wisnu Wirawan",{"$f":"#REF!/20000","v":{"$error":"#REF!"}}]
[null,5,"085704000393","11.11.2380","Dwi Lingga Yanotama",{"$f":"#REF!/20000","v":{"$error":"#REF!"}}]
[null,6,"085747539258","11.11.2393","Anjar Harimukti",{"$f":"#REF!/20000","v":{"$error":"#REF!"}}]
[null,7,"085726130366","11.11.2575","Allen Zaenudin",{"$f":"#REF!/20000","v":{"$error":"#REF!"}}]
[null,8,null,"11.11.2396","Retno Wahyu Supanji",{"$f":"#REF!/20000","v":{"$error":"#REF!"}}]
[null,9,null,"11.11.2592","Lutfi Wardoyo",{"$f":"#REF!/20000","v":{"$error":"#REF!"}}]
[null,10,"085713555813","11.11.2649","Tulus Alutfan",{"$f":"#REF!/20000","v":{"$error":"#REF!"}}]
[null,11,"082265350551","11.11.2487","Iswandi",{"$f":"#REF!/20000","v":{"$error":"#REF!"}}]
[null,12,"085642980022","11.11.2333","Ian Janu Satyanagama",{"$f":"#REF!/20000","v":{"$error":"#REF!"}}]
[null,13,"085747784460","11.11.2322","Teguh Aji Priyono",{"$f":"#REF!/20000","v":{"$error":"#REF!"}}]
[null,14,"085700020896","11.12.2200","Setio Aji Nugroho",{"$f":"#REF!/20000","v":{"$error":"#REF!"}}]
[null,15,"085726151815","11.11.2533","Yuda Supriyadi",{"$f":"#REF!/20000","v":{"$error":"#REF!"}}]
[null,16,"085642710021","11.12.2157","Rizky Debby Christiana",{"$f":"#REF!/20000","v":{"$error":"#REF!"}}]
[{"$nulls":5},{"$f":"SUM(F23:F38)","v":{"$error":"#REF!"}}]
[]
[null,"KETIGA (PAK ARIF)"]
[null,"NO","NO.TLP","NIM","NAMA","JMLH JILID SEHARUSNYA","YG DATANG"]
[null,1,17169,"11.12.2286","Ristia Utami ",4,4]
[null,2,"089665720218","11.11.2536","Khatirudin Maarif",{"$f":"#REF!/20000","v":{"$error":"#REF!"}},4]
[null,3,"085729000409","11.12.2224","Fitri Nur Isnaini",{"$f":"#REF!/20000","v":{"$error":"#REF!"}},3]
[null,4,"085725078575","11.12.2118","Ayub Anis Sulfuad",{"$f":"#REF!/20000","v":{"$error":"#REF!"}},3]
[null,5,"082243388615","11.12.2275","Dwiyan Adistira",{"$f":"#REF!/20000","v":{"$error":"#REF!"}},4]
[null,6,"085726055293","11.12.2207","Lukman Widada",{"$f":"#REF!/20000","v":{"$error":"#REF!"}},3]
[null,7,"085726273011","11.11.1949","Purnomo",{"$f":"#REF!/20000","v":{"$error":"#REF!"}},4]
[null,8,"081804823332","11.11.2490","Nurul Anwar M.A",{"$f":"#REF!/20000","v":{"$error":"#REF!"}},4]
[null,9,"08975902895","11.11.2595","Arif Dwi Yuliyadi",{"$f":"#REF!/20000","v":{"$error":"#REF!"}},3]
[null,10,"085726079232","11.11.2623","Friska Kartika Sari",{"$f":"#REF!/20000","v":{"$error":"#REF!"}},3]
[null,11,"085726266647","11.11.2423","Prahastomo Indra P",{"$f":"#REF!/20000","v":{"$error":"#REF!"}},4]
[null,12,"085747960383","11.11.2004","Frenki Setia Budi",{"$f":"#REF!/20000","v":{"$error":"#REF!"}},4]
[null,13,"085747729927","11.11.2500","Rasyid Hidayat",{"$f":"#REF!/20000","v":{"$error":"#REF!"}},4]
[null,14,"081903587114","11.11.2374","Kendro Stiyono",{"$f":"#REF!/20000","v":{"$error":"#REF!"}},4]
[null,15,"085777754147","09.11.1132","Khotibul Umam",{"$f":"#REF!/20000","v":{"$error":"#REF!"}},4]
[null,16,"089665750180","11.11.2587","Iguh Setiadi",{"$f":"#REF!/20000","v":{"$error":"#REF!"}},3,"SUDAH DATANG KEKURANGANNYA"]
[null,17,"082226465653","11.11.2593","Novianto Alfian W",{"$f":"#REF!/20000","v":{"$error":"#REF!"}},3]
[null,18,"085743335133","11.11.2406","Weningtyas Prabandari",{"$f":"#REF!/20000","v":{"$error":"#REF!"}},3]
[null,19,"081225224175","11.12.2119","Adelina Yuliani",{"$f":"#REF!/20000","v":{"$error":"#REF!"}},3]
[null,20,"085640674448","11.11.2644","Danang Noviyanto",{"$f":"#REF!/20000","v":{"$error":"#REF!"}},3]
[null,21,"081586338928","11.11.2316","Rega Sugiharto",{"$f":"#REF!/20000","v":{"$error":"#REF!"}},3]
[null,22,"085726790700","11.11.2590","Wahyu Seno Aji",{"$f":"#REF!/20000","v":{"$error":"#REF!"}},4]
[null,23,"085201200666","11.12.2051","Agus Andriadi",{"$f":"#REF!/20000","v":{"$error":"#REF!"}},3]
[null,24,"081393021234","11.11.2344","Bekti Kurnia Putra",{"$f":"#REF!/20000","v":{"$error":"#REF!"}},4]
[null,25,"087719333700","11.12.2144","Sangga Faizar",{"$f":"#REF!/20000","v":{"$error":"#REF!"}},4]
[null,26,"085747166166","11.11.2330","Kukuh Fajar Fitrianto",{"$f":"#REF!/20000","v":{"$error":"#REF!"}},4]
[null,27,"081315569281","11.11.2431","Rendi Isnanto",{"$f":"#REF!/20000","v":{"$error":"#REF!"}},3]
[null,28,"08975916423","11.11.2448","Galang Dani Saputra",{"$f":"#REF!/20000","v":{"$error":"#REF!"}},3]
[null,29,"089623106549","11.11.2637","Idit Aji Sutopo",{"$f":"#REF!/20000","v":{"$error":"#REF!"}},4]
[null,30,"085747742344","11.11.2003","Erni Solijah",{"$f":"#REF!/20000","v":{"$error":"#REF!"}},4]
[null,31,"08562610811","11.12.2261","Wildan Desimora",{"$f":"#REF!/20000","v":{"$error":"#REF!"}},3]
[{"$nulls":5},{"$f":"SUM(F43:F73)","v":{"$error":"#REF!"}},{"$f":"SUM(G43:G73)","v":109}]
[]
[null,"KETIGA (RANI)"]
[null,"NO","NO.TLP","NIM","NAMA","JMLH JILID SEHARUSNYA"]
[null,1,17197,"10.12.1318","Taryono ",1]
[null,2,17257,"11.12.2166","Dwi Nandari ",4]
[null,3,17260,"11.12.2230","Wisnu Kusuma Dharma ",4]
[null,4,17198,"11.12.2225","Dias Afritianti ",4]
[null,5,17170,"11.12.2149","Usi Setiarini ",4]
[null,6,17239,"11.12.2038","Tria Kartika ",4]
[null,7,17175,"11.12.2260","Herdian Lukman Syah ",4]
[{"$nulls":5},{"$f":"SUM(F78:F84)","v":25}]
[]
[null,"KEEMPAT (RANI)"]
[null,"NO","NO.TLP","NIM","NAMA","JMLH JILID SEHARUSNYA","YG DATANG"]
[null,1,null,"11.11.2357","Yusak Adi Sekar ",3,3]
[null,2,null,"11.12.2233","Riyan Asep Susanto ",4,4]
[null,3,null,"11.12.2211","Dwi Rahayu Setiawati ",4,4]
[null,4,null,"11.11.2381","Hudi Masruri ",4,3,"SUDAH DATANG KEKURANGANNYA"]
[null,5,null,"11.12.2047","Sugiyani Lastari",4,4]
[null,6,null,"11.12.2183","Evi Rahmawati ",4,4]
[null,7,null,"11.11.2397","Tarno ",4,3,"SUDAH DATANG KEKURANGANNYA"]
[null,8,null,"11.12.2097","Solihatun",{"$f":"#REF!/20000","v":{"$error":"#REF!"}},4]
[null,9,null,"11.11.2454","Sabda Wiku Jati Wasesa ",{"$f":"#REF!/20000","v":{"$error":"#REF!"}},4]
[null,10,null,"11.12.2172","Dini Gilang Cahyani ",{"$f":"#REF!/20000","v":{"$error":"#REF!"}},4]
[null,11,null,"10.12.1321","Anorogo Dwi Susilo",{"$f":"#REF!/20000","v":{"$error":"#REF!"}},4]
[null,12,null,"11.11.2367","Reza Fajar Fitriyatna",{"$f":"#REF!/20000","v":{"$error":"#REF!"}},4]
[null,13,null,"11.11.2360","Tofik Hidayat ",4,4]
[{"$nulls":5},{"$f":"SUM(F89:F101)","v":{"$error":"#REF!"}},{"$f":"SUM(G89:G101)","v":49}]
[]
[null,"KELIMA (RANI)"]
[null,"NO","NO.TLP","NIM","NAMA","JMLH JILID SEHARUSNYA","YG DATANG"]
[null,1,17086,"11.11.2402","M Hilal Khaelani ",4,4]
[null,2,17174,"11.11.2453","Saiful Irham Wicaksana ",4,4]
[null,3,17242,"11.11.2381","Hudi Masruri ",4,1]
[null,4,17252,"11.12.2292","Himawan Khoerul U ",4,3]
[null,5,17256,"11.11.2397","Tarno ",4,1]
[null,6,17266,"11.12.2057","Engki Ardina",3,3]
[null,7,null,"11.11.2628","Apriyanto",{"$f":"#REF!/20000","v":{"$error":"#REF!"}},3]
[{"$nulls":5},{"$f":"SUM(F106:F112)","v":{"$error":"#REF!"}},{"$f":"SUM(G106:G112)","v":19}]
[]
[]
[null,"KEENAM(PAK ARIF)"]
[null,"NO","NO.TLP","NIM","NAMA","JMLH JILID SEHARUSNYA","YG DATANG"]
[null,1,"087736743603","11.11.2321","Siti Maemunah",{"$f":"#REF!/20000","v":{"$error":"#REF!"}},3]
[null,2,"085726025903","11.12.2190","Wasis Agung Budiarso",{"$f":"#REF!/20000","v":{"$error":"#REF!"}},3]
[null,3,"087837208672","11.11.2315","Setiono",{"$f":"#REF!/20000","v":{"$error":"#REF!"}},4]
[null,4,"085747883883","11.11.2411","Arif Hidayatulloh",{"$f":"#REF!/20000","v":{"$error":"#REF!"}},4]
[null,5,"085747108174","11.11.2605","Titik Yuli Setiowati",{"$f":"#REF!/20000","v":{"$error":"#REF!"}},4]
[null,6,"085647781628","11.11.2521","Tri Handayani",{"$f":"#REF!/20000","v":{"$error":"#REF!"}},3]
[null,7,"081227984960","11.11.2584","Emi Nurul Latifah",{"$f":"#REF!/20000","v":{"$error":"#REF!"}},4]
[null,8,"085729225850","11.11.2467","Bimo Rahman Prasetyo",{"$f":"#REF!/20000","v":{"$error":"#REF!"}},4]
[null,9,"085712512146","11.11.2348","Riri Dian Sari",{"$f":"#REF!/20000","v":{"$error":"#REF!"}},4]
[null,10,"085786050287","11.11.2442","Andi Setiyo Budi Santoso",{"$f":"#REF!/20000","v":{"$error":"#REF!"}},3]
[null,11,"085726404442","11.12.2037","Gani Aditia",{"$f":"#REF!/20000","v":{"$error":"#REF!"}},4]
[null,12,"085726866244","11.11.2522","Arif Mujib Arrohman",{"$f":"#REF!/20000","v":{"$error":"#REF!"}},4]
[null,13,"089666002214","11.11.2446","Isnan Wildi N R",{"$f":"#REF!/20000","v":{"$error":"#REF!"}},4]
[null,14,"089653797673","11.11.2647","Damar Budi Prasetyo",{"$f":"#REF!/20000","v":{"$error":"#REF!"}},4]
[null,15,"089665750180","11.11.2587","Iguh Setiadi",{"$f":"#REF!/20000","v":{"$error":"#REF!"}},1]
[null,16,"081329878885","11.11.2443","Fauzan Hidayatulloh",{"$f":"#REF!/20000","v":{"$error":"#REF!"}},4]
[null,17,"082242597697","11.11.2441","Sulistiyono",{"$f":"#REF!/20000","v":{"$error":"#REF!"}},3]
[null,18,"085926171292","11.11.2469","Dwi Muji Sejati",{"$f":"#REF!/20000","v":{"$error":"#REF!"}},3]
[null,19,"085642420577","11.11.2352","Anton Nugroho",{"$f":"#REF!/20000","v":{"$error":"#REF!"}},3]
[null,20,"085729223661","11.11.2495","Dwi Susanti",{"$f":"#REF!/20000","v":{"$error":"#REF!"}},4]
[null,21,"085647952699","11.11.2439","Esa Susetyo Adji",{"$f":"#REF!/20000","v":{"$error":"#REF!"}},3]
[null,22,"085799188055","11.11.2537","Ahmad Fikri Fauzan",{"$f":"#REF!/20000","v":{"$error":"#REF!"}},4]
[null,23,"085747766697","11.11.2560","Galih Eko Purnomo",{"$f":"#REF!/20000","v":{"$error":"#REF!"}},4]
[null,24,"085641221093","11.11.1938","Muhammad Khusni Mubarok",{"$f":"#REF!/20000","v":{"$error":"#REF!"}},3]
[{"$nulls":6},{"$f":"SUM(G118:G141)","v":84}]
[]
[null,"KETUJUH(PAK ARIF)"]
[null,"NO","NO.TLP","NIM","NAMA","JMLH JILID SEHARUSNYA","YG DATANG"]
[null,1,"082367212241","11.12.2273","Muntoha",{"$f":"#REF!/20000","v":{"$error":"#REF!"}},4]
[null,2,null,"11.11.1952","Eko Wahyu Cahya",{"$f":"#REF!/20000","v":{"$error":"#REF!"}},4]
[null,3,"085642630309","11.11.2585","Kristian Dwi Arismawan",{"$f":"#REF!/20000","v":{"$error":"#REF!"}},4]
[null,4,"085728548048","11.12.2018","Imam Sofarudin",{"$f":"#REF!/20000","v":{"$error":"#REF!"}},4]
[null,5,"085100391391","11.12.2250","Ferdiana Sukma",{"$f":"#REF!/20000","v":{"$error":"#REF!"}},3]
[null,6,"085701342009","11.11.2576","Herlambang Srihartono",{"$f":"#REF!/20000","v":{"$error":"#REF!"}},4]
[null,7,"087837311163","11.11.2577","Ilham Prima Adi",{"$f":"#REF!/20000","v":{"$error":"#REF!"}},4]
[null,8,"082134621001","11.11.2332","Wiyoko Agus Prasetiyo",{"$f":"#REF!/20000","v":{"$error":"#REF!"}},4]
[null,9,"085842554926","11.11.2466","Andi Siswanto ",{"$f":"#REF!/20000","v":{"$error":"#REF!"}},4]
[null,10,"08977657550","11.11.2542","Prima Samapta",{"$f":"#REF!/20000","v":{"$error":"#REF!"}},4]
[null,11,"087837234482","11.11.2553","Ihvanjar Winursah",{"$f":"#REF!/20000","v":{"$error":"#REF!"}},4]
[null,12,"085647741660","11.11.2558","Ekky Himawan",{"$f":"#REF!/20000","v":{"$error":"#REF!"}},4]
[null,13,"085729464024","11.11.2524","Siti Fatonah ",{"$f":"#REF!/20000","v":{"$error":"#REF!"}},4]
[null,14,"085729941669","10.12.1355","Herlin Dwi Susanti",{"$f":"#REF!/20000","v":{"$error":"#REF!"}},4]
[null,15,"085875694938","11.11.2530","Kaida Fitriani",{"$f":"#REF!/20000","v":{"$error":"#REF!"}},4]
[null,16,"089623821451","10.12.1446","Awaludin Yusuf",{"$f":"#REF!/20000","v":{"$error":"#REF!"}},4]
[null,17,"083863346734","11.11.2588","Randy Meriska Leksono Adi",{"$f":"#REF!/20000","v":{"$error":"#REF!"}},4]
[null,18,"085747008862","11.11.2415","Arief Moyo Yudhistiro",{"$f":"#REF!/20000","v":{"$error":"#REF!"}},4]
[{"$nulls":5},{"$f":"SUM(F146:F163)","v":{"$error":"#REF!"}},{"$f":"SUM(G146:G163)","v":71}]
[]
[]
[null,"KETUJUH(PAK ARIF)"]
[null,"NO","NO.TLP","NIM","NAMA","JMLH JILID SEHARUSNYA","YG DATANG"]
[null,1,"081542092585","11.12.2202","Yuda Aditya Putra",{"$f":"#REF!/20000","v":{"$error":"#REF!"}},3]
[null,2,"085741092239","10.12.1410","Agus Nawawi",{"$f":"#REF!/20000","v":{"$error":"#REF!"}},3]
[null,3,"085641377753","11.12.2136","Banny Agil Wicaksono",{"$f":"#REF!/20000","v":{"$error":"#REF!"}},3]
[null,4,"085647665787","11.12.2165","Andalies Zuci Pertami",{"$f":"#REF!/20000","v":{"$error":"#REF!"}},3]
[null,5,"08992423027","11.11.2544","Tegar Sandjaya",{"$f":"#REF!/20000","v":{"$error":"#REF!"}},4]
[null,6,"085747421892","11.11.2614","Dzulfiqar Fahmi R",{"$f":"#REF!/20000","v":{"$error":"#REF!"}},4]
[null,7,"081540854915","11.11.2488","Barid Baroroh",{"$f":"#REF!/20000","v":{"$error":"#REF!"}},4]
[null,8,"085740224514","11.12.2174","Titis Firlyani",{"$f":"#REF!/20000","v":{"$error":"#REF!"}},3]
[null,9,"085647722555","11.11.2342","Dwi Tutus Juli Arianto",{"$f":"#REF!/20000","v":{"$error":"#REF!"}},4]
[null,10,"085747117005","11.11.2596","Fajar Wahyudianto",{"$f":"#REF!/20000","v":{"$error":"#REF!"}},4]
[null,11,"087837366122","11.11.2503","Dwiyan Fitri Anisa",{"$f":"#REF!/20000","v":{"$error":"#REF!"}},3]
[null,12,"085726573779","09.12.0807","Jan Prio Rusriandi",{"$f":"#REF!/20000","v":{"$error":"#REF!"}},3]
[null,13,"085647643218","11.11.2508","Bima Angga Nugraha",{"$f":"#REF!/20000","v":{"$error":"#REF!"}},4]
[null,14,"08562217171","10.11.1545","Safriludin",{"$f":"#REF!/20000","v":{"$error":"#REF!"}},3]
[null,15,"085726542933","11.11.2529","Agung Isnandar",{"$f":"#REF!/20000","v":{"$error":"#REF!"}},4]
[null,16,"081903272535","11.12.2143","Nadya Awalia Putri",{"$f":"#REF!/20000","v":{"$error":"#REF!"}},4]
[null,17,"085747199550","10.12.1909","Titis Haryani",{"$f":"#REF!/20000","v":{"$error":"#REF!"}},4]
[null,18,"085747020198","11.11.1939","Iman Mur Cahyo",{"$f":"#REF!/20000","v":{"$error":"#REF!"}},4]
[null,19,"082243905443","11.11.2597","Riska Saputra",{"$f":"#REF!/20000","v":{"$error":"#REF!"}},3]
[null,20,"085712709314","09.12.0857","Fera Herlinasari",{"$f":"#REF!/20000","v":{"$error":"#REF!"}},3]
[null,21,"087794577720","11.11.2618","Ibrahim",{"$f":"#REF!/20000","v":{"$error":"#REF!"}},3]
[null,22,"085747122339","11.11.2472","Gilang Purwa Darmawan",{"$f":"#REF!/20000","v":{"$error":"#REF!"}},4]
[null,23,"085600631993","11.11.2504","Puput jemmy R",{"$f":"#REF!/20000","v":{"$error":"#REF!"}},4]
[null,24,"081391029575","09.11.1237","Janan Abdul Ghoni",{"$f":"#REF!/20000","v":{"$error":"#REF!"}},3]
[null,25,"085786597909","11.12.2110","Imelda Yanuariska",{"$f":"#REF!/20000","v":{"$error":"#REF!"}},3]
[null,26,"081226222660","11.12.2039","Elvira Maya Mulyani",{"$f":"#REF!/20000","v":{"$error":"#REF!"}},3]
[null,27,"085729123454","11.11.2673","Edhy Setya Wardhana",{"$f":"#REF!/20000","v":{"$error":"#REF!"}},4]
[null,28,"082327907593","11.11.2422","Enggy Kurniansyah",{"$f":"#REF!/20000","v":{"$error":"#REF!"}},3]
[null,29,"082221886453","11.11.2499","Frizal Akbar Budiatmoyo",{"$f":"#REF!/20000","v":{"$error":"#REF!"}},4]
[null,30,"087837936726","09.11.1181","Agus Rianto",{"$f":"#REF!/20000","v":{"$error":"#REF!"}},4]
[null,31,null,"09.11.1221","Syaiful Amri Yahya",{"$f":"#REF!/20000","v":{"$error":"#REF!"}},4]
[{"$nulls":5},{"$f":"SUM(F169:F199)","v":{"$error":"#REF!"}},{"$f":"SUM(G169:G199)","v":109}]
[]
[]
[null,"NO","NO.TLP","NIM","NAMA","JMLH JILID SEHARUSNYA","YG DATANG"]
[null,1,"085747083728","09.11.1260","Ivan Rosyadi",4,4]
[null,2,"087837853154","11.11.2512","Wismo Abdul Aziz",4,4]
[null,3,"085327850308","11.11.2452","Tika Pradini",4,4]
[null,4,"081390071112","10.11.1560","Riyad Aji Washita",4,4]
[null,5,"087794540926","11.11.2518","Sanggih Dwi Arista Utama",4,4]
[null,6,"085729961004","11.11.2580","Aditya Nukgraha",4,4]
[null,7,"082137717946","11.11.2545","Afik Wicahyo Adi Putro",4,4]
[null,8,"085728245707","11.12.2065","Agustin Ma'furi",4,4]
[null,9,"085747070012","11.11.2405","Asti Yuniarti",4,4]
[null,10,"087837366806","11.12.2298","Eni Nurwati",3,3]
[null,11,"087736933359","11.11.2599","Shofa Khanifun Nuzul",4,4]
[null,12,"085799981777","09.11.1264","Helmy Andreansyah",4,4]
[null,13,"085742110992","11.11.2652","Khoeri Priyanto",4,4]
[null,14,"085227049001","09.11.1153","Sahro Romadoni",4,4]
[null,15,"085647991155","11.11.2641","Noor Irvan Danielvan",4,4]
[null,16,"081225213961","10.11.1604","Agung Prasetyo",3,3]
[null,17,"085702257462","11.11.2594","Amalia Fasykhatussiam",4,4]
[{"$nulls":5},{"$f":"SUM(F204:F220)","v":66},{"$f":"SUM(G204:G220)","v":66}]