{"text_format":"3","workbook":"xlsx","n_sheets":1,"sheets":["Sheet2"],"not_rendered":{"external_links":1},"read":"whole","date_system":"1900"}

{"sheet":"Sheet2","index":0,"n_rows":93,"n_cols":3,"rows_kept":93,"merged":[[0,0,0,2],[1,0,1,2],[2,0,2,2]]}
["DAFTAR  KTM SUSULAN 2015 "]
["Sistem Informasi & Teknik Informatika"]
["YANG SUDAH JADI TANGGAL  20 JULI 2016"]
[]
["NO","NIM","NAMA"]
[1,"15.12.0007",{"$f":"VLOOKUP(B6,[1]Sheet1!A$2:B$5450,2,0)","v":"Septia Astiningrum"}]
[2,"15.12.0011",{"$f":"VLOOKUP(B7,[1]Sheet1!A$2:B$5450,2,0)","v":"Satria Pandu Adipurwoko"}]
[3,"15.12.0041",{"$f":"VLOOKUP(B8,[1]Sheet1!A$2:B$5450,2,0)","v":"Fajar Subekti"}]
[4,"15.12.0001",{"$f":"VLOOKUP(B9,[1]Sheet1!A$2:B$5450,2,0)","v":"Hana Kholifatimah"}]
[5,"15.12.0019",{"$f":"VLOOKUP(B10,[1]Sheet1!A$2:B$5450,2,0)","v":"Ikhlas Nurhayati"}]
[6,"15.12.0009",{"$f":"VLOOKUP(B11,[1]Sheet1!A$2:B$5450,2,0)","v":"Citra Galih Kencana"}]
[7,"15.12.0020",{"$f":"VLOOKUP(B12,[1]Sheet1!A$2:B$5450,2,0)","v":"Faiz Agil Wirawan"}]
[8,"15.12.0004",{"$f":"VLOOKUP(B13,[1]Sheet1!A$2:B$5450,2,0)","v":"Ari Kristiani"}]
[9,"15.12.0021",{"$f":"VLOOKUP(B14,[1]Sheet1!A$2:B$5450,2,0)","v":"Arianto Nur Septian"}]
[10,"15.12.0006",{"$f":"VLOOKUP(B15,[1]Sheet1!A$2:B$5450,2,0)","v":"Ade Dwipangestu"}]
[11,"15.12.0022",{"$f":"VLOOKUP(B16,[1]Sheet1!A$2:B$5450,2,0)","v":"Aji Pangestu"}]
[12,"15.12.0005",{"$f":"VLOOKUP(B17,[1]Sheet1!A$2:B$5450,2,0)","v":"Anjar Sylvia Rahmawati"}]
[13,"15.12.0141",{"$f":"VLOOKUP(B18,[1]Sheet1!A$2:B$5450,2,0)","v":"Liana Eka Wulandari"}]
[14,"15.12.0046",{"$f":"VLOOKUP(B19,[1]Sheet1!A$2:B$5450,2,0)","v":"Mirza Ali Aqsho"}]
[15,"15.12.0017",{"$f":"VLOOKUP(B20,[1]Sheet1!A$2:B$5450,2,0)","v":"Rahma Diyani"}]
[16,"15.12.0003",{"$f":"VLOOKUP(B21,[1]Sheet1!A$2:B$5450,2,0)","v":"Isnaeni Septiningrum"}]
[17,"15.12.0137",{"$f":"VLOOKUP(B22,[1]Sheet1!A$2:B$5450,2,0)","v":"Julio Kurnia T.S"}]
[18,"15.12.0015",{"$f":"VLOOKUP(B23,[1]Sheet1!A$2:B$5450,2,0)","v":"Nutiah"}]
[19,"15.12.0109",{"$f":"VLOOKUP(B24,[1]Sheet1!A$2:B$5450,2,0)","v":"Anugrah Ramadani Febriantoro"}]
[20,"15.12.0115",{"$f":"VLOOKUP(B25,[1]Sheet1!A$2:B$5450,2,0)","v":"Abdul Muhyi Nafi'U"}]
[21,"15.12.0159",{"$f":"VLOOKUP(B26,[1]Sheet1!A$2:B$5450,2,0)","v":"Noviatun Lativah"}]
[22,"15.12.0086",{"$f":"VLOOKUP(B27,[1]Sheet1!A$2:B$5450,2,0)","v":"Gilang Amarullah"}]
[23,"15.12.0106",{"$f":"VLOOKUP(B28,[1]Sheet1!A$2:B$5450,2,0)","v":"Dimas Tri Anggoro"}]
[24,"15.12.0064",{"$f":"VLOOKUP(B29,[1]Sheet1!A$2:B$5450,2,0)","v":"Hendra Pradiptiya"}]
[25,"15.12.0059",{"$f":"VLOOKUP(B30,[1]Sheet1!A$2:B$5450,2,0)","v":"Mujtadiddin Tajani"}]
[26,"15.12.0051",{"$f":"VLOOKUP(B31,[1]Sheet1!A$2:B$5450,2,0)","v":"Latif Setiono"}]
[27,"15.12.0145","Agung Setyo Pambudi"]
[28,"15.12.0016",{"$f":"VLOOKUP(B33,[1]Sheet1!A$2:B$5450,2,0)","v":"Dwi Nur Hidayati"}]
[29,"15.11.0341","Dwi Setyawati"]
[30,"15.11.0112",{"$f":"VLOOKUP(B35,[1]Sheet1!A$2:B$5450,2,0)","v":"Muhammad Maruf"}]
[31,"15.11.0269",{"$f":"VLOOKUP(B36,[1]Sheet1!A$2:B$5450,2,0)","v":"Dafid Abdulah"}]
[32,"15.11.0038",{"$f":"VLOOKUP(B37,[1]Sheet1!A$2:B$5450,2,0)","v":"Fajar Kurniawan"}]
[33,"15.11.0210",{"$f":"VLOOKUP(B38,[1]Sheet1!A$2:B$5450,2,0)","v":"Saeful Anwar"}]
[34,"15.11.0191",{"$f":"VLOOKUP(B39,[1]Sheet1!A$2:B$5450,2,0)","v":"Rolan Sakhruloh"}]
[35,"15.11.0151",{"$f":"VLOOKUP(B40,[1]Sheet1!A$2:B$5450,2,0)","v":"Rizqi Mega Arino"}]
[36,"15.11.0016",{"$f":"VLOOKUP(B41,[1]Sheet1!A$2:B$5450,2,0)","v":"Ikmam Nur Fauzi"}]
[37,"15.11.0098",{"$f":"VLOOKUP(B42,[1]Sheet1!A$2:B$5450,2,0)","v":"Edi Supriyono"}]
[38,"15.11.0104",{"$f":"VLOOKUP(B43,[1]Sheet1!A$2:B$5450,2,0)","v":"Eko Prasetyo"}]
[39,"15.11.0107",{"$f":"VLOOKUP(B44,[1]Sheet1!A$2:B$5450,2,0)","v":"Faizal Aji Ramadhan"}]
[40,"15.11.0019",{"$f":"VLOOKUP(B45,[1]Sheet1!A$2:B$5450,2,0)","v":"Bagas Pratikto"}]
[41,"15.11.0007",{"$f":"VLOOKUP(B46,[1]Sheet1!A$2:B$5450,2,0)","v":"Arif Sidik Prasetiyo"}]
[42,"15.11.0219",{"$f":"VLOOKUP(B47,[1]Sheet1!A$2:B$5450,2,0)","v":"Aulia Fitriyani"}]
[43,"15.11.0014",{"$f":"VLOOKUP(B48,[1]Sheet1!A$2:B$5450,2,0)","v":"Aan Hisbullah"}]
[44,"15.11.0012",{"$f":"VLOOKUP(B49,[1]Sheet1!A$2:B$5450,2,0)","v":"Anan Ar Rozzaq"}]
[45,"15.11.0304",{"$f":"VLOOKUP(B50,[1]Sheet1!A$2:B$5450,2,0)","v":"Moh. Inwan Baikuni"}]
[46,"15.11.0008",{"$f":"VLOOKUP(B51,[1]Sheet1!A$2:B$5450,2,0)","v":"Muhammad Batam Filza Pratama"}]
[47,"15.11.0120",{"$f":"VLOOKUP(B52,[1]Sheet1!A$2:B$5450,2,0)","v":"Nandana Afif Nur Fauzi"}]
[48,"15.11.0106",{"$f":"VLOOKUP(B53,[1]Sheet1!A$2:B$5450,2,0)","v":"Ramadani Firdaus"}]
[49,"15.11.0224",{"$f":"VLOOKUP(B54,[1]Sheet1!A$2:B$5450,2,0)","v":"Reza Agus Adi Pratama"}]
[50,"15.11.0142",{"$f":"VLOOKUP(B55,[1]Sheet1!A$2:B$5450,2,0)","v":"Riki Santoso"}]
[51,"15.11.0248",{"$f":"VLOOKUP(B56,[1]Sheet1!A$2:B$5450,2,0)","v":"Rizki Syahrul Pernanda"}]
[52,"15.11.0009",{"$f":"VLOOKUP(B57,[1]Sheet1!A$2:B$5450,2,0)","v":"Ilham Purwantoro Abadi"}]
[53,"15.11.0103",{"$f":"VLOOKUP(B58,[1]Sheet1!A$2:B$5450,2,0)","v":"Khaerul Imam"}]
[54,"15.11.0258",{"$f":"VLOOKUP(B59,[1]Sheet1!A$2:B$5450,2,0)","v":"Kurnia Gesang Satriadi"}]
[55,"15.11.0125",{"$f":"VLOOKUP(B60,[1]Sheet1!A$2:B$5450,2,0)","v":"Rafi Edu Simbolon"}]
[56,"15.11.0127",{"$f":"VLOOKUP(B61,[1]Sheet1!A$2:B$5450,2,0)","v":"Nur Maya Bella Safitri"}]
[57,"15.11.0001",{"$f":"VLOOKUP(B62,[1]Sheet1!A$2:B$5450,2,0)","v":"Pangestu Rahmat Noviyanda"}]
[58,"15.11.0100",{"$f":"VLOOKUP(B63,[1]Sheet1!A$2:B$5450,2,0)","v":"Ragil Setiawan"}]
[59,"15.11.0305",{"$f":"VLOOKUP(B64,[1]Sheet1!A$2:B$5450,2,0)","v":"Eka Wahyu Gianti"}]
[60,"15.11.0145",{"$f":"VLOOKUP(B65,[1]Sheet1!A$2:B$5450,2,0)","v":"Ina Yatul Isnaeni"}]
[61,"15.11.0017",{"$f":"VLOOKUP(B66,[1]Sheet1!A$2:B$5450,2,0)","v":"Johan"}]
[62,"15.11.0313",{"$f":"VLOOKUP(B67,[1]Sheet1!A$2:B$5450,2,0)","v":"Karima Dewi Rahmawati"}]
[63,"15.11.0070",{"$f":"VLOOKUP(B68,[1]Sheet1!A$2:B$5450,2,0)","v":"Kintani Asriyah"}]
[64,"15.11.0046",{"$f":"VLOOKUP(B69,[1]Sheet1!A$2:B$5450,2,0)","v":"Edi Susanto"}]
[65,"15.11.0055",{"$f":"VLOOKUP(B70,[1]Sheet1!A$2:B$5450,2,0)","v":"Lilis Murjiatiningsih"}]
[66,"15.11.0123",{"$f":"VLOOKUP(B71,[1]Sheet1!A$2:B$5450,2,0)","v":"Moh Solahudin"}]
[67,"15.11.0343","Arif Alhidayah"]
[68,"15.11.0004",{"$f":"VLOOKUP(B73,[1]Sheet1!A$2:B$5450,2,0)","v":"Sri Radhika Wisnu Wardani"}]
[69,"15.11.0172","Alvian Zovan Rizza Vahlevi"]
[70,"15.11.0245",{"$f":"VLOOKUP(B75,[1]Sheet1!A$2:B$5450,2,0)","v":"Muhammad Zainil Chanan"}]
[71,"15.11.0065",{"$f":"VLOOKUP(B76,[1]Sheet1!A$2:B$5450,2,0)","v":"Agung Edi  Wijayanto"}]
[72,"15.11.0284",{"$f":"VLOOKUP(B77,[1]Sheet1!A$2:B$5450,2,0)","v":"Rilas Agung Pambudi"}]
[73,"15.11.0013",{"$f":"VLOOKUP(B78,[1]Sheet1!A$2:B$5450,2,0)","v":"Tandi Kukuh Jati Laksono"}]
[74,"15.11.0350","Lina Andriani"]
[75,"15.11.0353","Sumardi"]
[76,"15.11.0270","Riyo Sunarko"]
[77,"15.11.0344","Zarkoni"]
[78,"15.11.0347","M. Kamal Agusruwanto"]
[79,"15.11.0077",{"$f":"VLOOKUP(B84,[1]Sheet1!A$2:B$5450,2,0)","v":"Mona Rosmawati"}]
[80,"15.11.0109",{"$f":"VLOOKUP(B85,[1]Sheet1!A$2:B$5450,2,0)","v":"Rhofik Al Faiz"}]
[81,"15.11.0042",{"$f":"VLOOKUP(B86,[1]Sheet1!A$2:B$5450,2,0)","v":"Upit Liana Sari"}]
[82,"15.11.0086",{"$f":"VLOOKUP(B87,[1]Sheet1!A$2:B$5450,2,0)","v":"Supriatin"}]
[83,"15.11.0348","Sukarman"]
[84,"15.11.0361",{"$f":"VLOOKUP(B89,[1]Sheet1!A$2:B$5450,2,0)","v":"Egan Adi Nugroho"}]
[85,"15.11.0360",{"$f":"VLOOKUP(B90,[1]Sheet1!A$2:B$5450,2,0)","v":"Ade Lina Mustika"}]
[86,"15.11.0351","Puji Rahayu"]
[87,"15.11.0018",{"$f":"VLOOKUP(B92,[1]Sheet1!A$2:B$5450,2,0)","v":"Risma Dwi Ratri"}]
[88,"15.11.0273",{"$f":"VLOOKUP(B93,[1]Sheet1!A$2:B$5450,2,0)","v":"Randi Octavian Andriyono"}]