{"text_format":"3","workbook":"xlsx","n_sheets":2,"sheets":["Sistem Informasi","Teknik Informatika"],"not_rendered":{"external_links":1,"defined_names":2},"read":"whole","date_system":"1900"}

{"sheet":"Sistem Informasi","index":0,"n_rows":120,"n_cols":8,"rows_kept":120}
["No","NIM","Nama","L / P","Prodi","Tanggal Ujian","Yudisium","Kroscek"]
[1,"11.12.2099","Abdul Ghofar Romadhon","L","SI","03 April 2017"]
[2,"12.12.0153","Achmad Rizki Nur Haerudin","L","SI","22 Maret 2017"]
[3,"11.12.2219","Adam Gita Setya Perdana","L","SI","29 Maret 2017"]
[4,"10.12.1324","Aditya Tri Anggoro","L","SI","06 April 2017"]
[5,"11.12.2199","Adwi Listiyanto","L","SI","03 April 2017"]
[6,"12.12.0063","Agung Hermawan","L","SI","20 Maret 2017","Sudah"]
[7,"11.12.2080",{"$f":"VLOOKUP(B8,[1]MHASISWA!$A$1:$B$5450,2,0)","v":"Agung Satria"},"L","SI","30 Januari 2017","Sudah","Sudah"]
[8,"13.12.0066","Aisya Ika Nur Rahmawati","P","SI","08 April 2017"]
[9,"10.12.1336","Akhmad Sidiq Permana","L","SI","20 Maret 2017"]
[10,"13.12.0244","Alfhiani Kusumawigati","P","SI","01 April 2017"]
[11,"13.12.0154",{"$f":"VLOOKUP(B12,[1]MHASISWA!$A$1:$B$5450,2,0)","v":"Ali Nur Ikhsan"},"L","SI","30 Desember 2016","Sudah","Sudah"]
[12,"12.12.0299",{"$f":"VLOOKUP(B13,[1]MHASISWA!$A$1:$B$5450,2,0)","v":"Alifi Arman Batutta"},"L","SI","21 Maret 2017"]
[13,"11.12.2293","Allen Pradyta Sandy Cahya","L","SI","27 Maret 2017"]
[14,"13.12.0158","Alodia Rul Saffanah","P","SI","06 April 2017"]
[15,"13.12.0045","Andi Tristianto","L","SI","24 Maret 2017"]
[16,"13.12.0280","Andre Gaotama Nugroho Adhi","L","SI","22 Maret 2017","Sudah","Sudah"]
[17,"12.12.0265",{"$f":"VLOOKUP(B18,[1]MHASISWA!$A$1:$B$5450,2,0)","v":"Anik Setyowati"},"P","SI","31 Januari 2017"]
[18,"13.12.0281",{"$f":"VLOOKUP(B19,[1]MHASISWA!$A$1:$B$5450,2,0)","v":"Aon Maulana"},"L","SI","11 Maret 2017","Sudah","Sudah"]
[19,"13.12.0156",{"$f":"VLOOKUP(B20,[1]MHASISWA!$A$1:$B$5450,2,0)","v":"Ari Riyaningsih"},"P","SI","30 Maret 2017"]
[20,"13.12.0188","Astri Ahfiatul Mahya","P","SI","20 Maret 2017","Sudah","Sudah"]
[21,"13.12.0226","Awalia Nurul Najah","P","SI","23 Maret 2017","Sudah","Sudah"]
[22,"13.12.0012","Ayunda Yusuf","L","SI","29 Maret 2017","Sudah","Sudah"]
[23,"12.12.0128",{"$f":"VLOOKUP(B24,[1]MHASISWA!$A$1:$B$5450,2,0)","v":"Bangkit Jauhari"},"L","SI","11 Februari 2017","Sudah","Sudah"]
[24,"12.12.0182","Bungsu Taufiq Hidayat","L","SI","25 Maret 2017"]
[25,"11.12.2066","Candra Prasetyo","L","SI","20 Maret 2017"]
[26,"12.12.0348",{"$f":"VLOOKUP(B27,[1]MHASISWA!$A$1:$B$5450,2,0)","v":"Chesarah Sylmi Kaffah"},"P","SI","21 Maret 2017"]
[27,"11.12.2196","Dahrul Abidin","L","SI","08 April 2017"]
[28,"12.12.0296","Desi Retnosari","P","SI","25 Maret 2017"]
[29,"13.12.0124",{"$f":"VLOOKUP(B30,[1]MHASISWA!$A$1:$B$5450,2,0)","v":"Dhika Apriani"},"P","SI","21 Maret 2017","Sudah","Sudah"]
[30,"13.12.0286","Dian Rakhma Iryanti","P","SI","01 April 2017"]
[31,"12.12.0331","Dianti Anisa","P","SI","27 Maret 2017"]
[32,"12.12.0111","Dinar Bagus Pradana","L","SI","01 April 2017"]
[33,"13.12.0206","Dinda Pradeka","P","SI","20 Maret 2017","Sudah","Sudah"]
[34,"13.12.0172",{"$f":"VLOOKUP(B35,[1]MHASISWA!$A$1:$B$5450,2,0)","v":"Dinita Indah Windyarini"},"P","SI","02 Februari 2017","Sudah","Sudah"]
[35,"11.12.2195","Dodi Setiyawan","L","SI","08 April 2017"]
[36,"12.12.0365","Dwi Fitriana Ariva H","P","SI","20 Maret 2017"]
[37,"12.12.0022","Dwiyan Prayoga","L","SI","29 Maret 2017"]
[38,"13.12.0236",{"$f":"VLOOKUP(B39,[1]MHASISWA!$A$1:$B$5450,2,0)","v":"Dyah Ayu Dana Pradita"},"P","SI","31 Maret 2017"]
[39,"13.12.0228","Eka Sakti Perkasa","L","SI","22 Maret 2017","Sudah"]
[40,"11.12.2294",{"$f":"VLOOKUP(B41,[1]MHASISWA!$A$1:$B$5450,2,0)","v":"Ema Rahmawati"},"P","SI","21 Maret 2017"]
[41,"13.12.0181","Era Lukmarida","P","SI","20 Maret 2017"]
[42,"12.12.0147",{"$f":"VLOOKUP(B43,[1]MHASISWA!$A$1:$B$5450,2,0)","v":"Fais Fauzi"},"L","SI","21 Maret 2017"]
[43,"12.12.0005","Fajar Kurniawan","L","SI","03 April 2017"]
[44,"12.12.0335",{"$f":"VLOOKUP(B45,[1]MHASISWA!$A$1:$B$5450,2,0)","v":"Fathur Bari"},"L","SI","31 Maret 2017"]
[45,"12.12.0322",{"$f":"VLOOKUP(B46,[1]MHASISWA!$A$1:$B$5450,2,0)","v":"Fatkhan Ariyani"},"P","SI","31 Desember 2016","Sudah","Sudah"]
[46,"13.12.0004",{"$f":"VLOOKUP(B47,[1]MHASISWA!$A$1:$B$5450,2,0)","v":"Feby Gilang Dwi Prasetyo"},"L","SI","31 Maret 2017"]
[47,"12.12.0222",{"$f":"VLOOKUP(B48,[1]MHASISWA!$A$1:$B$5450,2,0)","v":"Ganang Septiadi Putra"},"L","SI","31 Desember 2016","Sudah","Sudah"]
[48,"12.12.0179","Gigih Yuda Perdana","L","SI","25 Maret 2017"]
[49,"12.12.0132",{"$f":"VLOOKUP(B50,[1]MHASISWA!$A$1:$B$5450,2,0)","v":"Gusti Putra Rahmawan"},"L","SI","30 Januari 2017","Sudah","Sudah"]
[50,"12.12.0371","Hans Andriant Saputra","L","SI","20 Maret 2017"]
[51,"13.12.0259","Harleni Vionita","P","SI","21 Maret 2017"]
[52,"11.12.2251","Imam Wahyu Pratomo","L","SI","29 Maret 2017"]
[53,"11.12.2212",{"$f":"VLOOKUP(B54,[1]MHASISWA!$A$1:$B$5450,2,0)","v":"Indra Dian Kurniadi"},"L","SI","29 Maret 2017"]
[54,"13.12.0222",{"$f":"VLOOKUP(B55,[1]MHASISWA!$A$1:$B$5450,2,0)","v":"Inke Mujiati"},"P","SI","31 Januari 2017","Sudah","Sudah"]
[55,"13.12.0118","Isnaen Vejawati","P","SI","20 Maret 2017"]
[56,"11.12.2265",{"$f":"VLOOKUP(B57,[1]MHASISWA!$A$1:$B$5450,2,0)","v":"Isrofiah Ratna Dewi"},"P","SI","07 Januari 2017","Sudah"]
[57,"12.12.0021",{"$f":"VLOOKUP(B58,[1]MHASISWA!$A$1:$B$5450,2,0)","v":"Jaryanto"},"L","SI","31 Desember 2016","Sudah","Sudah"]
[58,"13.12.0166",{"$f":"VLOOKUP(B59,[1]MHASISWA!$A$1:$B$5450,2,0)","v":"Khairunnisak Nur Isnaini"},"P","SI","07 Januari 2017","Sudah","Sudah"]
[59,"12.12.0057","Koko Amru Solifudin","L","SI","03 April 2017"]
[60,"12.12.0124",{"$f":"VLOOKUP(B61,[1]MHASISWA!$A$1:$B$5450,2,0)","v":"Kukuh Priambodo"},"L","SI","31 Januari 2017","Sudah","Sudah"]
[61,"13.12.0084","Kusumaningtyas","P","SI","21 Maret 2017","Sudah","Sudah"]
[62,"12.12.0213",{"$f":"VLOOKUP(B63,[1]MHASISWA!$A$1:$B$5450,2,0)","v":"Lucky Wardhana"},"L","SI","14 Januari 2017","Sudah","Sudah"]
[63,"13.12.0081","Lutfi Mukaromah","P","SI","30 Maret 2017"]
[64,"12.12.0289","Maryam Masitoh","P","SI","23 Maret 2017"]
[65,"13.12.0151",{"$f":"VLOOKUP(B66,[1]MHASISWA!$A$1:$B$5450,2,0)","v":"Mia Maulida"},"P","SI","02 Februari 2017","Sudah","Sudah"]
[66,"13.12.0020",{"$f":"VLOOKUP(B67,[1]MHASISWA!$A$1:$B$5450,2,0)","v":"Mira Agustina"},"P","SI","14 Januari 2017","Sudah"]
[67,"13.12.0240","Mira Setyarini","P","SI","25 Maret 2017","Sudah"]
[68,"13.12.0256",{"$f":"VLOOKUP(B69,[1]MHASISWA!$A$1:$B$5450,2,0)","v":"Mohamad Dikri"},"L","SI","30 Januari 2017","Sudah","Sudah"]
[69,"12.12.0019","Mohammad Setiawan","L","SI","27 Maret 2017"]
[70,"13.12.0175",{"$f":"VLOOKUP(B71,[1]MHASISWA!$A$1:$B$5450,2,0)","v":"Muhamad Bimo Satrio"},"L","SI","30 Januari 2017","Sudah","Sudah"]
[71,"13.12.0205","Muhammad Arfin Mh","L","SI","27 Maret 2017"]
[72,"13.12.0023",{"$f":"VLOOKUP(B73,[1]MHASISWA!$A$1:$B$5450,2,0)","v":"Mutiara Dwi Cahyaningrum"},"P","SI","20 Maret 2017"]
[73,"13.12.0017","Ni'Matul Hasanah","P","SI","29 Maret 2017"]
[74,"11.12.2237","Nugroho Isnan","L","SI","20 Maret 2017"]
[75,"12.12.0054",{"$f":"VLOOKUP(B76,[1]MHASISWA!$A$1:$B$5450,2,0)","v":"Nurul Herlinawati"},"P","SI","03 Februari 2017","Sudah"]
[76,"13.12.0013",{"$f":"VLOOKUP(B77,[1]MHASISWA!$A$1:$B$5450,2,0)","v":"Ovi Novitasari"},"P","SI","02 Februari 2017","Sudah","Sudah"]
[77,"12.12.0109","Pandu Artika Putra","L","SI","21 Maret 2017"]
[78,"13.12.0197",{"$f":"VLOOKUP(B79,[1]MHASISWA!$A$1:$B$5450,2,0)","v":"Pipit Andri Himawan"},"L","SI","21 Maret 2017"]
[79,"13.12.0093","Prily Kusuma Utami","P","SI","25 Maret 2017"]
[80,"13.12.0029",{"$f":"VLOOKUP(B81,[1]MHASISWA!$A$1:$B$5450,2,0)","v":"Pungkas Subarkah"},"L","SI","30 Desember 2016","Sudah","Sudah"]
[81,"13.12.0177",{"$f":"VLOOKUP(B82,[1]MHASISWA!$A$1:$B$5450,2,0)","v":"Putri Puspitasari"},"P","SI","23 Maret 2017"]
[82,"12.12.0024","Rachmat Wahyudin","L","SI","29 Maret 2017"]
[83,"12.12.0308","Raga Sanyoto Putra","L","SI","23 Maret 2017"]
[84,"13.12.0121","Raras Sekarningtyas","P","SI","27 Maret 2017"]
[85,"13.12.0052",{"$f":"VLOOKUP(B86,[1]MHASISWA!$A$1:$B$5450,2,0)","v":"Resy Puspita Sari"},"P","SI","21 Maret 2017"]
[86,"13.12.0039",{"$f":"VLOOKUP(B87,[1]MHASISWA!$A$1:$B$5450,2,0)","v":"Ria Ratna Dewi"},"P","SI","21 Maret 2017","Sudah"]
[87,"14.12.0016",{"$f":"VLOOKUP(B88,[1]MHASISWA!$A$1:$B$5450,2,0)","v":"Rika Yunika"},"P","SI","30 Desember 2016","Sudah","Sudah"]
[88,"12.12.0116","Rindi Fatimah","L","SI","23 Maret 2017"]
[89,"13.12.0019",{"$f":"VLOOKUP(B90,[1]MHASISWA!$A$1:$B$5450,2,0)","v":"Risna"},"P","SI","30 Januari 2017","Sudah","Sudah"]
[90,"12.12.0262","Rivandy Nur Cahyo","L","SI","29 Maret 2017"]
[91,"13.12.0141",{"$f":"VLOOKUP(B92,[1]MHASISWA!$A$1:$B$5450,2,0)","v":"Rohmi Vidiyanti"},"P","SI","30 Maret 2017"]
[92,"13.12.0110","Rosdiana Mawardiasih","P","SI","22 Maret 2017"]
[93,"12.12.0172",{"$f":"VLOOKUP(B94,[1]MHASISWA!$A$1:$B$5450,2,0)","v":"Rossy Leviana"},"P","SI","31 Maret 2017"]
[94,"12.12.0209","Samsudin","L","SI","23 Maret 2017"]
[95,"12.12.0270","Saputra Dewa Permata","L","SI","30 Maret 2017"]
[96,"13.12.0239","Selviana Rhodhotul M","P","SI","29 Maret 2017"]
[97,"12.12.0123","Septiansyah Aditia","L","SI","20 Maret 2017","Sudah","Sudah"]
[98,"12.12.0255","Shahnaz Elsaradia","P","SI","23 Maret 2017"]
[99,"13.12.0103","Singgih Prayitno","L","SI","04 April 2017"]
[100,"12.12.0036",{"$f":"VLOOKUP(B101,[1]MHASISWA!$A$1:$B$5450,2,0)","v":"Sismantoro"},"L","SI","06 April 2017"]
[101,"13.12.0180","Siti Toharoh","P","SI","10 April 2017"]
[102,"10.12.1438",{"$f":"VLOOKUP(B103,[1]MHASISWA!$A$1:$B$5450,2,0)","v":"Sri Mulyati"},"P","SI","21 Maret 2017","Sudah","Sudah"]
[103,"13.12.0215","Suciati","P","SI","03 April 2017"]
[104,"13.12.0080",{"$f":"VLOOKUP(B105,[1]MHASISWA!$A$1:$B$5450,2,0)","v":"Titi Prani Pertiwi"},"P","SI","01 Februari 2017","Sudah","Sudah"]
[105,"13.12.0209",{"$f":"VLOOKUP(B106,[1]MHASISWA!$A$1:$B$5450,2,0)","v":"Titi Wahyuni"},"P","SI","16 Maret 2017","Sudah","Sudah"]
[106,"13.12.0018",{"$f":"VLOOKUP(B107,[1]MHASISWA!$A$1:$B$5450,2,0)","v":"Tri Hardiyudha Santoso"},"L","SI","31 Januari 2017","Sudah","Sudah"]
[107,"13.12.0285","Triyana Puspita","P","SI","01 April 2017"]
[108,"13.12.0089",{"$f":"VLOOKUP(B109,[1]MHASISWA!$A$1:$B$5450,2,0)","v":"Valentinus Lukas"},"L","SI","13 Maret 2017","Sudah"]
[109,"12.12.0062",{"$f":"VLOOKUP(B110,[1]MHASISWA!$A$1:$B$5450,2,0)","v":"Wahyu Nurfian"},"L","SI","30 Januari 2017","Sudah","Sudah"]
[110,"12.12.0241",{"$f":"VLOOKUP(B111,[1]MHASISWA!$A$1:$B$5450,2,0)","v":"Winda Aprilistiani"},"P","SI","31 Desember 2016","Sudah","Sudah"]
[111,"13.12.0043","Windi Khasnita","P","SI","24 Maret 2017"]
[112,"11.12.2016",{"$f":"VLOOKUP(B113,[1]MHASISWA!$A$1:$B$5450,2,0)","v":"Wisnu Broto B. U"},"L","SI","31 Maret 2017"]
[113,"13.12.0040","Wiwit Setyowati","P","SI","03 April 2017"]
[114,"12.12.0206","Yeni Trianingsih","L","SI","27 Maret 2017"]
[115,"13.12.0007",{"$f":"VLOOKUP(B116,[1]MHASISWA!$A$1:$B$5450,2,0)","v":"Yoni Rosalina"},"P","SI","02 Februari 2017","Sudah","Sudah"]
[116,"12.12.0055",{"$f":"VLOOKUP(B117,[1]MHASISWA!$A$1:$B$5450,2,0)","v":"Yudha Saputra Yohanes"},"L","SI","31 Januari 2017","Sudah","Sudah"]
[117,"13.12.0227",{"$f":"VLOOKUP(B118,[1]MHASISWA!$A$1:$B$5450,2,0)","v":"Yudistira Frinda Prihantoro"},"L","SI","30 Januari 2017","Sudah","Sudah"]
[118,"13.12.0072","Zain Ma'Ruf Abdurrahman","L","SI","22 Maret 2017"]
[119,"12.12.0259","Zeyd Amanu Gilang Gemara","L","SI","22 Maret 2017"]

{"sheet":"Teknik Informatika","index":1,"n_rows":185,"n_cols":8,"rows_kept":185}
["No","NIM","Nama","L / P","Prodi","Tanggal Ujian","Yudisium","Kroscek"]
[1,"13.11.0418","Abdul Rozak","L","TI","23 Maret 2017"]
[2,"13.11.0321",{"$f":"VLOOKUP(B3,[1]MHASISWA!$A$1:$B$5450,2,0)","v":"Achmad Fauzan"},"L","TI","21 Maret 2017"]
[3,"11.11.2353","Ade Candra Fitrianto","L","TI","11 April 2017"]
[4,"13.11.0174",{"$f":"VLOOKUP(B5,[1]MHASISWA!$A$1:$B$5450,2,0)","v":"Adi Wijiono"},"L","TI","14 Januari 2017","Sudah"]
[5,"13.11.0397",{"$f":"VLOOKUP(B6,[1]MHASISWA!$A$1:$B$5450,2,0)","v":"Adi Wisnu Nugroho"},"L","TI","02 Februari 2017","Sudah","Sudah"]
[6,"13.11.0094",{"$f":"VLOOKUP(B7,[1]MHASISWA!$A$1:$B$5450,2,0)","v":"Adin Nugroho"},"L","TI","02 Februari 2017","Sudah","Sudah"]
[7,"11.11.2425",{"$f":"VLOOKUP(B8,[1]MHASISWA!$A$1:$B$5450,2,0)","v":"Aditya Eko Yudistira"},"L","TI","30 Januari 2017"]
[8,"12.11.0140","Aditya Prabowo","L","TI","06 April 2017"]
[9,"13.11.0030","Aditya Triprakoso B","L","TI","20 Maret 2017"]
[10,"13.11.0336","Afrilia Prasetiarini","P","TI","23 Maret 2017"]
[11,"12.11.0157",{"$f":"VLOOKUP(B12,[1]MHASISWA!$A$1:$B$5450,2,0)","v":"Afrizal Fajri"},"L","TI","30 Januari 2017","Sudah","Sudah"]
[12,"13.11.0093",{"$f":"VLOOKUP(B13,[1]MHASISWA!$A$1:$B$5450,2,0)","v":"Agnes Yulianti Sucipto"},"P","TI","01 April 2017"]
[13,"12.11.0355",{"$f":"VLOOKUP(B14,[1]MHASISWA!$A$1:$B$5450,2,0)","v":"Ahlul Abdi Pamungkas"},"L","TI","30 Januari 2017","Sudah","Sudah"]
[14,"12.11.0188",{"$f":"VLOOKUP(B15,[1]MHASISWA!$A$1:$B$5450,2,0)","v":"Ahmadillah Fiqqih"},"L","TI","21 Maret 2017"]
[15,"14.11.0380","Akbar Riskon","L","TI","24 Maret 2017"]
[16,"12.11.0154","Alfin Nur Aziz Saputra","L","TI","08 April 2017"]
[17,"13.11.0137","Ali Humaeni","L","TI","08 April 2017"]
[18,"13.11.0376",{"$f":"VLOOKUP(B19,[1]MHASISWA!$A$1:$B$5450,2,0)","v":"Amrin Hoeri"},"L","TI","31 Januari 2017","Sudah","Sudah"]
[19,"12.11.0352","Andhika Wahyu Ristanto","L","TI","29 Maret 2017"]
[20,"10.11.1808","Andrea Pranatha","L","TI","25 Maret 2017"]
[21,"13.11.0395","Andri Fauzi","L","TI","10 April 2017"]
[22,"11.11.1961","Andri Firdaus","L","TI","25 Maret 2017"]
[23,"12.11.0298","Andri Setyawan","L","TI","23 Maret 2017","Sudah","Sudah"]
[24,"13.11.0219","Andy Haryadi","L","TI","24 Maret 2017"]
[25,"12.11.0369",{"$f":"VLOOKUP(B26,[1]MHASISWA!$A$1:$B$5450,2,0)","v":"Anggi Maolana M H"},"L","TI","21 Maret 2017"]
[26,"12.11.0429","Anggit Prasetya Adi","L","TI","23 Maret 2017"]
[27,"12.11.0413","Anugrah Isnan Safriono","L","TI","20 Maret 2017"]
[28,"12.11.0262","Apri Anjar Pratama","L","TI","27 Maret 2017","Sudah","Sudah"]
[29,"12.11.0271",{"$f":"VLOOKUP(B30,[1]MHASISWA!$A$1:$B$5450,2,0)","v":"Ardan Ferliyanto"},"L","TI","21 Maret 2017"]
[30,"13.11.0082","Ari Hidayatulloh","L","TI","29 Maret 2017"]
[31,"13.11.0382","Arif Tri Wicaksono","L","TI","29 Maret 2017"]
[32,"13.11.0251","Arifin Nur Hakim Siswoyo","L","TI","30 Maret 2017"]
[33,"13.11.0224",{"$f":"VLOOKUP(B34,[1]MHASISWA!$A$1:$B$5450,2,0)","v":"Aris Rifki Setia Bahari"},"L","TI","01 April 2017"]
[34,"12.11.0215",{"$f":"VLOOKUP(B35,[1]MHASISWA!$A$1:$B$5450,2,0)","v":"Arjun Hermawan"},"L","TI","10 Februari 2017","Sudah","Sudah"]
[35,"13.11.0254","Asa I Gusti","L","TI","29 Maret 2017"]
[36,"12.11.0165",{"$f":"VLOOKUP(B37,[1]MHASISWA!$A$1:$B$5450,2,0)","v":"Asep Probo Egiana"},"L","TI","05 April 2017"]
[37,"11.11.2390",{"$f":"VLOOKUP(B38,[1]MHASISWA!$A$1:$B$5450,2,0)","v":"Aulia Rachman"},"L","TI","21 Maret 2017"]
[38,"12.11.0241",{"$f":"VLOOKUP(B39,[1]MHASISWA!$A$1:$B$5450,2,0)","v":"Ayep Sunandar"},"L","TI","21 Maret 2017"]
[39,"13.11.0304","Azis Sultoni","L","TI","21 Maret 2017"]
[40,"13.11.0103",{"$f":"VLOOKUP(B41,[1]MHASISWA!$A$1:$B$5450,2,0)","v":"Bagus Adi Irawan"},"L","TI","13 Maret 2017","Sudah","Sudah"]
[41,"11.11.2520",{"$f":"VLOOKUP(B42,[1]MHASISWA!$A$1:$B$5450,2,0)","v":"Bagus Panuntun"},"L","TI","01 Februari 2017","Sudah","Sudah"]
[42,"12.11.0167","Bakti Raharjo","L","TI","03 April 2017"]
[43,"12.11.0161","Bani Aenul Yaqin","L","TI","22 Maret 2017"]
[44,"12.11.0393","Bayu Wicaksono","L","TI","20 Maret 2017"]
[45,"13.11.0121","Budi Sutrimo","L","TI","06 April 2017"]
[46,"13.11.0002",{"$f":"VLOOKUP(B47,[1]MHASISWA!$A$1:$B$5450,2,0)","v":"Burhan Setyabudi"},"L","TI","14 Januari 2017","Sudah","Sudah"]
[47,"12.11.0168",{"$f":"VLOOKUP(B48,[1]MHASISWA!$A$1:$B$5450,2,0)","v":"Cerly Widiyawati"},"P","TI","31 Januari 2017","Sudah","Sudah"]
[48,"13.11.0281",{"$f":"VLOOKUP(B49,[1]MHASISWA!$A$1:$B$5450,2,0)","v":"Chairul Manaf"},"L","TI","16 Maret 2017","Sudah","Sudah"]
[49,"13.11.0337","Danang Hendra Ghozali","L","TI","11 April 2017"]
[50,"11.11.2345","Danu Kurniawan","L","TI","11 April 2017"]
[51,"12.11.0078","Darkim","L","TI","23 Maret 2017"]
[52,"12.11.0112","Deny Haryono","L","TI","25 Maret 2017"]
[53,"13.11.0175",{"$f":"VLOOKUP(B54,[1]MHASISWA!$A$1:$B$5450,2,0)","v":"Devi Ratna Nafianti"},"P","TI","31 Januari 2017","Sudah","Sudah"]
[54,"13.11.0384","Dewi Undiaris","P","TI","05 April 2017"]
[55,"12.11.0438","Dika Budi Pratama","L","TI","04 Februari 2017","Sudah","Sudah"]
[56,"13.11.0157",{"$f":"VLOOKUP(B57,[1]MHASISWA!$A$1:$B$5450,2,0)","v":"Dimas Agus Andrianto"},"L","TI","13 Maret 2017","Sudah","Sudah"]
[57,"13.11.0125",{"$f":"VLOOKUP(B58,[1]MHASISWA!$A$1:$B$5450,2,0)","v":"Dimas Suprayogi"},"L","TI","30 Januari 2017","Sudah","Sudah"]
[58,"11.11.2557","Dion Sidaono","L","TI","25 Maret 2017"]
[59,"12.11.0426","Dony Prima Setiawan","L","TI","03 April 2017"]
[60,"10.11.1926",{"$f":"VLOOKUP(B61,[1]MHASISWA!$A$1:$B$5450,2,0)","v":"Dwi Ari Wibowo"},"L","TI","21 Maret 2017","Sudah","Sudah"]
[61,"12.11.0089",{"$f":"VLOOKUP(B62,[1]MHASISWA!$A$1:$B$5450,2,0)","v":"Dwi Aris Setyawan"},"L","TI","01 Februari 2017","Sudah","Sudah"]
[62,"13.11.0351","Dwi Nurkhazizah Barkah","P","TI","24 Maret 2017"]
[63,"13.11.0379",{"$f":"VLOOKUP(B64,[1]MHASISWA!$A$1:$B$5450,2,0)","v":"Dwi Ratnasari"},"P","TI","02 Februari 2017","Sudah","Sudah"]
[64,"13.11.0346","Dyah Anggraeni Hz","P","TI","31 Maret 2017"]
[65,"13.11.0422",{"$f":"VLOOKUP(B66,[1]MHASISWA!$A$1:$B$5450,2,0)","v":"Eka Fitri"},"P","TI","30 Maret 2017"]
[66,"13.11.0080","Eka Hijriawan","L","TI","25 Maret 2017"]
[67,"13.11.0313",{"$f":"VLOOKUP(B68,[1]MHASISWA!$A$1:$B$5450,2,0)","v":"Eko Yuli Setiono"},"L","TI","16 Maret 2017","Sudah","Sudah"]
[68,"13.11.0164",{"$f":"VLOOKUP(B69,[1]MHASISWA!$A$1:$B$5450,2,0)","v":"Endah Saraswati"},"P","TI","10 Maret 2017","Sudah","Sudah"]
[69,"12.11.0155","Fadli Annas","L","TI","05 April 2017"]
[70,"13.11.0134","Fadli Fuad Barokah","L","TI","20 Maret 2017"]
[71,"11.11.2459",{"$f":"VLOOKUP(B72,[1]MHASISWA!$A$1:$B$5450,2,0)","v":"Faizin Nurdiansyah"},"L","TI","01 April 2017"]
[72,"13.11.0124",{"$f":"VLOOKUP(B73,[1]MHASISWA!$A$1:$B$5450,2,0)","v":"Fajar Hilmi"},"L","TI","30 Januari 2017","Sudah","Sudah"]
[73,"10.11.1792","Fajar Subekti","L","TI","03 April 2017"]
[74,"13.11.0085",{"$f":"VLOOKUP(B75,[1]MHASISWA!$A$1:$B$5450,2,0)","v":"Fauzan Abdul Lathief"},"L","TI","01 Februari 2017","Sudah","Sudah"]
[75,"13.11.0328",{"$f":"VLOOKUP(B76,[1]MHASISWA!$A$1:$B$5450,2,0)","v":"Febi Ayu Kurniawati"},"P","TI","11 Maret 2017","Sudah","Sudah"]
[76,"13.11.0228","Feisal Rosdiana","L","TI","30 Maret 2017"]
[77,"13.11.0342","Felly Khaerunnissah","P","TI","04 April 2017"]
[78,"12.11.0110",{"$f":"VLOOKUP(B79,[1]MHASISWA!$A$1:$B$5450,2,0)","v":"Frian Trisnawan"},"L","TI","30 Desember 2016","Sudah"]
[79,"12.11.0380",{"$f":"VLOOKUP(B80,[1]MHASISWA!$A$1:$B$5450,2,0)","v":"Giar Bayu Ramadhan"},"L","TI","30 Januari 2017","Sudah"]
[80,"12.11.0442","Gigih Setya Prayoga","L","TI","11 April 2017"]
[81,"13.11.0078",{"$f":"VLOOKUP(B82,[1]MHASISWA!$A$1:$B$5450,2,0)","v":"Gilang Aji Diniary"},"L","TI","16 Maret 2017","Sudah","Sudah"]
[82,"10.11.1827","Gilang Pradipta R","L","TI","20 Maret 2017"]
[83,"13.11.0037","Gustina Kassanova","P","TI","22 Maret 2017"]
[84,"11.11.2547","Hanna Ade Wardana","P","TI","27 Maret 2017"]
[85,"13.11.0234","Haris Setiawan","L","TI","24 Maret 2017"]
[86,"12.11.0127",{"$f":"VLOOKUP(B87,[1]MHASISWA!$A$1:$B$5450,2,0)","v":"Hasyim Rifqi"},"L","TI","02 Februari 2017","Sudah","Sudah"]
[87,"13.11.0325",{"$f":"VLOOKUP(B88,[1]MHASISWA!$A$1:$B$5450,2,0)","v":"Havid Aktur Rahman"},"L","TI","03 Februari 2017","Sudah","Sudah"]
[88,"12.11.0131","Ibnu Rizka Fauzi","L","TI","27 Maret 2017"]
[89,"13.11.0084",{"$f":"VLOOKUP(B90,[1]MHASISWA!$A$1:$B$5450,2,0)","v":"Iis Nurkhasanah"},"P","TI","03 Februari 2017","Sudah","Sudah"]
[90,"13.11.0315","Indra Gunawan","L","TI","06 April 2017"]
[91,"13.11.0151",{"$f":"VLOOKUP(B92,[1]MHASISWA!$A$1:$B$5450,2,0)","v":"Ingga Rossi Rahmadani"},"P","TI","31 Januari 2017","Sudah","Sudah"]
[92,"13.11.0112",{"$f":"VLOOKUP(B93,[1]MHASISWA!$A$1:$B$5450,2,0)","v":"Inne Rosliana"},"P","TI","31 Maret 2017"]
[93,"12.11.0080","Iskandar Agung Subekti","L","TI","20 Maret 2017"]
[94,"12.11.0180",{"$f":"VLOOKUP(B95,[1]MHASISWA!$A$1:$B$5450,2,0)","v":"Isnaeni Khanifah"},"P","TI","21 Maret 2017"]
[95,"13.11.0066",{"$f":"VLOOKUP(B96,[1]MHASISWA!$A$1:$B$5450,2,0)","v":"Jaka Inggar Prihandana"},"L","TI","29 Maret 2017","Sudah"]
[96,"12.11.0230",{"$f":"VLOOKUP(B97,[1]MHASISWA!$A$1:$B$5450,2,0)","v":"Janwar Widiono"},"L","TI","25 Maret 2017"]
[97,"12.11.0285","Johan Ferdy Setiawan","L","TI","25 Maret 2017"]
[98,"12.11.0387",{"$f":"VLOOKUP(B99,[1]MHASISWA!$A$1:$B$5450,2,0)","v":"Kristian Kukuh Pribadi"},"L","TI","31 Desember 2016","Sudah","Sudah"]
[99,"12.11.0123",{"$f":"VLOOKUP(B100,[1]MHASISWA!$A$1:$B$5450,2,0)","v":"Kurnia Aditama"},"L","TI","01 Februari 2017","Sudah","Sudah"]
[100,"13.11.0023",{"$f":"VLOOKUP(B101,[1]MHASISWA!$A$1:$B$5450,2,0)","v":"Kusnanto"},"L","TI","08 April 2017"]
[101,"13.11.0324",{"$f":"VLOOKUP(B102,[1]MHASISWA!$A$1:$B$5450,2,0)","v":"Liliana"},"P","TI","02 Februari 2017","Sudah","Sudah"]
[102,"13.11.0267","Linda Ayu Nurrachma","P","TI","20 Maret 2017"]
[103,"12.11.0164","Lukman Mutoif","L","TI","22 Maret 2017"]
[104,"11.11.2473","M Dimas Setiadhi","L","TI","25 Maret 2017"]
[105,"13.11.0159",{"$f":"VLOOKUP(B106,[1]MHASISWA!$A$1:$B$5450,2,0)","v":"Marisa Wulansari"},"P","TI","21 Maret 2017","Sudah","Sudah"]
[106,"12.11.0105",{"$f":"VLOOKUP(B107,[1]MHASISWA!$A$1:$B$5450,2,0)","v":"Mazani"},"L","TI","30 Januari 2017","Sudah","Sudah"]
[107,"12.11.0247","Mecha Rizqy Listikho Adi","L","TI","24 Maret 2017"]
[108,"11.11.1980","Miftah Arifudin","L","TI","05 April 2017"]
[109,"12.11.0106","Miftahul Khasanah","P","TI","20 Maret 2017","Sudah","Sudah"]
[110,"11.11.2470",{"$f":"VLOOKUP(B111,[1]MHASISWA!$A$1:$B$5450,2,0)","v":"Miftakhul Bisri"},"L","TI","06 April 2017"]
[111,"13.11.0056",{"$f":"VLOOKUP(B112,[1]MHASISWA!$A$1:$B$5450,2,0)","v":"Mohamad Bachtiar Latif"},"L","TI","30 Maret 2017"]
[112,"12.11.0306","Mohammad Iqbal Rifai","L","TI","20 Maret 2017"]
[113,"12.11.0058","Muh Yanuar Firdaus","L","TI","24 Maret 2017"]
[114,"12.11.0109",{"$f":"VLOOKUP(B115,[1]MHASISWA!$A$1:$B$5450,2,0)","v":"Muhammad Arif Budiman"},"L","TI","01 Februari 2017","Sudah","Sudah"]
[115,"13.11.0006","Muhammad Taufan Gautama","L","TI","20 Maret 2017"]
[116,"12.11.0116","Muheni Hamam","L","TI","27 Maret 2017"]
[117,"12.11.0208","Mukhammad Nur Kholis","L","TI","27 Maret 2017"]
[118,"13.11.0246",{"$f":"VLOOKUP(B119,[1]MHASISWA!$A$1:$B$5450,2,0)","v":"Murni Puji Pangesti"},"P","TI","02 Februari 2017","Sudah","Sudah"]
[119,"13.11.0220","Mustagpirin Asror","L","TI","22 Maret 2017"]
[120,"12.11.0390",{"$f":"VLOOKUP(B121,[1]MHASISWA!$A$1:$B$5450,2,0)","v":"Mutiara Nirmala"},"P","TI","07 Januari 2017","Sudah","Sudah"]
[121,"13.11.0396","Muzzaky","L","TI","29 Maret 2017"]
[122,"12.11.0096",{"$f":"VLOOKUP(B123,[1]MHASISWA!$A$1:$B$5450,2,0)","v":"Nanang Anggana"},"L","TI","31 Januari 2017","Sudah","Sudah"]
[123,"13.11.0012",{"$f":"VLOOKUP(B124,[1]MHASISWA!$A$1:$B$5450,2,0)","v":"Nanda Dwie Kusuma"},"L","TI","31 Januari 2017","Sudah","Sudah"]
[124,"12.11.0119",{"$f":"VLOOKUP(B125,[1]MHASISWA!$A$1:$B$5450,2,0)","v":"Nanda Oka Saputra"},"L","TI","21 Maret 2017"]
[125,"13.11.0150",{"$f":"VLOOKUP(B126,[1]MHASISWA!$A$1:$B$5450,2,0)","v":"Nanda Tresna Pamungkas"},"L","TI","10 Maret 2017","Sudah","Sudah"]
[126,"12.11.0025",{"$f":"VLOOKUP(B127,[1]MHASISWA!$A$1:$B$5450,2,0)","v":"Nandana Adhiwijna"},"L","TI","10 Februari 2017"]
[127,"13.11.0029",{"$f":"VLOOKUP(B128,[1]MHASISWA!$A$1:$B$5450,2,0)","v":"Nani Alfiani"},"P","TI","31 Januari 2017","Sudah","Sudah"]
[128,"13.11.0128","Nok Linda Wulandari","P","TI","27 Maret 2017"]
[129,"15.11.0030",{"$f":"VLOOKUP(B130,[1]MHASISWA!$A$1:$B$5450,2,0)","v":"Noto Nugroho Purwo Santoso"},"L","TI","20 Maret 2017","Sudah","Sudah"]
[130,"13.11.0005","Nova Annuristian","P","TI","23 Maret 2017"]
[131,"13.11.0196","Nur Isnaeni","P","TI","22 Maret 2017"]
[132,"13.11.0061",{"$f":"VLOOKUP(B133,[1]MHASISWA!$A$1:$B$5450,2,0)","v":"Nur Santoso"},"L","TI","30 Januari 2017","Sudah","Sudah"]
[133,"12.11.0396",{"$f":"VLOOKUP(B134,[1]MHASISWA!$A$1:$B$5450,2,0)","v":"Nurul Slamet Riyadi"},"L","TI","31 Desember 2016","Sudah","Sudah"]
[134,"13.11.0161","Pasha Febrian Turyono","L","TI","25 Maret 2017"]
[135,"12.11.0175",{"$f":"VLOOKUP(B136,[1]MHASISWA!$A$1:$B$5450,2,0)","v":"Qoida Akmal"},"L","TI","07 Januari 2017","Sudah"]
[136,"13.11.0389","Ravi Aldi","L","TI","24 Maret 2017"]
[137,"12.11.0331","Revangga","L","TI","24 Maret 2017"]
[138,"13.11.0138",{"$f":"VLOOKUP(B139,[1]MHASISWA!$A$1:$B$5450,2,0)","v":"Rindi Septianugraha"},"P","TI","13 Maret 2017","Sudah","Sudah"]
[139,"11.11.2480","Ririn Tiarasona","P","TI","27 Maret 2017"]
[140,"13.11.0060",{"$f":"VLOOKUP(B141,[1]MHASISWA!$A$1:$B$5450,2,0)","v":"Risa Christanti G"},"P","TI","30 Januari 2017","Sudah","Sudah"]
[141,"13.11.0354","Riska Maya Anggraeni","P","TI","22 Maret 2017"]
[142,"11.11.2463",{"$f":"VLOOKUP(B143,[1]MHASISWA!$A$1:$B$5450,2,0)","v":"Riski Adi Prasojo"},"L","TI","21 Maret 2017"]
[143,"12.11.0437","Risna Setya Dewi","P","TI","30 Januari 2017","Sudah"]
[144,"12.11.0348","Riyan Restu Hidayat","L","TI","24 Maret 2017"]
[145,"13.11.0331",{"$f":"VLOOKUP(B146,[1]MHASISWA!$A$1:$B$5450,2,0)","v":"Rizal Setyoko"},"L","TI","21 Maret 2017","Sudah"]
[146,"12.11.0272","Rizaldi Ananta Caesaria","L","TI","20 Maret 2017","Sudah","Sudah"]
[147,"13.11.0403","Rizki Haryadi","L","TI","04 April 2017"]
[148,"12.11.0064","Rizki Wibowo","L","TI","25 Maret 2017"]
[149,"12.11.0296",{"$f":"VLOOKUP(B150,[1]MHASISWA!$A$1:$B$5450,2,0)","v":"Rosiana Ameliawati"},"P","TI","07 Januari 2017","Sudah","Sudah"]
[150,"13.11.0367",{"$f":"VLOOKUP(B151,[1]MHASISWA!$A$1:$B$5450,2,0)","v":"Rudi Wibowo"},"L","TI","13 Maret 2017","Sudah","Sudah"]
[151,"12.11.0256","Samsul Arifin","L","TI","29 Maret 2017"]
[152,"11.11.2413","Samuel Subagja","L","TI","29 Maret 2017"]
[153,"12.11.0102",{"$f":"VLOOKUP(B154,[1]MHASISWA!$A$1:$B$5450,2,0)","v":"Sarif Hidayat Tulloh"},"L","TI","30 Januari 2017","Sudah","Sudah"]
[154,"12.11.0221","Sarsono","L","TI","25 Maret 2017"]
[155,"11.11.2534",{"$f":"VLOOKUP(B156,[1]MHASISWA!$A$1:$B$5450,2,0)","v":"Septian Adi Chandra"},"L","TI","03 Februari 2017","Sudah","Sudah"]
[156,"13.11.0241","Sofyan Setiajid","L","TI","22 Maret 2017"]
[157,"12.11.0077",{"$f":"VLOOKUP(B158,[1]MHASISWA!$A$1:$B$5450,2,0)","v":"Subur Kukuh Tri Wibowo"},"L","TI","30 Januari 2017","Sudah","Sudah"]
[158,"12.11.0068",{"$f":"VLOOKUP(B159,[1]MHASISWA!$A$1:$B$5450,2,0)","v":"Sunardi"},"L","TI","30 Januari 2017"]
[159,"11.11.1996","Surono","L","TI","03 April 2017"]
[160,"12.11.0407","Susilo Aji","L","TI","25 Maret 2017"]
[161,"11.11.2320","Syarief Hidayatullah","L","TI","25 Maret 2017"]
[162,"14.11.0066","Tamrin","L","TI","01 April 2017",null,"Sudah"]
[163,"13.11.0339","Tomi Aji Saputro","L","TI","24 Maret 2017"]
[164,"12.11.0059","Tomi Priyanto","L","TI","25 Maret 2017"]
[165,"11.11.2455","Tri Alfian","L","TI","20 Maret 2017"]
[166,"13.11.0055","Trisna Rahmawati","P","TI","22 Maret 2017"]
[167,"12.11.0124",{"$f":"VLOOKUP(B168,[1]MHASISWA!$A$1:$B$5450,2,0)","v":"Urip Deadi"},"L","TI","30 Januari 2017"]
[168,"13.11.0375",{"$f":"VLOOKUP(B169,[1]MHASISWA!$A$1:$B$5450,2,0)","v":"Varah Puspita Rosi"},"P","TI","27 Maret 2017"]
[169,"13.11.0266","Vendy Tri Sulistyo","L","TI","05 April 2017"]
[170,"12.11.0138",{"$f":"VLOOKUP(B171,[1]MHASISWA!$A$1:$B$5450,2,0)","v":"Wahyu Irawan"},"L","TI","30 Januari 2017"]
[171,"13.11.0265",{"$f":"VLOOKUP(B172,[1]MHASISWA!$A$1:$B$5450,2,0)","v":"Wanda Prillia Budiarti"},"P","TI","05 April 2017"]
[172,"12.11.0152",{"$f":"VLOOKUP(B173,[1]MHASISWA!$A$1:$B$5450,2,0)","v":"Warnoko"},"L","TI","27 Maret 2017","Sudah","Sudah"]
[173,"13.11.0043","Wibowo Bayu Saputra","L","TI","25 Maret 2017"]
[174,"13.11.0098",{"$f":"VLOOKUP(B175,[1]MHASISWA!$A$1:$B$5450,2,0)","v":"Widya Hartayu Santoso"},"P","TI","30 Maret 2017"]
[175,"12.11.0173",{"$f":"VLOOKUP(B176,[1]MHASISWA!$A$1:$B$5450,2,0)","v":"Wito Hartono"},"L","TI","10 Februari 2017","Sudah"]
[176,"12.11.0441","Yanuar Dhega Pahlevi","L","TI","08 April 2017"]
[177,"12.11.0443","Yekti Afdian","L","TI","30 Januari 2017","Sudah","Sudah"]
[178,"13.11.0401",{"$f":"VLOOKUP(B179,[1]MHASISWA!$A$1:$B$5450,2,0)","v":"Yolanda Andar Pradana"},"P","TI","03 April 2017"]
[179,"13.11.0347","Yordian Antomi","L","TI","29 Maret 2017"]
[180,"13.11.0086",{"$f":"VLOOKUP(B181,[1]MHASISWA!$A$1:$B$5450,2,0)","v":"Yulian Safarudin"},"L","TI","02 Februari 2017","Sudah","Sudah"]
[181,"12.11.0076","Zaenul Arifin","L","TI","20 Maret 2017"]
[182,"11.11.2428","Zico Risky Alfiansyah","L","TI","25 Maret 2017"]
[183,"11.11.2437",{"$f":"VLOOKUP(B184,[1]MHASISWA!$A$1:$B$5450,2,0)","v":"Zulfikar Firmansyah"},"L","TI","08 April 2017"]
[184,"12.11.0245","Zulfiqar Shertian R","L","TI","08 April 2017"]