{"text_format":"3","workbook":"xlsx","n_sheets":2,"sheets":["Sheet1","Sheet3"],"not_rendered":{"defined_names":1},"read":"whole","date_system":"1900"}

{"sheet":"Sheet1","index":0,"n_rows":104,"n_cols":27,"rows_kept":104,"merged":[[0,0,0,2],[0,4,0,6],[0,8,0,10],[0,12,0,14],[0,16,0,18],[0,20,0,22],[0,24,0,26],[1,0,1,2],[1,4,1,6],[1,8,1,10],[1,12,1,14],[1,16,1,18],[1,20,1,22],[1,24,1,26],[2,0,2,2],[2,4,2,6],[2,8,2,10],[2,12,2,14],[2,16,2,18],[2,20,2,22],[2,24,2,26],[58,0,58,2],[58,4,58,6],[58,8,58,10],[58,12,58,14],[59,0,59,2],[59,4,59,6],[59,8,59,10],[59,12,59,14],[60,0,60,2],[60,4,60,6],[60,8,60,10],[60,12,60,14]]}
["DAFTAR MAHASISWA BARU",{"$nulls":3},"DAFTAR MAHASISWA BARU",{"$nulls":3},"DAFTAR MAHASISWA BARU",{"$nulls":3},"DAFTAR MAHASISWA BARU",{"$nulls":3},"DAFTAR MAHASISWA BARU",{"$nulls":3},"DAFTAR MAHASISWA BARU",{"$nulls":3},"DAFTAR MAHASISWA BARU"]
["TAHUN ANGKATAN 2017/2018",{"$nulls":3},"TAHUN ANGKATAN 2017/2018",{"$nulls":3},"TAHUN ANGKATAN 2017/2018",{"$nulls":3},"TAHUN ANGKATAN 2017/2018",{"$nulls":3},"TAHUN ANGKATAN 2017/2018",{"$nulls":3},"TAHUN ANGKATAN 2017/2018",{"$nulls":3},"TAHUN ANGKATAN 2017/2018"]
["KELAS TI 17 A",{"$nulls":3},"KELAS TI 17 B",{"$nulls":3},"KELAS TI 17 C",{"$nulls":3},"KELAS TI 17 D",{"$nulls":3},"KELAS TI 17 E",{"$nulls":3},"KELAS TI 17 F",{"$nulls":3},"KELAS TI 17 SORE"]
[]
["Pembimbing Akademik: Prayoga Pribadi, S.E., M.Si.",{"$nulls":3},"Pembimbing Akademik: Rahman Rosyidi, M.Kom.",{"$nulls":3},"Pembimbing Akademik: Didit Suhartono, M.Kom.",{"$nulls":3},"Pembimbing Akademik: Mohammad Imron, M.Kom.",{"$nulls":3},"Pembimbing Akademik: Andi Dwi Riyanto, M.Kom.",{"$nulls":3},"Pembimbing Akademik: Agung Prasetyo, M.Kom.",{"$nulls":3},"Pembimbing Akademik: Dr. Berlilana, S.P., S.Kom., M.Si."]
["NO","NIM","NAMA",null,"NO","NIM","NAMA",null,"NO","NIM","NAMA",null,"NO","NIM","NAMA",null,"NO","NIM","NAMA",null,"NO","NIM","NAMA",null,"NO","NIM","NAMA"]
[1,"17.11.0001","DITA FERDIAN BAYU KUSUMA",null,1,"17.11.0035","FARIS KELVIANTO",null,1,"17.11.0052","IHWAN PRASETIO",null,1,"17.11.0074","CANDRA SANTIKA",null,1,"17.11.0103","BAYU SETIAJI",null,1,"17.11.0120","ISMU IRAWAN",null,1,"17.11.0003","JANUARIO SUBECTI BANO"]
[2,"17.11.0002","RIZQI MUSTHOFA",null,2,"17.11.0036","KRISNO",null,2,"17.11.0054","REIYVAL WILIM PRATAMA",null,2,"17.11.0075","DAVA YURISDIKA",null,2,"17.11.0105","JIMMY HANDRIANSYAH",null,2,"17.11.0129","RESTU LALIN PUTRA SATRIA",null,2,"17.11.0007","RANGGA GUSTI ANANTA"]
[3,"17.11.0004","LABIB FAUZI RAMADAN",null,3,"17.11.0039","WAHYU BUDI PRAKOSO",null,3,"17.11.0058","TRI HASTOMO",null,3,"17.11.0082","IMUNG DWI UPAYA",null,3,"17.11.0106","MUHAMAD ABDUL MUFIDZ",null,3,"17.11.0132","NUR ACHMAD MUKTI AZIZ",null,3,"17.11.0009","SUSANTO"]
[4,"17.11.0005","NANA SABRINA",null,4,"17.11.0040","DEFRIA ISKANTO",null,4,"17.11.0060","BELLA AGUSTIA",null,4,"17.11.0085","IRFAN RIFAI AZIZ",null,4,"17.11.0108","FARHAN BANI RIZKI",null,4,"17.11.0134","AFIF ANDI NUR AGAZI",null,4,"17.11.0010","RIYAN EKO SAPUTRA"]
[5,"17.11.0006","BIMA RASENDRIYA INDRASTOTO",null,5,"17.11.0041","RIFKI LESTIANTO",null,5,"17.11.0061","ILHAM ALFAN HIDAYAT",null,5,"17.11.0089","DONI HIDAYAT",null,5,"17.11.0109","LU'AI NUR FIRDAUS",null,5,"17.11.0140","ADIMAS SYAFI'I",null,5,"17.11.0011","MOHAMAD BAGUS WIDIYANTO"]
[6,"17.11.0008","AZIZAN NURHAKIM",null,6,"17.11.0045","DITA PURNAMASARI",null,6,"17.11.0064","YOGA AGUNG PRABOWO",null,6,"17.11.0092","ACHMAD RUSLIYANSYAH SAFRONI",null,6,"17.11.0112","ABI DWI RAFDI",null,6,"17.11.0143","YULIAN AJRI ARDIANSYAH",null,6,"17.11.0019","CANDRA YANUAR DWI NURCAHYO"]
[7,"17.11.0012","LAELATUL ROFIDA",null,7,"17.11.0051","LUTFI ERIYAN",null,7,"17.11.0065","NAUFAL GUSNI JANUNG PANGKAR",null,7,"17.11.0095","FADILLAH ANSORI",null,7,"17.11.0115","FAHMI SAPTIAN LUBIS",null,7,"17.11.0144","HENDRI KUAT FEBRIANSYAH",null,7,"17.11.0021","SOLEH NUR HAYAT"]
[8,"17.11.0014","SEPTIAN PRIMANSYAH",null,8,"17.11.0057","ALDI SETIA PAMBUDI",null,8,"17.11.0067","BRILIAN ALFAIN NUSA BHAKTI",null,8,"17.11.0101","RAFI RAMADHAN",null,8,"17.11.0121","ENGGAR PRI PAMBUDI",null,8,"17.11.0149","DINA FAJAR SULISTIYANI",null,8,"17.11.0031","WISNU PRASETYA"]
[9,"17.11.0015","DEBI INDARTO",null,9,"17.11.0062","AHMAD HISYAM ADNAN",null,9,"17.11.0069","ARIF NUGROHO AJI",null,9,"17.11.0102","ABDUL AZIZ",null,9,"17.11.0124","FAIZAL RAMADHAN SUYITNO PUTRA",null,9,"17.11.0160","RIZQI AGUNG SETIA WIBOWO",null,9,"17.11.0033","DEDY ISTIYADI PUJIANANDA"]
[10,"17.11.0016","ARIEF KURNIA RAMADHANI",null,10,"17.11.0063","MOCH ATANAL YAQIN",null,10,"17.11.0070","DARMAWAN KUSUMA",null,10,"17.11.0107","JEFFRI IRAWAN",null,10,"17.11.0125","BAGAS SURYATAMA",null,10,"17.11.0172","SENDI SETIAWAN",null,10,"17.11.0034","FAUZAN AJI"]
[11,"17.11.0017","YUSUF SUPRIYATNA",null,11,"17.11.0068","FAISAL RIYADI",null,11,"17.11.0071","UMAM EGA PRATAMA",null,11,"17.11.0118","NOVIANTO SIDIK PRADANA",null,11,"17.11.0128","ADIL AMRULLAH",null,11,"17.11.0184","PANJI IRAWAN",null,11,"17.11.0037","JUAN SEBACHTIAN"]
[12,"17.11.0018","KURNIAWAN SAPUTRA",null,12,"17.11.0072","BAHARUDDIN AL FADHILAH",null,12,"17.11.0078","TRI MUJI RAHAYU",null,12,"17.11.0127","ANGGA FERDIYANTO",null,12,"17.11.0133","FAHMI REZA SAHPUTRA",null,12,"17.11.0185","WAHYU PRASETYO",null,12,"17.11.0043","RIAN PRIADI"]
[13,"17.11.0020","AFIF MA'RUF ESKA",null,13,"17.11.0076","JALUMIYOS RAMADHIANSYAH",null,13,"17.11.0080","KEVIN ZEFANYA TIRTA IRAWAN",null,13,"17.11.0135","NUR AZIZ PRAMUDYA",null,13,"17.11.0139","NUR HANIFAH",null,13,"17.11.0189","MOH FADLIL FAQIH",null,13,"17.11.0049","ACHMAD DIAN RAFI'I"]
[14,"17.11.0025","RAHILA NUR JANAH",null,14,"17.11.0079","SIMON SOFIAN IWAN WIBOWO",null,14,"17.11.0083","ABIDIN HIDAYANTO",null,14,"17.11.0138","MUHAMMAD RIFQI ARIYADI",null,14,"17.11.0141","CHANIF FAUZI",null,14,"17.11.0192","FAISAL LUTFI HAKIM",null,14,"17.11.0053","IMAM SYAFII"]
[15,"17.11.0026","CHRISTIANTO TRI MULYANTO PUTRA",null,15,"17.11.0084","IRVAN EKA ZAENALDI",null,15,"17.11.0086","LUTFI NUR DIANTO",null,15,"17.11.0142","PUTRI DWI ERFIYANTI",null,15,"17.11.0146","NUHGROHO BAHARUDIN PUTRA",null,15,"17.11.0203","GALIH AHMAD ZAKIA RAMADHAN",null,15,"17.11.0073","GAGAT BASKORO SYAH"]
[16,"17.11.0028","DAFFA RIZQI ANDRIAN",null,16,"17.11.0113","FARA NOVI ANA",null,16,"17.11.0087","HERMAWAN DWI PRAYITNO",null,16,"17.11.0145","EKA SUCI NOPIE HANTARI",null,16,"17.11.0150","HANIN SEDI SEPTIAN",null,16,"17.11.0204","RIZKY YOGA PANGESTU",null,16,"17.11.0081","MAMAT SUPRIYANTO"]
[17,"17.11.0029","AHMAD ALWI RAHMAN",null,17,"17.11.0130","ALDILIYA AINUN MADJID",null,17,"17.11.0088","DINO PURNAMA AJI",null,17,"17.11.0157","RISQI BAYU PRATAMA",null,17,"17.11.0152","IRHAM MOHAMAD FADLI",null,17,"17.11.0207","HANENDYO ANDHI GURITA",null,17,"17.11.0136","DIDIK WICAKSONO"]
[18,"17.11.0030","ENTUK AJI NUGROHO",null,18,"17.11.0131","FIQRI ADRIANSYAH",null,18,"17.11.0090","EDI IMAM MUTAQIN",null,18,"17.11.0176","TRIONO ANGGI NUGROHO",null,18,"17.11.0155","YOGA DWI PRASETYO",null,18,"17.11.0208","HASANANTO ZAKARIA",null,18,"17.11.0137","MULKI ALI MUBAROK"]
[19,"17.11.0032","AFFAN AZ ZARQONI",null,19,"17.11.0151","RINA ELMI SOFIANA",null,19,"17.11.0091","GHAUSHIL BADRI AMIN",null,19,"17.11.0177","ALFA RIZKI",null,19,"17.11.0156","KENDY KUKILA",null,19,"17.11.0210","RAMADHAN ARIF NURBASKORO",null,19,"17.11.0147","MUHAMMAD RAHMAT HADIYAMIN"]
[20,"17.11.0038","NURAZIS ADHIRAMA PAMUNGKAS",null,20,"17.11.0159","YOGA MAULANA",null,20,"17.11.0093","ZIDA KUMALA SA'ADAH",null,20,"17.11.0178","ABI YOGA TAMPOMO",null,20,"17.11.0161","TEGUH BUDI SANTOSO",null,20,"17.11.0211","MUHAMMAD MARSHAL ABDALLAH",null,20,"17.11.0153","FERDYNAN ARI RAHMADAN"]
[21,"17.11.0042","AFREL PUTRA MAHENDRA",null,21,"17.11.0164","MUKJIZAT SETIO NUGROHO",null,21,"17.11.0094","MU'AZIZ FAJARUDIN",null,21,"17.11.0181","INDRA ALAN NUGROHO",null,21,"17.11.0163","GUNTUR EKA PRASETYO",null,21,"17.11.0213","ABU RIZAL RAFSANJANI",null,21,"17.11.0170","RAHARDIAN ARIF PRATAMA"]
[22,"17.11.0044","ARIF SUPRIYONO",null,22,"17.11.0167","ADI BUDI PRASETYO",null,22,"17.11.0096","SHAFIRA RIZKY",null,22,"17.11.0205","INDO CRIS MAXI DEMORE YAN RAMADHANI",null,22,"17.11.0166","FERDINAND NYOMAN DHANDI SETYAWAN",null,22,"17.11.0218","GALIH BAGASKORO",null,22,"17.11.0179","GILANG NUR ALFIAN"]
[23,"17.11.0046","ADAM AMIRUDIN",null,23,"17.11.0168","AI FADJAR ALDIADI",null,23,"17.11.0097","RIZQI GILANG RAMADHAN",null,23,"17.11.0206","M SULKHAN TAMA RAMDHANI",null,23,"17.11.0169","RAHMAT HIDAYAT FITRIANTO",null,23,"17.11.0220","RIZAL SYUKRON NUGROHO",null,23,"17.11.0221","AKHDAN RAHMI HANIF"]
[24,"17.11.0047","ABDUL GHOFUR",null,24,"17.11.0193","ANDRIANUS AGUNG NUGROHO",null,24,"17.11.0098","JULI MAULANA",null,24,"17.11.0215","RICKY SUDIYANTO",null,24,"17.11.0171","DANANG RIKIYANTO",null,24,"17.11.0228","MUH. DANI MUNIF FARIN",null,24,"17.11.0227","AGUNG BUDI PRASETYO"]
[25,"17.11.0048","ARI NUR RIZKI",null,25,"17.11.0194","ADITYA DAMARJATI",null,25,"17.11.0099","ALFANDI RIFQI WIDYADANA",null,25,"17.11.0216","DANI FAISAL",null,25,"17.11.0173","DITA AYUNINGTIAS",null,25,"17.11.0230","HERI RAMADHAN",null,25,"17.11.0240","MUHAMMAD GHOZY LATHIF"]
[26,"17.11.0050","FIQRI OCKAS PERDANA",null,26,"17.11.0196","WILDAN MUBAROK AZZAKKI",null,26,"17.11.0100","RIZKY BAKHTIAR",null,26,"17.11.0224","AGUNG SAPUTRA",null,26,"17.11.0174","CYNTHIA SILVIANA WIJAYANTI",null,26,"17.11.0231","ABDURRAHMAN AL GHOFIQI",null,26,null,"AULIA ULINNUHA AL FACHORY"]
[27,"17.11.0055","ZURNAEN EVAN ZIZA RIADHI",null,27,"17.11.0200","MUHAMMAD ANDY HIDAYAT",null,27,"17.11.0110","INSAN IKHLASUL AMAL",null,27,"17.11.0226","FANDI YULIANTO",null,27,"17.11.0175","AL HAFIDZ HANIFAN ISLAHI",null,27,"17.11.0234","WIRA SAKTI AKBAR RIYADI",null,27,null,"DEDY ISTIADI PUJIANADA"]
[28,"17.11.0056","FAISAL ISKA UKHRIZA",null,28,"17.11.0202","DEDE IRAWAN",null,28,"17.11.0111","RENO DERMAWAN MUTIARA PUTRA",null,28,"17.11.0236","ALFIAN WIDY REKSA",null,28,"17.11.0182","ERICK SETIO PAMUJI",null,28,"17.11.0235","KHAUTAL ADANI",null,28,null,"IVAN SURYA WITANTO"]
[29,"17.11.0066","LISNA YANUAR MUKHLIS",null,29,"17.11.0225","ADE PRASETYO",null,29,"17.11.0114","ILHAM AKBAR HABIBIE",null,29,null,"AGUNG PUTRA PRATAMA",null,29,"17.11.0190","JERI IHSAN HIDAYATULLOH",null,29,"17.11.0239","BAYU SETIA AJI",null,29,null,"MANUT SUTRISNO"]
[30,"17.11.0104","CAROKO WASESO YEKTI",null,30,"17.11.0237","ADHI LATIEF MUKTIANA",null,30,"17.11.0116","AMMAR SHOLEH ARYANTO",null,30,null,"ALFAN RIZKI LUTFIANTO",null,30,"17.11.0195","HELMI FAKHRUDDIN",null,30,"17.11.0241","TEGAR PAMBUDI",null,30,null,"NELLY REGINA SUSANTI"]
[31,"17.11.0126","MUHAMMAD RIZA FAUZILLAH",null,31,"17.11.0238","KARTIKO HAYAT NUGROHO",null,31,"17.11.0117","GAGAH WINASIS",null,31,null,"ARIEF MIFTAH NUR FAIZI",null,31,"17.11.0198","IRAWAN BAROKAH",null,31,null,"ABI FIRMANSYAH",null,31,null,"SAKTIANA ARIFFATUN NISA"]
[32,"17.11.0158","YUDHISTIRA JANICE AL SAVA",null,32,null,"ACHMAD FERDIYANSYAH",null,32,"17.11.0119","HUSNI HAMZAH",null,32,null,"DIYAN WASONO ADHI",null,32,"17.11.0199","MUHAMMAD ILHAM HANAFI",null,32,null,"ABI NANDITA ARGA APRIA KUSUMA",null,32,null,"SLAMET KRISNA WIDJAJA"]
[33,"17.11.0162","MOHAMMAD RIZALDI PRADANA",null,33,null,"ADE TRIO PAMUGKAS",null,33,"17.11.0122","SETIANINGSIH",null,33,null,"KANASTA FIRDAUS",null,33,"17.11.0201","IVAN SETYA AZMI",null,33,null,"AFIFAH ANANDA PUTRI",null,33,null,"SUKRON ANASIR"]
[34,"17.11.0180","UTAMI DINI PUSPITA",null,34,null,"ANGGRI PANJI ERMAYA",null,34,"17.11.0148","RISKY RAHMATULOH",null,34,null,"LUTFI YUDA RAMADHAN",null,34,"17.11.0209","MUFLIH DZULFIAN",null,34,null,"AKHMAD ANDRIAN SYAH",null,34,null,"TUTI SUPRIATININGSIH"]
[35,"17.11.0186","MUHAMAD MACHFUDZ ALDIANSYAH",null,35,null,"FAZRI JATI HUMANIKA",null,35,"17.11.0154","KURNIA HANDARA",null,35,null,"MAULUDIA PANJI YULIANSAH",null,35,"17.11.0214","EGI CAHYA GUSTI YANA",null,35,null,"ANIQ VAUQON NAJIH"]
[36,"17.11.0191","GILANG RIZKY MUSTOFA",null,36,null,"IKHFANDA DWI PURNOMO",null,36,"17.11.0183","ZSA ZSA GRACIA SUPRIANTO",null,36,null,"MENTARI RIZKI EGAYANTI",null,36,"17.11.0217","NABILA AYUNING SAFIRA",null,36,null,"BRAM PRADANA MARDA"]
[37,"17.11.0229","ALFIAN KUKUH ADITAMA",null,37,null,"LAELI NUR HIDAYATI",null,37,"17.11.0187","ANANG SUDARMAYA",null,37,null,"MOHAMAD FAIQ NURROHMAN",null,37,"17.11.0219","WAHYU WIDIANTO",null,37,null,"DEWI PUPUT SAPUTRI"]
[38,"17.11.0242","DIMAS AJI PRASETYO",null,38,null,"MEI ANGGUN TRIANA",null,38,"17.11.0233","ELIAS NABIL",null,38,null,"MUHAMAD HISYAM ZUHDI",null,38,"17.11.0222","LINTANG AYU LAILATUL JANNAH",null,38,null,"FIKRI ADI SUSENO"]
[39,"17.11.0243","ADIT TRI SEPTIAWAN",null,39,null,"MUHAMAD IRFANY MUSA",null,39,null,"ANWAR BUDHI DHARMAWAN",null,39,null,"MUHAMMAD FATIKHUL BIRRI",null,39,"17.11.0223","DEMA ABUBAKAR",null,39,null,"JUNIAR IMANDANNI WIDODO"]
[40,"17.11.0244","WAHYU SURYO NUROHMAN",null,40,null,"MUHAMMAD RIFAI",null,40,null,"ARRYAN SETIAWAN",null,40,null,"RACHMADDANI",null,40,"17.11.0232","WINDIANINGSIH",null,40,null,"MOHAMMAD SYIFA RAMADHAN"]
[41,"17.11.0245","PURBO DWI ANGGORO",null,41,null,"NOVA PRASETIYO",null,41,null,"HASNA ENDAH SAPTAWATI",null,41,null,"RAKHMAT AGENG YUDHANTO",null,41,null,"GALIH ALAN MADHANI",null,41,null,"NUR AULIA RAHMAWATI"]
[42,"17.11.0246","REFIANTO RIZKY CANDRA S",null,42,null,"NUR ROCHMAN ALFATONI",null,42,null,"LUPITA INDAH FERISKA",null,42,null,"RISKI AHMAD YUSRON",null,42,null,"M ZIDAN NAJMUL FATAH",null,42,null,"PAMUNGKAS CATUR NUGROHO"]
[43,"17.11.0247","WHISNU ADAM FATHURROKHMAN",null,43,null,"SHAFRIAL AZHAR",null,43,null,"MASADI DWI KURNIAWAN",null,43,null,"RIYANA INDAH CAHYANI",null,43,null,"FAUZI TRI HIDAYAT",null,43,null,"RAHMAWAN AFIANTO SAPUTRO"]
[44,"17.11.0248","RIJAL AMRI MAJID",null,44,null,"TRI SETYARANI DEWI",null,44,null,"MIQDAR ALFI SYAHRIN",null,44,null,"SHANDI DESTIAWAN",null,44,null,"SYAFAAT",null,44,null,"TIKA SOFIANA"]
[45,null,"FIKRI RAMADHAN",null,45,null,"TRIYONO",null,45,null,"MUFID ARZUDA",null,45,null,"WAHYU NUGROHO",null,45,null,"SUSI SULISTYANINGSIH",null,45,null,"WAHYU RAMDANI"]
[46,null,"RIZAL RENALDO",null,46,null,"WAWA MAISA FINANTO",null,46,null,"RAEZA YUTHA TRIYUNDI",null,46,null,"ZIAD MIQDAD HAQQONI",null,46,null,"RULI ANDRESTA",null,46,null,"WILLY RUBY OKTAVIANUS"]
[47,null,"SETYO PRIMA AJI",null,47,null,"WISNU PAMUNGKAS",null,47,null,"RIZKIYANA CATUR PRADANA",null,47,"17.11.0077","IKBAL GALIH NURPAMUNGKAS",null,47,null,"MUHAMMAD RIFKI UBAEDILLAH",null,47,null,"GHIFARI IDHAM SATRIAN"]
[48,"17.11.0024","ASEP SETIAJI",null,48,null,"YULIANDRI SETIADI",null,48,null,"TEGAR AFIF ASHARI",null,48,null,"YUDITYA HARI NUGROHO",null,48,null,"MOCHAMMAD RIZAL ASSIDIQ",null,48,"17.11.0212","AZIZ REZA DWITAMA"]
[49,"17.11.0059","SONY GUNAWAN ZEN",{"$nulls":5},49,null,"UBAIDILLAH AHMAD",null,49,null,"EDI RIANTO",null,49,null,"JULIO BHAGASKARA ADIPRADANA",null,49,null,"MARWAN SETIANGGORO"]
[{"$nulls":16},50,null,"REFIS AULAWY NOOR"]
[]
[]
["DAFTAR MAHASISWA BARU",{"$nulls":3},"DAFTAR MAHASISWA BARU",{"$nulls":3},"DAFTAR MAHASISWA BARU",{"$nulls":3},"DAFTAR MAHASISWA BARU"]
["TAHUN ANGKATAN 2017/2018",{"$nulls":3},"TAHUN ANGKATAN 2017/2018",{"$nulls":3},"TAHUN ANGKATAN 2017/2018",{"$nulls":3},"TAHUN ANGKATAN 2017/2018"]
["KELAS SI 17 A",{"$nulls":3},"KELAS SI 17 B",{"$nulls":3},"KELAS SI 17 C",{"$nulls":3},"KELAS SI 17 D"]
[{"$nulls":18},"CATATAN:"]
["Pembimbing Akademik: Dwi Krisbiantoro, M.Kom.",{"$nulls":3},"Pembimbing Akademik: Abed Nego Dwi Septiadi, M.Kom.",{"$nulls":3},"Pembimbing Akademik: Nurfaizah, M.Kom.",{"$nulls":3},"Pembimbing Akademik: Dr. Taqwa Hariguna, S.T., M.Kom.",{"$nulls":4},"=>","BAGI MAHASISWA ANGKATAN 2017 YANG NAMANYA BELUM TERCANTUM ATAU TERDAPAT KESALAHAN DATA "]
["NO","NIM","NAMA",null,"NO","NIM","NAMA",null,"NO","NIM","NAMA",null,"NO","NIM","NAMA",{"$nulls":3},"HARAP MENGHUBUNGI BAA."]
[1,"17.12.0001","NUR LAELI RACHMAWATI",null,1,"17.12.0023","ASIF BAHRIA",null,1,"17.12.0040","REYHAN YUDHISTIRA JUNIAN",null,1,"17.12.0051","FARIZ KHABIB IBROHIM",null,null," BOLD","MAHASISWA YANG PINDAH KELAS"]
[2,"17.12.0002","BAGAS WARDANA",null,2,"17.12.0024","ALDISTYA RIESTA SEKARINI",null,2,"17.12.0041","THESSA AYU PARTOYO",null,2,"17.12.0052","ZEZYA RAMADHANY KHARISMA MURTI"]
[3,"17.12.0003","EKY SETIAWAN",null,3,"17.12.0025","ARIF SUGIARTO",null,3,"17.12.0042","SEKAR ANDINI",null,3,"17.12.0059","NADILLA PUTRI UTAMI"]
[4,"17.12.0005","CANDRA NOVIAN",null,4,"17.12.0026","BAHAR NURRUS CHANDRA ALAMSYAH",null,4,"17.12.0044","KETY NOVIANTI",null,4,"17.12.0060","MENIK PURWATI"]
[5,"17.12.0006","ZULFA AULIA",null,5,"17.12.0027","DESTY SANDRA UTAMI",null,5,"17.12.0045","HARUN SUFAHMI",null,5,"17.12.0062","LISMA NUR SEPTIANA"]
[6,"17.12.0007","SITI KHUMAEROH",null,6,"17.12.0028","DEVANDA RIZKI RAMADHAN",null,6,"17.12.0046","NUGROHO CHANDRA BUWONO",null,6,"17.12.0064","VERA CINDI MONARIKE"]
[7,"17.12.0009","ROFI SUSI NUR FATIMAH",null,7,"17.12.0029","SUCI AMALIA",null,7,"17.12.0053","FAISAL FAUZI",null,7,"17.12.0066","FAIZAL AMIN"]
[8,"17.12.0011","IFANIA OKTAVIANI PUTRI",null,8,"17.12.0031","RETNO DWI GUSTI HENDARWESTI",null,8,"17.12.0055","IRFAN FATKHURROHMAN",null,8,"17.12.0069","CARELL YUDHI HERNANI"]
[9,"17.12.0012","ANINDYA ANGGELINA",null,9,"17.12.0032","HENDI PRADANA",null,9,"17.12.0056","LENI SETIANI",null,9,"17.12.0070","SYAFIQ FEBRI PANGESTUNING TYAS"]
[10,"17.12.0013","YOGA EKO PUJIANTO",null,10,"17.12.0033","WIDYA HANA SAFITRI",null,10,"17.12.0057","ADAM AGENG WIJAYA",null,10,"17.12.0075","NICO CESAR ARYANTO PRIMADANA"]
[11,"17.12.0014","FADHLAN NUR KHAALISH",null,11,"17.12.0034","DEVI NURAENI",null,11,"17.12.0061","TEGAR DWI RAMADHAN",null,11,"17.12.0079","REGGY BOWO LEKSANA"]
[12,"17.12.0015","YASMIN BUDIWATI",null,12,"17.12.0035","AMALIA WAHYU UTAMI",null,12,"17.12.0071","ISTI ROHAYATUN",null,12,"17.12.0083","MOHAMAD AIFAN DWI WIYATAMA ANDRIAN"]
[13,"17.12.0016","ADE IVAN VANANI",null,13,"17.12.0038","TITIN MEISAROH",null,13,"17.12.0074","ROY KRISNA PRATAMA",null,13,"17.12.0084","RYAN ARYANDI"]
[14,"17.12.0017","AFIFUR ROHMAN ZAIN",null,14,"17.12.0047","MUHAMMAD IKHSAN NURDIN",null,14,"17.12.0078","HASTIWI AMELIA NURAWALIAH",null,14,"17.12.0087","SEPTIAN ILHAM SANTOSA"]
[15,"17.12.0018","AZHARI RAKHMAT BAKHTIAR",null,15,"17.12.0049","ULUNG BUDI HARTONO",null,15,"17.12.0081","RISKA INDAH NURANI",null,15,"17.12.0091","KELLY DHINA ARYANITA"]
[16,"17.12.0020","ILHAM HAQQI WIJAYA",null,16,"17.12.0054","LUSY RAHMAWAN PANGESTU",null,16,"17.12.0082","ANISA NUR FAIZAH",null,16,"17.12.0092","DEADRA IVANKA NAILUFAR"]
[17,"17.12.0021","MOCHAMMAD OBBY SYECH FRUDDIN",null,17,"17.12.0058","MAGHFIRA NURUL ISNAINI",null,17,"17.12.0085","FAISHAL ANWAR FADHILLAH",null,17,"17.12.0095","SISKA PUTRI UTAMI"]
[18,"17.12.0030","CICI WULAN SARI",null,18,"17.12.0063","CHOLIVIA INTAN NUR SAFITRI",null,18,"17.12.0086","ERIANA ZAHROTUL FIRDAUS",null,18,"17.12.0097","MOHAMAD FAISAL"]
[19,"17.12.0039","ARJUNTORO ARDHY FERDIAN",null,19,"17.12.0072","RAFFI ANDIKA PRADANA",null,19,"17.12.0088","VITA LISTIA ANDANI",null,19,"17.12.0098","DWI MEILIANA"]
[20,"17.12.0048","M.FIQIH FADLI ILMAWAN",null,20,"17.12.0073","MA'RUF MAFTUKHIN",null,20,"17.12.0094","DIKA NOER MUHAMAD FATAH",null,20,"17.12.0107","DIMAS GONDO UTOMO"]
[21,"17.12.0065","AULIA PUSPITA ANTARUSMARA",null,21,"17.12.0076","AYU DISTARIYANI SAPUTRI",null,21,"17.12.0096","DEPPI PUSPITASARI",null,21,"17.12.0113","AJI PANGESTU"]
[22,"17.12.0067","APRILIA MELI KRISTINA",null,22,"17.12.0089","FATIN MUSTIKA SARI",null,22,"17.12.0100","HERAYA FITRA",null,22,"17.12.0115","HANDIKA AJI SAPUTRA"]
[23,"17.12.0068","NABILA APRILIANTI",null,23,"17.12.0101","TRI SEPTI WIDI YAANTI",null,23,"17.12.0104","WAHYU ANANG SUBEKTI",null,23,"17.12.0116","ELFARIANI MIFTAKHUL JANAH"]
[24,"17.12.0077","HANA AMBAR FATIK WIBAWA",null,24,"17.12.0103","RYAN IBNU RIZKYARDHANA",null,24,"17.12.0106","MUHAMAD FAQIH RIDHO",null,24,"17.12.0119","ASRIL FAUZI NURHAKIM"]
[25,"17.12.0099","MUHAMMAD ASEP ROSYADI",null,25,"17.12.0105","I NYOMAN PUTHUT WIJAYA",null,25,"17.12.0112","MALDI SAVARA HIDAYAT",null,25,"17.12.0120","ERADIKA REZA LUTFIANSYAH"]
[26,"17.12.0102","LEIN ITA NURBAETY",null,26,"17.12.0108","FAIZ ZURRAHMAN AS SIROZ",null,26,"17.12.0114","NAAN DAYUNA",null,26,"17.12.0121","BUDI KURNIAWAN"]
[27,"17.12.0109","HANINDYA SEKAR PUTRI",null,27,"17.12.0111","AMELIA MAWADDAH ALFATHANI",null,27,"17.12.0117","IVAN ZAKA MUBAROK",null,27,null,"BINTARI HIDAYANTI"]
[28,"17.12.0110","ANKGRAENI KUSUMA DEWI",null,28,null,"AMAR FARICKHIN",null,28,"17.12.0118","AMELIA PUTRIYANI",null,28,null,"DIKKA SANY ARGIA"]
[29,"17.12.0122","ESA DAMAYANTI",null,29,null,"DHIMAS BANYU PERWITA",null,29,null,"ALVIAN MAJID",null,29,null,"IDA LAENI"]
[30,"17.12.0123","FARRIS AMRULLAH",null,30,null,"DISTA TRIANISFI",null,30,null,"ANGGI RIZKA UTAMI",null,30,null,"IMAM KHADAFI"]
[31,"","ANISA UMMUL LATIFAH",null,31,null,"EVI SINDIYANTI",null,31,null,"DEA ROMI ANGGRAENI",null,31,null,"INDAH GHINA SHAFIRA WARDHANI"]
[32,"","CHINTIA DINI PRATIWI",null,32,null,"GIRI INDAH UMBARAWATI",null,32,null,"FARINDA EKA PUTRI",null,32,null,"MOHAMMAD RAYHAN ALMADANI"]
[33,"","DEWI SULISTYOWATI ",null,33,null,"HABIBBULLOH ROSYID RIDHO",null,33,null,"INDIKA MANGGALA PUTRA",null,33,null,"MUHAMAD ALIF ALFARIZKI"]
[34,"","FIRMAN WIJAYA",null,34,null,"M.NAFI FANAULKIROM",null,34,null,"NAUFAL MAULANA ANBIYA ",null,34,null,"MUJIBUROKHMAN"]
[35,"","FITA DWI LESTARI",null,35,null,"MARIA SEKAR ANJANI",null,35,null,"RIZKA NUR ROFI'AH",null,35,null,"MUSLIM ADILAH"]
[36,"","LUTHFIYA HATI ISLAMI",null,36,null,"RAHMA SARI FAUZIYAH",null,36,null,"RUDI AGUS PRAPTOMO",null,36,null,"NAELLA FAUZIATUL ABSONI"]
[37,"","MUHAMAD WELLY PRAYOGA",null,37,null,"RAHMI SARI FAUZIYAH",null,37,null,"SEPTA AGENG NUGROHO",null,37,null,"NAUVAL  FAHMI ESA SULISTIANA"]
[38,"17.12.0037","MUHAMMAD SAFRIJAL ZULMI",null,38,null,"SITI AMALIAH",null,38,null,"TATA SALANJAR GUSTINADI",null,38,null,"TANJUNG ISNANTIA KENJI"]
[39,"17.12.0043","RUDI ADITYA",null,39,null,"YULISTIANA DEWI",null,39,null,"UGA SYAHRIL RAMADHAN",null,39,null,"ZURAIDA YUNIAR FIRDAUS"]
[40,null,"RINGO ADAM BINTANG ALDINO",null,40,"17.12.0093","SINGGIH SYAFRIZAL",null,40,null,"WILUJENG PURNOMO ANGKADI",null,40,"17.12.0080","NAILIS SYAFI'AH"]

{"sheet":"Sheet3","index":1,"n_rows":365,"n_cols":3,"rows_kept":365,"hidden":true}
["a","b","c"]
["DITA FERDIAN BAYU KUSUMA","17.11.0001",{"$f":"COUNTIF(Sheet1!$A$6:$AI$111,Sheet3!A2)","v":1}]
["RIZQI MUSTHOFA","17.11.0002",{"$f":"COUNTIF(Sheet1!$A$6:$AI$111,Sheet3!A3)","v":1}]
["JANUARIO SUBECTI BANO","17.11.0003",{"$f":"COUNTIF(Sheet1!$A$6:$AI$111,Sheet3!A4)","v":1}]
["LABIB FAUZI RAMADAN","17.11.0004",{"$f":"COUNTIF(Sheet1!$A$6:$AI$111,Sheet3!A5)","v":1}]
["NANA SABRINA","17.11.0005",{"$f":"COUNTIF(Sheet1!$A$6:$AI$111,Sheet3!A6)","v":1}]
["BIMA RASENDRIYA INDRASTOTO","17.11.0006",{"$f":"COUNTIF(Sheet1!$A$6:$AI$111,Sheet3!A7)","v":1}]
["RANGGA GUSTI ANANTA","17.11.0007",{"$f":"COUNTIF(Sheet1!$A$6:$AI$111,Sheet3!A8)","v":1}]
["AZIZAN NURHAKIM","17.11.0008",{"$f":"COUNTIF(Sheet1!$A$6:$AI$111,Sheet3!A9)","v":1}]
["SUSANTO","17.11.0009",{"$f":"COUNTIF(Sheet1!$A$6:$AI$111,Sheet3!A10)","v":1}]
["RIYAN EKO SAPUTRA","17.11.0010",{"$f":"COUNTIF(Sheet1!$A$6:$AI$111,Sheet3!A11)","v":1}]
["MOHAMAD BAGUS WIDIYANTO","17.11.0011",{"$f":"COUNTIF(Sheet1!$A$6:$AI$111,Sheet3!A12)","v":1}]
["LAELATUL ROFIDA","17.11.0012",{"$f":"COUNTIF(Sheet1!$A$6:$AI$111,Sheet3!A13)","v":1}]
["RANGGA PRANGWEDANA JANUWARSA","17.11.0013",{"$f":"COUNTIF(Sheet1!$A$6:$AI$111,Sheet3!A14)","v":0}]
["SEPTIAN PRIMANSYAH","17.11.0014",{"$f":"COUNTIF(Sheet1!$A$6:$AI$111,Sheet3!A15)","v":1}]
["DEBI INDARTO","17.11.0015",{"$f":"COUNTIF(Sheet1!$A$6:$AI$111,Sheet3!A16)","v":1}]
["ARIEF KURNIA RAMADHANI","17.11.0016",{"$f":"COUNTIF(Sheet1!$A$6:$AI$111,Sheet3!A17)","v":1}]
["YUSUF SUPRIYATNA","17.11.0017",{"$f":"COUNTIF(Sheet1!$A$6:$AI$111,Sheet3!A18)","v":1}]
["KURNIAWAN SAPUTRA","17.11.0018",{"$f":"COUNTIF(Sheet1!$A$6:$AI$111,Sheet3!A19)","v":1}]
["CANDRA YANUAR DWI NURCAHYO","17.11.0019",{"$f":"COUNTIF(Sheet1!$A$6:$AI$111,Sheet3!A20)","v":1}]
["AFIF MA'RUF ESKA","17.11.0020",{"$f":"COUNTIF(Sheet1!$A$6:$AI$111,Sheet3!A21)","v":1}]
["SOLEH NUR HAYAT","17.11.0021",{"$f":"COUNTIF(Sheet1!$A$6:$AI$111,Sheet3!A22)","v":1}]
["AURORA DWI KHATULISTIAN","17.11.0022",{"$f":"COUNTIF(Sheet1!$A$6:$AI$111,Sheet3!A23)","v":0}]
["DARMORO WINANJAR SASMIKO","17.11.0023",{"$f":"COUNTIF(Sheet1!$A$6:$AI$111,Sheet3!A24)","v":0}]
["ASEP SETIAJI","17.11.0024",{"$f":"COUNTIF(Sheet1!$A$6:$AI$111,Sheet3!A25)","v":1}]
["RAHILA NUR JANAH","17.11.0025",{"$f":"COUNTIF(Sheet1!$A$6:$AI$111,Sheet3!A26)","v":1}]
["CHRISTIANTO TRI MULYANTO PUTRA","17.11.0026",{"$f":"COUNTIF(Sheet1!$A$6:$AI$111,Sheet3!A27)","v":1}]
["PUTU LEO KHARISMA BANGSA","17.11.0027",{"$f":"COUNTIF(Sheet1!$A$6:$AI$111,Sheet3!A28)","v":0}]
["DAFFA RIZQI ANDRIAN","17.11.0028",{"$f":"COUNTIF(Sheet1!$A$6:$AI$111,Sheet3!A29)","v":1}]
["AHMAD ALWI RAHMAN","17.11.0029",{"$f":"COUNTIF(Sheet1!$A$6:$AI$111,Sheet3!A30)","v":1}]
["ENTUK AJI NUGROHO","17.11.0030",{"$f":"COUNTIF(Sheet1!$A$6:$AI$111,Sheet3!A31)","v":1}]
["WISNU PRASETYA","17.11.0031",{"$f":"COUNTIF(Sheet1!$A$6:$AI$111,Sheet3!A32)","v":1}]
["AFFAN AZ ZARQONI","17.11.0032",{"$f":"COUNTIF(Sheet1!$A$6:$AI$111,Sheet3!A33)","v":1}]
["DEDY ISTIYADI PUJIANANDA","17.11.0033",{"$f":"COUNTIF(Sheet1!$A$6:$AI$111,Sheet3!A34)","v":1}]
["FAUZAN AJI","17.11.0034",{"$f":"COUNTIF(Sheet1!$A$6:$AI$111,Sheet3!A35)","v":1}]
["FARIS KELVIANTO","17.11.0035",{"$f":"COUNTIF(Sheet1!$A$6:$AI$111,Sheet3!A36)","v":1}]
["KRISNO","17.11.0036",{"$f":"COUNTIF(Sheet1!$A$6:$AI$111,Sheet3!A37)","v":1}]
["JUAN SEBACHTIAN","17.11.0037",{"$f":"COUNTIF(Sheet1!$A$6:$AI$111,Sheet3!A38)","v":1}]
["NURAZIS ADHIRAMA PAMUNGKAS","17.11.0038",{"$f":"COUNTIF(Sheet1!$A$6:$AI$111,Sheet3!A39)","v":1}]
["WAHYU BUDI PRAKOSO","17.11.0039",{"$f":"COUNTIF(Sheet1!$A$6:$AI$111,Sheet3!A40)","v":1}]
["DEFRIA ISKANTO","17.11.0040",{"$f":"COUNTIF(Sheet1!$A$6:$AI$111,Sheet3!A41)","v":1}]
["RIFKI LESTIANTO","17.11.0041",{"$f":"COUNTIF(Sheet1!$A$6:$AI$111,Sheet3!A42)","v":1}]
["AFREL PUTRA MAHENDRA","17.11.0042",{"$f":"COUNTIF(Sheet1!$A$6:$AI$111,Sheet3!A43)","v":1}]
["RIAN PRIADI","17.11.0043",{"$f":"COUNTIF(Sheet1!$A$6:$AI$111,Sheet3!A44)","v":1}]
["ARIF SUPRIYONO","17.11.0044",{"$f":"COUNTIF(Sheet1!$A$6:$AI$111,Sheet3!A45)","v":1}]
["DITA PURNAMASARI","17.11.0045",{"$f":"COUNTIF(Sheet1!$A$6:$AI$111,Sheet3!A46)","v":1}]
["ADAM AMIRUDIN","17.11.0046",{"$f":"COUNTIF(Sheet1!$A$6:$AI$111,Sheet3!A47)","v":1}]
["ABDUL GHOFUR","17.11.0047",{"$f":"COUNTIF(Sheet1!$A$6:$AI$111,Sheet3!A48)","v":1}]
["ARI NUR RIZKI","17.11.0048",{"$f":"COUNTIF(Sheet1!$A$6:$AI$111,Sheet3!A49)","v":1}]
["ACHMAD DIAN RAFI'I","17.11.0049",{"$f":"COUNTIF(Sheet1!$A$6:$AI$111,Sheet3!A50)","v":1}]
["FIQRI OCKAS PERDANA","17.11.0050",{"$f":"COUNTIF(Sheet1!$A$6:$AI$111,Sheet3!A51)","v":1}]
["LUTFI ERIYAN","17.11.0051",{"$f":"COUNTIF(Sheet1!$A$6:$AI$111,Sheet3!A52)","v":1}]
["IHWAN PRASETIO","17.11.0052",{"$f":"COUNTIF(Sheet1!$A$6:$AI$111,Sheet3!A53)","v":1}]
["IMAM SYAFII","17.11.0053",{"$f":"COUNTIF(Sheet1!$A$6:$AI$111,Sheet3!A54)","v":1}]
["REIYVAL WILIM PRATAMA","17.11.0054",{"$f":"COUNTIF(Sheet1!$A$6:$AI$111,Sheet3!A55)","v":1}]
["ZURNAEN EVAN ZIZA RIADHI","17.11.0055",{"$f":"COUNTIF(Sheet1!$A$6:$AI$111,Sheet3!A56)","v":1}]
["FAISAL ISKA UKHRIZA","17.11.0056",{"$f":"COUNTIF(Sheet1!$A$6:$AI$111,Sheet3!A57)","v":1}]
["ALDI SETIA PAMBUDI","17.11.0057",{"$f":"COUNTIF(Sheet1!$A$6:$AI$111,Sheet3!A58)","v":1}]
["TRI HASTOMO","17.11.0058",{"$f":"COUNTIF(Sheet1!$A$6:$AI$111,Sheet3!A59)","v":1}]
["SONY GUNAWAN ZEN","17.11.0059",{"$f":"COUNTIF(Sheet1!$A$6:$AI$111,Sheet3!A60)","v":1}]
["BELLA AGUSTIA","17.11.0060",{"$f":"COUNTIF(Sheet1!$A$6:$AI$111,Sheet3!A61)","v":1}]
["ILHAM ALFAN HIDAYAT","17.11.0061",{"$f":"COUNTIF(Sheet1!$A$6:$AI$111,Sheet3!A62)","v":1}]
["AHMAD HISYAM ADNAN","17.11.0062",{"$f":"COUNTIF(Sheet1!$A$6:$AI$111,Sheet3!A63)","v":1}]
["MOCH ATANAL YAQIN","17.11.0063",{"$f":"COUNTIF(Sheet1!$A$6:$AI$111,Sheet3!A64)","v":1}]
["YOGA AGUNG PRABOWO","17.11.0064",{"$f":"COUNTIF(Sheet1!$A$6:$AI$111,Sheet3!A65)","v":1}]
["NAUFAL GUSNI JANUNG PANGKAR","17.11.0065",{"$f":"COUNTIF(Sheet1!$A$6:$AI$111,Sheet3!A66)","v":1}]
["LISNA YANUAR MUKHLIS","17.11.0066",{"$f":"COUNTIF(Sheet1!$A$6:$AI$111,Sheet3!A67)","v":1}]
["BRILIAN ALFAIN NUSA BHAKTI","17.11.0067",{"$f":"COUNTIF(Sheet1!$A$6:$AI$111,Sheet3!A68)","v":1}]
["FAISAL RIYADI","17.11.0068",{"$f":"COUNTIF(Sheet1!$A$6:$AI$111,Sheet3!A69)","v":1}]
["ARIF NUGROHO AJI","17.11.0069",{"$f":"COUNTIF(Sheet1!$A$6:$AI$111,Sheet3!A70)","v":1}]
["DARMAWAN KUSUMA","17.11.0070",{"$f":"COUNTIF(Sheet1!$A$6:$AI$111,Sheet3!A71)","v":1}]
["UMAM EGA PRATAMA","17.11.0071",{"$f":"COUNTIF(Sheet1!$A$6:$AI$111,Sheet3!A72)","v":1}]
["BAHARUDDIN AL FADHILAH","17.11.0072",{"$f":"COUNTIF(Sheet1!$A$6:$AI$111,Sheet3!A73)","v":1}]
["GAGAT BASKORO SYAH","17.11.0073",{"$f":"COUNTIF(Sheet1!$A$6:$AI$111,Sheet3!A74)","v":1}]
["CANDRA SANTIKA","17.11.0074",{"$f":"COUNTIF(Sheet1!$A$6:$AI$111,Sheet3!A75)","v":1}]
["DAVA YURISDIKA","17.11.0075",{"$f":"COUNTIF(Sheet1!$A$6:$AI$111,Sheet3!A76)","v":1}]
["JALUMIYOS RAMADHIANSYAH","17.11.0076",{"$f":"COUNTIF(Sheet1!$A$6:$AI$111,Sheet3!A77)","v":1}]
["IKBAL GALIH NURPAMUNGKAS","17.11.0077",{"$f":"COUNTIF(Sheet1!$A$6:$AI$111,Sheet3!A78)","v":1}]
["TRI MUJI RAHAYU","17.11.0078",{"$f":"COUNTIF(Sheet1!$A$6:$AI$111,Sheet3!A79)","v":1}]
["SIMON SOFIAN IWAN WIBOWO","17.11.0079",{"$f":"COUNTIF(Sheet1!$A$6:$AI$111,Sheet3!A80)","v":1}]
["KEVIN ZEFANYA TIRTA IRAWAN","17.11.0080",{"$f":"COUNTIF(Sheet1!$A$6:$AI$111,Sheet3!A81)","v":1}]
["MAMAT SUPRIYANTO","17.11.0081",{"$f":"COUNTIF(Sheet1!$A$6:$AI$111,Sheet3!A82)","v":1}]
["IMUNG DWI UPAYA","17.11.0082",{"$f":"COUNTIF(Sheet1!$A$6:$AI$111,Sheet3!A83)","v":1}]
["ABIDIN HIDAYANTO","17.11.0083",{"$f":"COUNTIF(Sheet1!$A$6:$AI$111,Sheet3!A84)","v":1}]
["IRVAN EKA ZAENALDI","17.11.0084",{"$f":"COUNTIF(Sheet1!$A$6:$AI$111,Sheet3!A85)","v":1}]
["IRFAN RIFAI AZIZ","17.11.0085",{"$f":"COUNTIF(Sheet1!$A$6:$AI$111,Sheet3!A86)","v":1}]
["LUTFI NUR DIANTO","17.11.0086",{"$f":"COUNTIF(Sheet1!$A$6:$AI$111,Sheet3!A87)","v":1}]
["HERMAWAN DWI PRAYITNO","17.11.0087",{"$f":"COUNTIF(Sheet1!$A$6:$AI$111,Sheet3!A88)","v":1}]
["DINO PURNAMA AJI","17.11.0088",{"$f":"COUNTIF(Sheet1!$A$6:$AI$111,Sheet3!A89)","v":1}]
["DONI HIDAYAT","17.11.0089",{"$f":"COUNTIF(Sheet1!$A$6:$AI$111,Sheet3!A90)","v":1}]
["EDI IMAM MUTAQIN","17.11.0090",{"$f":"COUNTIF(Sheet1!$A$6:$AI$111,Sheet3!A91)","v":1}]
["GHAUSHIL BADRI AMIN","17.11.0091",{"$f":"COUNTIF(Sheet1!$A$6:$AI$111,Sheet3!A92)","v":1}]
["ACHMAD RUSLIYANSYAH SAFRONI","17.11.0092",{"$f":"COUNTIF(Sheet1!$A$6:$AI$111,Sheet3!A93)","v":1}]
["ZIDA KUMALA SA'ADAH","17.11.0093",{"$f":"COUNTIF(Sheet1!$A$6:$AI$111,Sheet3!A94)","v":1}]
["MU'AZIZ FAJARUDIN","17.11.0094",{"$f":"COUNTIF(Sheet1!$A$6:$AI$111,Sheet3!A95)","v":1}]
["FADILLAH ANSORI","17.11.0095",{"$f":"COUNTIF(Sheet1!$A$6:$AI$111,Sheet3!A96)","v":1}]
["SHAFIRA RIZKY","17.11.0096",{"$f":"COUNTIF(Sheet1!$A$6:$AI$111,Sheet3!A97)","v":1}]
["RIZQI GILANG RAMADHAN","17.11.0097",{"$f":"COUNTIF(Sheet1!$A$6:$AI$111,Sheet3!A98)","v":1}]
["JULI MAULANA","17.11.0098",{"$f":"COUNTIF(Sheet1!$A$6:$AI$111,Sheet3!A99)","v":1}]
["ALFANDI RIFQI WIDYADANA","17.11.0099",{"$f":"COUNTIF(Sheet1!$A$6:$AI$111,Sheet3!A100)","v":1}]
["RIZKY BAKHTIAR","17.11.0100",{"$f":"COUNTIF(Sheet1!$A$6:$AI$111,Sheet3!A101)","v":1}]
["RAFI RAMADHAN","17.11.0101",{"$f":"COUNTIF(Sheet1!$A$6:$AI$111,Sheet3!A102)","v":1}]
["ABDUL AZIZ","17.11.0102",{"$f":"COUNTIF(Sheet1!$A$6:$AI$111,Sheet3!A103)","v":1}]
["BAYU SETIAJI","17.11.0103",{"$f":"COUNTIF(Sheet1!$A$6:$AI$111,Sheet3!A104)","v":1}]
["CAROKO WASESO YEKTI","17.11.0104",{"$f":"COUNTIF(Sheet1!$A$6:$AI$111,Sheet3!A105)","v":1}]
["JIMMY HANDRIANSYAH","17.11.0105",{"$f":"COUNTIF(Sheet1!$A$6:$AI$111,Sheet3!A106)","v":1}]
["MUHAMAD ABDUL MUFIDZ","17.11.0106",{"$f":"COUNTIF(Sheet1!$A$6:$AI$111,Sheet3!A107)","v":1}]
["JEFFRI IRAWAN","17.11.0107",{"$f":"COUNTIF(Sheet1!$A$6:$AI$111,Sheet3!A108)","v":1}]
["FARHAN BANI RIZKI","17.11.0108",{"$f":"COUNTIF(Sheet1!$A$6:$AI$111,Sheet3!A109)","v":1}]
["LU'AI NUR FIRDAUS","17.11.0109",{"$f":"COUNTIF(Sheet1!$A$6:$AI$111,Sheet3!A110)","v":1}]
["INSAN IKHLASUL AMAL","17.11.0110",{"$f":"COUNTIF(Sheet1!$A$6:$AI$111,Sheet3!A111)","v":1}]
["RENO DERMAWAN MUTIARA PUTRA","17.11.0111",{"$f":"COUNTIF(Sheet1!$A$6:$AI$111,Sheet3!A112)","v":1}]
["ABI DWI RAFDI","17.11.0112",{"$f":"COUNTIF(Sheet1!$A$6:$AI$111,Sheet3!A113)","v":1}]
["FARA NOVI ANA","17.11.0113",{"$f":"COUNTIF(Sheet1!$A$6:$AI$111,Sheet3!A114)","v":1}]
["ILHAM AKBAR HABIBIE","17.11.0114",{"$f":"COUNTIF(Sheet1!$A$6:$AI$111,Sheet3!A115)","v":1}]
["FAHMI SAPTIAN LUBIS","17.11.0115",{"$f":"COUNTIF(Sheet1!$A$6:$AI$111,Sheet3!A116)","v":1}]
["AMMAR SHOLEH ARYANTO","17.11.0116",{"$f":"COUNTIF(Sheet1!$A$6:$AI$111,Sheet3!A117)","v":1}]
["GAGAH WINASIS","17.11.0117",{"$f":"COUNTIF(Sheet1!$A$6:$AI$111,Sheet3!A118)","v":1}]
["NOVIANTO SIDIK PRADANA","17.11.0118",{"$f":"COUNTIF(Sheet1!$A$6:$AI$111,Sheet3!A119)","v":1}]
["HUSNI HAMZAH","17.11.0119",{"$f":"COUNTIF(Sheet1!$A$6:$AI$111,Sheet3!A120)","v":1}]
["ISMU IRAWAN","17.11.0120",{"$f":"COUNTIF(Sheet1!$A$6:$AI$111,Sheet3!A121)","v":1}]
["ENGGAR PRI PAMBUDI","17.11.0121",{"$f":"COUNTIF(Sheet1!$A$6:$AI$111,Sheet3!A122)","v":1}]
["SETIANINGSIH","17.11.0122",{"$f":"COUNTIF(Sheet1!$A$6:$AI$111,Sheet3!A123)","v":1}]
["FAIZAL RAMADHAN SUYITNO PUTRA","17.11.0124",{"$f":"COUNTIF(Sheet1!$A$6:$AI$111,Sheet3!A124)","v":1}]
["BAGAS SURYATAMA","17.11.0125",{"$f":"COUNTIF(Sheet1!$A$6:$AI$111,Sheet3!A125)","v":1}]
["MUHAMMAD RIZA FAUZILLAH","17.11.0126",{"$f":"COUNTIF(Sheet1!$A$6:$AI$111,Sheet3!A126)","v":1}]
["ANGGA FERDIYANTO","17.11.0127",{"$f":"COUNTIF(Sheet1!$A$6:$AI$111,Sheet3!A127)","v":1}]
["ADIL AMRULLAH","17.11.0128",{"$f":"COUNTIF(Sheet1!$A$6:$AI$111,Sheet3!A128)","v":1}]
["RESTU LALIN PUTRA SATRIA","17.11.0129",{"$f":"COUNTIF(Sheet1!$A$6:$AI$111,Sheet3!A129)","v":1}]
["ALDILIYA AINUN MADJID","17.11.0130",{"$f":"COUNTIF(Sheet1!$A$6:$AI$111,Sheet3!A130)","v":1}]
["FIQRI ADRIANSYAH","17.11.0131",{"$f":"COUNTIF(Sheet1!$A$6:$AI$111,Sheet3!A131)","v":1}]
["NUR ACHMAD MUKTI AZIZ","17.11.0132",{"$f":"COUNTIF(Sheet1!$A$6:$AI$111,Sheet3!A132)","v":1}]
["FAHMI REZA SAHPUTRA","17.11.0133",{"$f":"COUNTIF(Sheet1!$A$6:$AI$111,Sheet3!A133)","v":1}]
["AFIF ANDI NUR AGAZI","17.11.0134",{"$f":"COUNTIF(Sheet1!$A$6:$AI$111,Sheet3!A134)","v":1}]
["NUR AZIZ PRAMUDYA","17.11.0135",{"$f":"COUNTIF(Sheet1!$A$6:$AI$111,Sheet3!A135)","v":1}]
["DIDIK WICAKSONO","17.11.0136",{"$f":"COUNTIF(Sheet1!$A$6:$AI$111,Sheet3!A136)","v":1}]
["MULKI ALI MUBAROK","17.11.0137",{"$f":"COUNTIF(Sheet1!$A$6:$AI$111,Sheet3!A137)","v":1}]
["MUHAMMAD RIFQI ARIYADI","17.11.0138",{"$f":"COUNTIF(Sheet1!$A$6:$AI$111,Sheet3!A138)","v":1}]
["NUR HANIFAH","17.11.0139",{"$f":"COUNTIF(Sheet1!$A$6:$AI$111,Sheet3!A139)","v":1}]
["ADIMAS SYAFI'I","17.11.0140",{"$f":"COUNTIF(Sheet1!$A$6:$AI$111,Sheet3!A140)","v":1}]
["CHANIF FAUZI","17.11.0141",{"$f":"COUNTIF(Sheet1!$A$6:$AI$111,Sheet3!A141)","v":1}]
["PUTRI DWI ERFIYANTI","17.11.0142",{"$f":"COUNTIF(Sheet1!$A$6:$AI$111,Sheet3!A142)","v":1}]
["YULIAN AJRI ARDIANSYAH","17.11.0143",{"$f":"COUNTIF(Sheet1!$A$6:$AI$111,Sheet3!A143)","v":1}]
["HENDRI KUAT FEBRIANSYAH","17.11.0144",{"$f":"COUNTIF(Sheet1!$A$6:$AI$111,Sheet3!A144)","v":1}]
["EKA SUCI NOPIE HANTARI","17.11.0145",{"$f":"COUNTIF(Sheet1!$A$6:$AI$111,Sheet3!A145)","v":1}]
["NUHGROHO BAHARUDIN PUTRA","17.11.0146",{"$f":"COUNTIF(Sheet1!$A$6:$AI$111,Sheet3!A146)","v":1}]
["MUHAMMAD RAHMAT HADIYAMIN","17.11.0147",{"$f":"COUNTIF(Sheet1!$A$6:$AI$111,Sheet3!A147)","v":1}]
["RISKY RAHMATULOH","17.11.0148",{"$f":"COUNTIF(Sheet1!$A$6:$AI$111,Sheet3!A148)","v":1}]
["DINA FAJAR SULISTIYANI","17.11.0149",{"$f":"COUNTIF(Sheet1!$A$6:$AI$111,Sheet3!A149)","v":1}]
["HANIN SEDI SEPTIAN","17.11.0150",{"$f":"COUNTIF(Sheet1!$A$6:$AI$111,Sheet3!A150)","v":1}]
["RINA ELMI SOFIANA","17.11.0151",{"$f":"COUNTIF(Sheet1!$A$6:$AI$111,Sheet3!A151)","v":1}]
["IRHAM MOHAMAD FADLI","17.11.0152",{"$f":"COUNTIF(Sheet1!$A$6:$AI$111,Sheet3!A152)","v":1}]
["FERDYNAN ARI RAHMADAN","17.11.0153",{"$f":"COUNTIF(Sheet1!$A$6:$AI$111,Sheet3!A153)","v":1}]
["KURNIA HANDARA","17.11.0154",{"$f":"COUNTIF(Sheet1!$A$6:$AI$111,Sheet3!A154)","v":1}]
["YOGA DWI PRASETYO","17.11.0155",{"$f":"COUNTIF(Sheet1!$A$6:$AI$111,Sheet3!A155)","v":1}]
["KENDY KUKILA","17.11.0156",{"$f":"COUNTIF(Sheet1!$A$6:$AI$111,Sheet3!A156)","v":1}]
["RISQI BAYU PRATAMA","17.11.0157",{"$f":"COUNTIF(Sheet1!$A$6:$AI$111,Sheet3!A157)","v":1}]
["YUDHISTIRA JANICE AL SAVA","17.11.0158",{"$f":"COUNTIF(Sheet1!$A$6:$AI$111,Sheet3!A158)","v":1}]
["YOGA MAULANA","17.11.0159",{"$f":"COUNTIF(Sheet1!$A$6:$AI$111,Sheet3!A159)","v":1}]
["RIZQI AGUNG SETIA WIBOWO","17.11.0160",{"$f":"COUNTIF(Sheet1!$A$6:$AI$111,Sheet3!A160)","v":1}]
["TEGUH BUDI SANTOSO","17.11.0161",{"$f":"COUNTIF(Sheet1!$A$6:$AI$111,Sheet3!A161)","v":1}]
["MOHAMMAD RIZALDI PRADANA","17.11.0162",{"$f":"COUNTIF(Sheet1!$A$6:$AI$111,Sheet3!A162)","v":1}]
["GUNTUR EKA PRASETYO","17.11.0163",{"$f":"COUNTIF(Sheet1!$A$6:$AI$111,Sheet3!A163)","v":1}]
["MUKJIZAT SETIO NUGROHO","17.11.0164",{"$f":"COUNTIF(Sheet1!$A$6:$AI$111,Sheet3!A164)","v":1}]
["FERDINAND NYOMAN DHANDI SETYAWAN","17.11.0166",{"$f":"COUNTIF(Sheet1!$A$6:$AI$111,Sheet3!A165)","v":1}]
["ADI BUDI PRASETYO","17.11.0167",{"$f":"COUNTIF(Sheet1!$A$6:$AI$111,Sheet3!A166)","v":1}]
["AI FADJAR ALDIADI","17.11.0168",{"$f":"COUNTIF(Sheet1!$A$6:$AI$111,Sheet3!A167)","v":1}]
["RAHMAT HIDAYAT FITRIANTO","17.11.0169",{"$f":"COUNTIF(Sheet1!$A$6:$AI$111,Sheet3!A168)","v":1}]
["RAHARDIAN ARIF PRATAMA","17.11.0170",{"$f":"COUNTIF(Sheet1!$A$6:$AI$111,Sheet3!A169)","v":1}]
["DANANG RIKIYANTO","17.11.0171",{"$f":"COUNTIF(Sheet1!$A$6:$AI$111,Sheet3!A170)","v":1}]
["SENDI SETIAWAN","17.11.0172",{"$f":"COUNTIF(Sheet1!$A$6:$AI$111,Sheet3!A171)","v":1}]
["DITA AYUNINGTIAS","17.11.0173",{"$f":"COUNTIF(Sheet1!$A$6:$AI$111,Sheet3!A172)","v":1}]
["CYNTHIA SILVIANA WIJAYANTI","17.11.0174",{"$f":"COUNTIF(Sheet1!$A$6:$AI$111,Sheet3!A173)","v":1}]
["AL HAFIDZ HANIFAN ISLAHI","17.11.0175",{"$f":"COUNTIF(Sheet1!$A$6:$AI$111,Sheet3!A174)","v":1}]
["TRIONO ANGGI NUGROHO","17.11.0176",{"$f":"COUNTIF(Sheet1!$A$6:$AI$111,Sheet3!A175)","v":1}]
["ALFA RIZKI","17.11.0177",{"$f":"COUNTIF(Sheet1!$A$6:$AI$111,Sheet3!A176)","v":1}]
["ABI YOGA TAMPOMO","17.11.0178",{"$f":"COUNTIF(Sheet1!$A$6:$AI$111,Sheet3!A177)","v":1}]
["GILANG NUR ALFIAN","17.11.0179",{"$f":"COUNTIF(Sheet1!$A$6:$AI$111,Sheet3!A178)","v":1}]
["UTAMI DINI PUSPITA","17.11.0180",{"$f":"COUNTIF(Sheet1!$A$6:$AI$111,Sheet3!A179)","v":1}]
["INDRA ALAN NUGROHO","17.11.0181",{"$f":"COUNTIF(Sheet1!$A$6:$AI$111,Sheet3!A180)","v":1}]
["ERICK SETIO PAMUJI","17.11.0182",{"$f":"COUNTIF(Sheet1!$A$6:$AI$111,Sheet3!A181)","v":1}]
["ZSA ZSA GRACIA SUPRIANTO","17.11.0183",{"$f":"COUNTIF(Sheet1!$A$6:$AI$111,Sheet3!A182)","v":1}]
["PANJI IRAWAN","17.11.0184",{"$f":"COUNTIF(Sheet1!$A$6:$AI$111,Sheet3!A183)","v":1}]
["WAHYU PRASETYO","17.11.0185",{"$f":"COUNTIF(Sheet1!$A$6:$AI$111,Sheet3!A184)","v":1}]
["MUHAMAD MACHFUDZ ALDIANSYAH","17.11.0186",{"$f":"COUNTIF(Sheet1!$A$6:$AI$111,Sheet3!A185)","v":1}]
["ANANG SUDARMAYA","17.11.0187",{"$f":"COUNTIF(Sheet1!$A$6:$AI$111,Sheet3!A186)","v":1}]
["DWI JOKO PURNOMO","17.11.0188",{"$f":"COUNTIF(Sheet1!$A$6:$AI$111,Sheet3!A187)","v":0}]
["MOH FADLIL FAQIH","17.11.0189",{"$f":"COUNTIF(Sheet1!$A$6:$AI$111,Sheet3!A188)","v":1}]
["JERI IHSAN HIDAYATULLOH","17.11.0190",{"$f":"COUNTIF(Sheet1!$A$6:$AI$111,Sheet3!A189)","v":1}]
["GILANG RIZKY MUSTOFA","17.11.0191",{"$f":"COUNTIF(Sheet1!$A$6:$AI$111,Sheet3!A190)","v":1}]
["FAISAL LUTFI HAKIM","17.11.0192",{"$f":"COUNTIF(Sheet1!$A$6:$AI$111,Sheet3!A191)","v":1}]
["ANDRIANUS AGUNG NUGROHO","17.11.0193",{"$f":"COUNTIF(Sheet1!$A$6:$AI$111,Sheet3!A192)","v":1}]
["ADITYA DAMARJATI","17.11.0194",{"$f":"COUNTIF(Sheet1!$A$6:$AI$111,Sheet3!A193)","v":1}]
["HELMI FAKHRUDDIN","17.11.0195",{"$f":"COUNTIF(Sheet1!$A$6:$AI$111,Sheet3!A194)","v":1}]
["WILDAN MUBAROK AZZAKKI","17.11.0196",{"$f":"COUNTIF(Sheet1!$A$6:$AI$111,Sheet3!A195)","v":1}]
["MOHAMMAD SHOFYAN FAURI","17.11.0197",{"$f":"COUNTIF(Sheet1!$A$6:$AI$111,Sheet3!A196)","v":0}]
["IRAWAN BAROKAH","17.11.0198",{"$f":"COUNTIF(Sheet1!$A$6:$AI$111,Sheet3!A197)","v":1}]
["MUHAMMAD ILHAM HANAFI","17.11.0199",{"$f":"COUNTIF(Sheet1!$A$6:$AI$111,Sheet3!A198)","v":1}]
["MUHAMMAD ANDY HIDAYAT","17.11.0200",{"$f":"COUNTIF(Sheet1!$A$6:$AI$111,Sheet3!A199)","v":1}]
["IVAN SETYA AZMI","17.11.0201",{"$f":"COUNTIF(Sheet1!$A$6:$AI$111,Sheet3!A200)","v":1}]
["DEDE IRAWAN","17.11.0202",{"$f":"COUNTIF(Sheet1!$A$6:$AI$111,Sheet3!A201)","v":1}]
["GALIH AHMAD ZAKIA RAMADHAN","17.11.0203",{"$f":"COUNTIF(Sheet1!$A$6:$AI$111,Sheet3!A202)","v":1}]
["RIZKY YOGA PANGESTU","17.11.0204",{"$f":"COUNTIF(Sheet1!$A$6:$AI$111,Sheet3!A203)","v":1}]
["INDO CRIS MAXI DEMORE YAN RAMADHANI","17.11.0205",{"$f":"COUNTIF(Sheet1!$A$6:$AI$111,Sheet3!A204)","v":1}]
["M SULKHAN TAMA RAMDHANI","17.11.0206",{"$f":"COUNTIF(Sheet1!$A$6:$AI$111,Sheet3!A205)","v":1}]
["HANENDYO ANDHI GURITA","17.11.0207",{"$f":"COUNTIF(Sheet1!$A$6:$AI$111,Sheet3!A206)","v":1}]
["HASANANTO ZAKARIA","17.11.0208",{"$f":"COUNTIF(Sheet1!$A$6:$AI$111,Sheet3!A207)","v":1}]
["MUFLIH DZULFIAN","17.11.0209",{"$f":"COUNTIF(Sheet1!$A$6:$AI$111,Sheet3!A208)","v":1}]
["RAMADHAN ARIF NURBASKORO","17.11.0210",{"$f":"COUNTIF(Sheet1!$A$6:$AI$111,Sheet3!A209)","v":1}]
["MUHAMMAD MARSHAL ABDALLAH","17.11.0211",{"$f":"COUNTIF(Sheet1!$A$6:$AI$111,Sheet3!A210)","v":1}]
["AZIZ REZA DWITAMA","17.11.0212",{"$f":"COUNTIF(Sheet1!$A$6:$AI$111,Sheet3!A211)","v":1}]
["ABU RIZAL RAFSANJANI","17.11.0213",{"$f":"COUNTIF(Sheet1!$A$6:$AI$111,Sheet3!A212)","v":1}]
["EGI CAHYA GUSTI YANA","17.11.0214",{"$f":"COUNTIF(Sheet1!$A$6:$AI$111,Sheet3!A213)","v":1}]
["RICKY SUDIYANTO","17.11.0215",{"$f":"COUNTIF(Sheet1!$A$6:$AI$111,Sheet3!A214)","v":1}]
["DANI FAISAL","17.11.0216",{"$f":"COUNTIF(Sheet1!$A$6:$AI$111,Sheet3!A215)","v":1}]
["NABILA AYUNING SAFIRA","17.11.0217",{"$f":"COUNTIF(Sheet1!$A$6:$AI$111,Sheet3!A216)","v":1}]
["GALIH BAGASKORO","17.11.0218",{"$f":"COUNTIF(Sheet1!$A$6:$AI$111,Sheet3!A217)","v":1}]
["WAHYU WIDIANTO","17.11.0219",{"$f":"COUNTIF(Sheet1!$A$6:$AI$111,Sheet3!A218)","v":1}]
["RIZAL SYUKRON NUGROHO","17.11.0220",{"$f":"COUNTIF(Sheet1!$A$6:$AI$111,Sheet3!A219)","v":1}]
["AKHDAN RAHMI HANIF","17.11.0221",{"$f":"COUNTIF(Sheet1!$A$6:$AI$111,Sheet3!A220)","v":1}]
["LINTANG AYU LAILATUL JANNAH","17.11.0222",{"$f":"COUNTIF(Sheet1!$A$6:$AI$111,Sheet3!A221)","v":1}]
["DEMA ABUBAKAR","17.11.0223",{"$f":"COUNTIF(Sheet1!$A$6:$AI$111,Sheet3!A222)","v":1}]
["AGUNG SAPUTRA","17.11.0224",{"$f":"COUNTIF(Sheet1!$A$6:$AI$111,Sheet3!A223)","v":1}]
["ADE PRASETYO","17.11.0225",{"$f":"COUNTIF(Sheet1!$A$6:$AI$111,Sheet3!A224)","v":1}]
["FANDI YULIANTO","17.11.0226",{"$f":"COUNTIF(Sheet1!$A$6:$AI$111,Sheet3!A225)","v":1}]
["AGUNG BUDI PRASETYO","17.11.0227",{"$f":"COUNTIF(Sheet1!$A$6:$AI$111,Sheet3!A226)","v":1}]
["MUH. DANI MUNIF FARIN","17.11.0228",{"$f":"COUNTIF(Sheet1!$A$6:$AI$111,Sheet3!A227)","v":1}]
["ALFIAN KUKUH ADITAMA","17.11.0229",{"$f":"COUNTIF(Sheet1!$A$6:$AI$111,Sheet3!A228)","v":1}]
["HERI RAMADHAN","17.11.0230",{"$f":"COUNTIF(Sheet1!$A$6:$AI$111,Sheet3!A229)","v":1}]
["ABDURRAHMAN AL GHOFIQI","17.11.0231",{"$f":"COUNTIF(Sheet1!$A$6:$AI$111,Sheet3!A230)","v":1}]
["WINDIANINGSIH","17.11.0232",{"$f":"COUNTIF(Sheet1!$A$6:$AI$111,Sheet3!A231)","v":1}]
["ELIAS NABIL","17.11.0233",{"$f":"COUNTIF(Sheet1!$A$6:$AI$111,Sheet3!A232)","v":1}]
["WIRA SAKTI AKBAR RIYADI","17.11.0234",{"$f":"COUNTIF(Sheet1!$A$6:$AI$111,Sheet3!A233)","v":1}]
["KHAUTAL ADANI","17.11.0235",{"$f":"COUNTIF(Sheet1!$A$6:$AI$111,Sheet3!A234)","v":1}]
["ALFIAN WIDY REKSA","17.11.0236",{"$f":"COUNTIF(Sheet1!$A$6:$AI$111,Sheet3!A235)","v":1}]
["ADHI LATIEF MUKTIANA","17.11.0237",{"$f":"COUNTIF(Sheet1!$A$6:$AI$111,Sheet3!A236)","v":1}]
["KARTIKO HAYAT NUGROHO","17.11.0238",{"$f":"COUNTIF(Sheet1!$A$6:$AI$111,Sheet3!A237)","v":1}]
["BAYU SETIA AJI","17.11.0239",{"$f":"COUNTIF(Sheet1!$A$6:$AI$111,Sheet3!A238)","v":1}]
["MUHAMMAD GHOZY LATHIF","17.11.0240",{"$f":"COUNTIF(Sheet1!$A$6:$AI$111,Sheet3!A239)","v":1}]
["TEGAR PAMBUDI","17.11.0241",{"$f":"COUNTIF(Sheet1!$A$6:$AI$111,Sheet3!A240)","v":1}]
["DIMAS AJI PRASETYO","17.11.0242",{"$f":"COUNTIF(Sheet1!$A$6:$AI$111,Sheet3!A241)","v":1}]
["ADIT TRI SEPTIAWAN","17.11.0243",{"$f":"COUNTIF(Sheet1!$A$6:$AI$111,Sheet3!A242)","v":1}]
["WAHYU SURYO NUROHMAN","17.11.0244",{"$f":"COUNTIF(Sheet1!$A$6:$AI$111,Sheet3!A243)","v":1}]
["PURBO DWI ANGGORO","17.11.0245",{"$f":"COUNTIF(Sheet1!$A$6:$AI$111,Sheet3!A244)","v":1}]
["REFIANTO RIZKY CANDRA S","17.11.0246",{"$f":"COUNTIF(Sheet1!$A$6:$AI$111,Sheet3!A245)","v":1}]
["WHISNU ADAM FATHURROKHMAN","17.11.0247",{"$f":"COUNTIF(Sheet1!$A$6:$AI$111,Sheet3!A246)","v":1}]
["RIJAL AMRI MAJID","17.11.0248",{"$f":"COUNTIF(Sheet1!$A$6:$AI$111,Sheet3!A247)","v":1}]
["NUR LAELI RACHMAWATI","17.12.0001",{"$f":"COUNTIF(Sheet1!$A$6:$AI$111,Sheet3!A248)","v":1}]
["BAGAS WARDANA","17.12.0002",{"$f":"COUNTIF(Sheet1!$A$6:$AI$111,Sheet3!A249)","v":1}]
["EKY SETIAWAN","17.12.0003",{"$f":"COUNTIF(Sheet1!$A$6:$AI$111,Sheet3!A250)","v":1}]
["CANDRA NOVIAN","17.12.0005",{"$f":"COUNTIF(Sheet1!$A$6:$AI$111,Sheet3!A251)","v":1}]
["ZULFA AULIA","17.12.0006",{"$f":"COUNTIF(Sheet1!$A$6:$AI$111,Sheet3!A252)","v":1}]
["SITI KHUMAEROH","17.12.0007",{"$f":"COUNTIF(Sheet1!$A$6:$AI$111,Sheet3!A253)","v":1}]
["SIDIK BAHTIAR","17.12.0008",{"$f":"COUNTIF(Sheet1!$A$6:$AI$111,Sheet3!A254)","v":0}]
["ROFI SUSI NUR FATIMAH","17.12.0009",{"$f":"COUNTIF(Sheet1!$A$6:$AI$111,Sheet3!A255)","v":1}]
["IFHAM MAFTUKHIN","17.12.0010",{"$f":"COUNTIF(Sheet1!$A$6:$AI$111,Sheet3!A256)","v":0}]
["IFANIA OKTAVIANI PUTRI","17.12.0011",{"$f":"COUNTIF(Sheet1!$A$6:$AI$111,Sheet3!A257)","v":1}]
["ANINDYA ANGGELINA","17.12.0012",{"$f":"COUNTIF(Sheet1!$A$6:$AI$111,Sheet3!A258)","v":1}]
["YOGA EKO PUJIANTO","17.12.0013",{"$f":"COUNTIF(Sheet1!$A$6:$AI$111,Sheet3!A259)","v":1}]
["FADHLAN NUR KHAALISH","17.12.0014",{"$f":"COUNTIF(Sheet1!$A$6:$AI$111,Sheet3!A260)","v":1}]
["YASMIN BUDIWATI","17.12.0015",{"$f":"COUNTIF(Sheet1!$A$6:$AI$111,Sheet3!A261)","v":1}]
["ADE IVAN VANANI","17.12.0016",{"$f":"COUNTIF(Sheet1!$A$6:$AI$111,Sheet3!A262)","v":1}]
["AFIFUR ROHMAN ZAIN","17.12.0017",{"$f":"COUNTIF(Sheet1!$A$6:$AI$111,Sheet3!A263)","v":1}]
["AZHARI RAKHMAT BAKHTIAR","17.12.0018",{"$f":"COUNTIF(Sheet1!$A$6:$AI$111,Sheet3!A264)","v":1}]
["ILHAM HAQQI WIJAYA","17.12.0020",{"$f":"COUNTIF(Sheet1!$A$6:$AI$111,Sheet3!A265)","v":1}]
["MOCHAMMAD OBBY SYECH FRUDDIN","17.12.0021",{"$f":"COUNTIF(Sheet1!$A$6:$AI$111,Sheet3!A266)","v":1}]
["ASIF BAHRIA","17.12.0023",{"$f":"COUNTIF(Sheet1!$A$6:$AI$111,Sheet3!A267)","v":1}]
["ALDISTYA RIESTA SEKARINI","17.12.0024",{"$f":"COUNTIF(Sheet1!$A$6:$AI$111,Sheet3!A268)","v":1}]
["ARIF SUGIARTO","17.12.0025",{"$f":"COUNTIF(Sheet1!$A$6:$AI$111,Sheet3!A269)","v":1}]
["BAHAR NURRUS CHANDRA ALAMSYAH","17.12.0026",{"$f":"COUNTIF(Sheet1!$A$6:$AI$111,Sheet3!A270)","v":1}]
["DESTY SANDRA UTAMI","17.12.0027",{"$f":"COUNTIF(Sheet1!$A$6:$AI$111,Sheet3!A271)","v":1}]
["DEVANDA RIZKI RAMADHAN","17.12.0028",{"$f":"COUNTIF(Sheet1!$A$6:$AI$111,Sheet3!A272)","v":1}]
["SUCI AMALIA","17.12.0029",{"$f":"COUNTIF(Sheet1!$A$6:$AI$111,Sheet3!A273)","v":1}]
["CICI WULAN SARI","17.12.0030",{"$f":"COUNTIF(Sheet1!$A$6:$AI$111,Sheet3!A274)","v":1}]
["RETNO DWI GUSTI HENDARWESTI","17.12.0031",{"$f":"COUNTIF(Sheet1!$A$6:$AI$111,Sheet3!A275)","v":1}]
["HENDI PRADANA","17.12.0032",{"$f":"COUNTIF(Sheet1!$A$6:$AI$111,Sheet3!A276)","v":1}]
["WIDYA HANA SAFITRI","17.12.0033",{"$f":"COUNTIF(Sheet1!$A$6:$AI$111,Sheet3!A277)","v":1}]
["DEVI NURAENI","17.12.0034",{"$f":"COUNTIF(Sheet1!$A$6:$AI$111,Sheet3!A278)","v":1}]
["AMALIA WAHYU UTAMI","17.12.0035",{"$f":"COUNTIF(Sheet1!$A$6:$AI$111,Sheet3!A279)","v":1}]
["MUHAMMAD SAFRIJAL ZULMI","17.12.0037",{"$f":"COUNTIF(Sheet1!$A$6:$AI$111,Sheet3!A280)","v":1}]
["TITIN MEISAROH","17.12.0038",{"$f":"COUNTIF(Sheet1!$A$6:$AI$111,Sheet3!A281)","v":1}]
["ARJUNTORO ARDHY FERDIAN","17.12.0039",{"$f":"COUNTIF(Sheet1!$A$6:$AI$111,Sheet3!A282)","v":1}]
["REYHAN YUDHISTIRA JUNIAN","17.12.0040",{"$f":"COUNTIF(Sheet1!$A$6:$AI$111,Sheet3!A283)","v":1}]
["THESSA AYU PARTOYO","17.12.0041",{"$f":"COUNTIF(Sheet1!$A$6:$AI$111,Sheet3!A284)","v":1}]
["SEKAR ANDINI","17.12.0042",{"$f":"COUNTIF(Sheet1!$A$6:$AI$111,Sheet3!A285)","v":1}]
["RUDI ADITYA","17.12.0043",{"$f":"COUNTIF(Sheet1!$A$6:$AI$111,Sheet3!A286)","v":1}]
["KETY NOVIANTI","17.12.0044",{"$f":"COUNTIF(Sheet1!$A$6:$AI$111,Sheet3!A287)","v":1}]
["HARUN SUFAHMI","17.12.0045",{"$f":"COUNTIF(Sheet1!$A$6:$AI$111,Sheet3!A288)","v":1}]
["NUGROHO CHANDRA BUWONO","17.12.0046",{"$f":"COUNTIF(Sheet1!$A$6:$AI$111,Sheet3!A289)","v":1}]
["MUHAMMAD IKHSAN NURDIN","17.12.0047",{"$f":"COUNTIF(Sheet1!$A$6:$AI$111,Sheet3!A290)","v":1}]
["M.FIQIH FADLI ILMAWAN","17.12.0048",{"$f":"COUNTIF(Sheet1!$A$6:$AI$111,Sheet3!A291)","v":1}]
["ULUNG BUDI HARTONO","17.12.0049",{"$f":"COUNTIF(Sheet1!$A$6:$AI$111,Sheet3!A292)","v":1}]
["FARIZ KHABIB IBROHIM","17.12.0051",{"$f":"COUNTIF(Sheet1!$A$6:$AI$111,Sheet3!A293)","v":1}]
["ZEZYA RAMADHANY KHARISMA MURTI","17.12.0052",{"$f":"COUNTIF(Sheet1!$A$6:$AI$111,Sheet3!A294)","v":1}]
["FAISAL FAUZI","17.12.0053",{"$f":"COUNTIF(Sheet1!$A$6:$AI$111,Sheet3!A295)","v":1}]
["LUSY RAHMAWAN PANGESTU","17.12.0054",{"$f":"COUNTIF(Sheet1!$A$6:$AI$111,Sheet3!A296)","v":1}]
["IRFAN FATKHURROHMAN","17.12.0055",{"$f":"COUNTIF(Sheet1!$A$6:$AI$111,Sheet3!A297)","v":1}]
["LENI SETIANI","17.12.0056",{"$f":"COUNTIF(Sheet1!$A$6:$AI$111,Sheet3!A298)","v":1}]
["ADAM AGENG WIJAYA","17.12.0057",{"$f":"COUNTIF(Sheet1!$A$6:$AI$111,Sheet3!A299)","v":1}]
["MAGHFIRA NURUL ISNAINI","17.12.0058",{"$f":"COUNTIF(Sheet1!$A$6:$AI$111,Sheet3!A300)","v":1}]
["NADILLA PUTRI UTAMI","17.12.0059",{"$f":"COUNTIF(Sheet1!$A$6:$AI$111,Sheet3!A301)","v":1}]
["MENIK PURWATI","17.12.0060",{"$f":"COUNTIF(Sheet1!$A$6:$AI$111,Sheet3!A302)","v":1}]
["TEGAR DWI RAMADHAN","17.12.0061",{"$f":"COUNTIF(Sheet1!$A$6:$AI$111,Sheet3!A303)","v":1}]
["LISMA NUR SEPTIANA","17.12.0062",{"$f":"COUNTIF(Sheet1!$A$6:$AI$111,Sheet3!A304)","v":1}]
["CHOLIVIA INTAN NUR SAFITRI","17.12.0063",{"$f":"COUNTIF(Sheet1!$A$6:$AI$111,Sheet3!A305)","v":1}]
["VERA CINDI MONARIKE","17.12.0064",{"$f":"COUNTIF(Sheet1!$A$6:$AI$111,Sheet3!A306)","v":1}]
["AULIA PUSPITA ANTARUSMARA","17.12.0065",{"$f":"COUNTIF(Sheet1!$A$6:$AI$111,Sheet3!A307)","v":1}]
["FAIZAL AMIN","17.12.0066",{"$f":"COUNTIF(Sheet1!$A$6:$AI$111,Sheet3!A308)","v":1}]
["APRILIA MELI KRISTINA","17.12.0067",{"$f":"COUNTIF(Sheet1!$A$6:$AI$111,Sheet3!A309)","v":1}]
["NABILA APRILIANTI","17.12.0068",{"$f":"COUNTIF(Sheet1!$A$6:$AI$111,Sheet3!A310)","v":1}]
["CARELL YUDHI HERNANI","17.12.0069",{"$f":"COUNTIF(Sheet1!$A$6:$AI$111,Sheet3!A311)","v":1}]
["SYAFIQ FEBRI PANGESTUNING TYAS","17.12.0070",{"$f":"COUNTIF(Sheet1!$A$6:$AI$111,Sheet3!A312)","v":1}]
["ISTI ROHAYATUN","17.12.0071",{"$f":"COUNTIF(Sheet1!$A$6:$AI$111,Sheet3!A313)","v":1}]
["RAFFI ANDIKA PRADANA","17.12.0072",{"$f":"COUNTIF(Sheet1!$A$6:$AI$111,Sheet3!A314)","v":1}]
["MA'RUF MAFTUKHIN","17.12.0073",{"$f":"COUNTIF(Sheet1!$A$6:$AI$111,Sheet3!A315)","v":1}]
["ROY KRISNA PRATAMA","17.12.0074",{"$f":"COUNTIF(Sheet1!$A$6:$AI$111,Sheet3!A316)","v":1}]
["NICO CESAR ARYANTO PRIMADANA","17.12.0075",{"$f":"COUNTIF(Sheet1!$A$6:$AI$111,Sheet3!A317)","v":1}]
["AYU DISTARIYANI SAPUTRI","17.12.0076",{"$f":"COUNTIF(Sheet1!$A$6:$AI$111,Sheet3!A318)","v":1}]
["HANA AMBAR FATIK WIBAWA","17.12.0077",{"$f":"COUNTIF(Sheet1!$A$6:$AI$111,Sheet3!A319)","v":1}]
["HASTIWI AMELIA NURAWALIAH","17.12.0078",{"$f":"COUNTIF(Sheet1!$A$6:$AI$111,Sheet3!A320)","v":1}]
["REGGY BOWO LEKSANA","17.12.0079",{"$f":"COUNTIF(Sheet1!$A$6:$AI$111,Sheet3!A321)","v":1}]
["NAILIS SYAFI'AH","17.12.0080",{"$f":"COUNTIF(Sheet1!$A$6:$AI$111,Sheet3!A322)","v":1}]
["RISKA INDAH NURANI","17.12.0081",{"$f":"COUNTIF(Sheet1!$A$6:$AI$111,Sheet3!A323)","v":1}]
["ANISA NUR FAIZAH","17.12.0082",{"$f":"COUNTIF(Sheet1!$A$6:$AI$111,Sheet3!A324)","v":1}]
["MOHAMAD AIFAN DWI WIYATAMA ANDRIAN","17.12.0083",{"$f":"COUNTIF(Sheet1!$A$6:$AI$111,Sheet3!A325)","v":1}]
["RYAN ARYANDI","17.12.0084",{"$f":"COUNTIF(Sheet1!$A$6:$AI$111,Sheet3!A326)","v":1}]
["FAISHAL ANWAR FADHILLAH","17.12.0085",{"$f":"COUNTIF(Sheet1!$A$6:$AI$111,Sheet3!A327)","v":1}]
["ERIANA ZAHROTUL FIRDAUS","17.12.0086",{"$f":"COUNTIF(Sheet1!$A$6:$AI$111,Sheet3!A328)","v":1}]
["SEPTIAN ILHAM SANTOSA","17.12.0087",{"$f":"COUNTIF(Sheet1!$A$6:$AI$111,Sheet3!A329)","v":1}]
["VITA LISTIA ANDANI","17.12.0088",{"$f":"COUNTIF(Sheet1!$A$6:$AI$111,Sheet3!A330)","v":1}]
["FATIN MUSTIKA SARI","17.12.0089",{"$f":"COUNTIF(Sheet1!$A$6:$AI$111,Sheet3!A331)","v":1}]
["ABDUL GOFUR","17.12.0090",{"$f":"COUNTIF(Sheet1!$A$6:$AI$111,Sheet3!A332)","v":0}]
["KELLY DHINA ARYANITA","17.12.0091",{"$f":"COUNTIF(Sheet1!$A$6:$AI$111,Sheet3!A333)","v":1}]
["DEADRA IVANKA NAILUFAR","17.12.0092",{"$f":"COUNTIF(Sheet1!$A$6:$AI$111,Sheet3!A334)","v":1}]
["SINGGIH SYAFRIZAL","17.12.0093",{"$f":"COUNTIF(Sheet1!$A$6:$AI$111,Sheet3!A335)","v":1}]
["DIKA NOER MUHAMAD FATAH","17.12.0094",{"$f":"COUNTIF(Sheet1!$A$6:$AI$111,Sheet3!A336)","v":1}]
["SISKA PUTRI UTAMI","17.12.0095",{"$f":"COUNTIF(Sheet1!$A$6:$AI$111,Sheet3!A337)","v":1}]
["DEPPI PUSPITASARI","17.12.0096",{"$f":"COUNTIF(Sheet1!$A$6:$AI$111,Sheet3!A338)","v":1}]
["MOHAMAD FAISAL","17.12.0097",{"$f":"COUNTIF(Sheet1!$A$6:$AI$111,Sheet3!A339)","v":1}]
["DWI MEILIANA","17.12.0098",{"$f":"COUNTIF(Sheet1!$A$6:$AI$111,Sheet3!A340)","v":1}]
["MUHAMMAD ASEP ROSYADI","17.12.0099",{"$f":"COUNTIF(Sheet1!$A$6:$AI$111,Sheet3!A341)","v":1}]
["HERAYA FITRA","17.12.0100",{"$f":"COUNTIF(Sheet1!$A$6:$AI$111,Sheet3!A342)","v":1}]
["TRI SEPTI WIDI YAANTI","17.12.0101",{"$f":"COUNTIF(Sheet1!$A$6:$AI$111,Sheet3!A343)","v":1}]
["LEIN ITA NURBAETY","17.12.0102",{"$f":"COUNTIF(Sheet1!$A$6:$AI$111,Sheet3!A344)","v":1}]
["RYAN IBNU RIZKYARDHANA","17.12.0103",{"$f":"COUNTIF(Sheet1!$A$6:$AI$111,Sheet3!A345)","v":1}]
["WAHYU ANANG SUBEKTI","17.12.0104",{"$f":"COUNTIF(Sheet1!$A$6:$AI$111,Sheet3!A346)","v":1}]
["I NYOMAN PUTHUT WIJAYA","17.12.0105",{"$f":"COUNTIF(Sheet1!$A$6:$AI$111,Sheet3!A347)","v":1}]
["MUHAMAD FAQIH RIDHO","17.12.0106",{"$f":"COUNTIF(Sheet1!$A$6:$AI$111,Sheet3!A348)","v":1}]
["DIMAS GONDO UTOMO","17.12.0107",{"$f":"COUNTIF(Sheet1!$A$6:$AI$111,Sheet3!A349)","v":1}]
["FAIZ ZURRAHMAN AS SIROZ","17.12.0108",{"$f":"COUNTIF(Sheet1!$A$6:$AI$111,Sheet3!A350)","v":1}]
["HANINDYA SEKAR PUTRI","17.12.0109",{"$f":"COUNTIF(Sheet1!$A$6:$AI$111,Sheet3!A351)","v":1}]
["ANKGRAENI KUSUMA DEWI","17.12.0110",{"$f":"COUNTIF(Sheet1!$A$6:$AI$111,Sheet3!A352)","v":1}]
["AMELIA MAWADDAH ALFATHANI","17.12.0111",{"$f":"COUNTIF(Sheet1!$A$6:$AI$111,Sheet3!A353)","v":1}]
["MALDI SAVARA HIDAYAT","17.12.0112",{"$f":"COUNTIF(Sheet1!$A$6:$AI$111,Sheet3!A354)","v":1}]
["AJI PANGESTU","17.12.0113",{"$f":"COUNTIF(Sheet1!$A$6:$AI$111,Sheet3!A355)","v":1}]
["NAAN DAYUNA","17.12.0114",{"$f":"COUNTIF(Sheet1!$A$6:$AI$111,Sheet3!A356)","v":1}]
["HANDIKA AJI SAPUTRA","17.12.0115",{"$f":"COUNTIF(Sheet1!$A$6:$AI$111,Sheet3!A357)","v":1}]
["ELFARIANI MIFTAKHUL JANAH","17.12.0116",{"$f":"COUNTIF(Sheet1!$A$6:$AI$111,Sheet3!A358)","v":1}]
["IVAN ZAKA MUBAROK","17.12.0117",{"$f":"COUNTIF(Sheet1!$A$6:$AI$111,Sheet3!A359)","v":1}]
["AMELIA PUTRIYANI","17.12.0118",{"$f":"COUNTIF(Sheet1!$A$6:$AI$111,Sheet3!A360)","v":1}]
["ASRIL FAUZI NURHAKIM","17.12.0119",{"$f":"COUNTIF(Sheet1!$A$6:$AI$111,Sheet3!A361)","v":1}]
["ERADIKA REZA LUTFIANSYAH","17.12.0120",{"$f":"COUNTIF(Sheet1!$A$6:$AI$111,Sheet3!A362)","v":1}]
["BUDI KURNIAWAN","17.12.0121",{"$f":"COUNTIF(Sheet1!$A$6:$AI$111,Sheet3!A363)","v":1}]
["ESA DAMAYANTI","17.12.0122",{"$f":"COUNTIF(Sheet1!$A$6:$AI$111,Sheet3!A364)","v":1}]
["FARRIS AMRULLAH","17.12.0123",{"$f":"COUNTIF(Sheet1!$A$6:$AI$111,Sheet3!A365)","v":1}]