{"text_format":"3","workbook":"xlsx","n_sheets":2,"sheets":["schedulee","Per Dosen"],"not_rendered":{"external_links":1,"defined_names":2},"read":"whole","date_system":"1900"}

{"sheet":"schedulee","index":0,"n_rows":179,"n_cols":8,"rows_kept":179,"merged":[[0,0,0,7],[1,0,1,7],[5,0,28,0],[30,0,53,0],[55,0,78,0],[80,0,103,0],[105,0,128,0],[130,0,153,0],[155,0,178,0]]}
["JADWAL PERKULIAHAN SEMESTER PENDEK STMIK AMIKOM PURWOKERTO"]
["            SEMESTER GENAP TAHUN AKADEMIK 2017/2018"]
[]
["MINGGU I"]
["HARI","RUANG","07.00-08.40","08.50-10.30","10.40-12.20","12.30-14.10","14.20-16.00","16.15-17.55"]
["Senin, 3 September","R.2.1",null,"TBI Kel 1 (Chendri)","GCC (Chendri)","Algoritma dan Struktur Data (Ito)","Implementasi dan Pengujian Perangkat Lunak (Ito)"]
[null,"R.2.2",null,"Desain dan Manajemen Bisnis (Eka)","Statistik Probabilitas (Eka)","TBI Kel 2 (Kuat)","Pembelajaran Mesin Kel 2 (Kuat)"]
[null,"R.2.3",null," SPK (Luzi)","Pemrograman .Net (Luzi)","Arsitektur dan Organisasi Komputer ( Abednego)","PV I (Andik)"]
[null,"R.2.4",null,"Aljabar Linear dan Matriks (Chyntia)","MPPL (Chyntia)","Statistik Probabilitas Kel 1 (Desty)","Aplikasi Komputer (Dwi)"]
[null,"R.3.1",null,"Sistem Operasi (Abednego)","RPL (Abednego)","Kriptografi (Imron)","Visualisasi 3D (Anugrah)"]
[null,"R.3.2",null,"Teori Graf  Kel 1 (Abdul Azis)","Pemrograman Basis Data (Abdul Azis)","Pemrograman Mobile 2 (Andik)","Interpersonal Skill (Akto)"]
[null,"R.3.3",null,"Etika Profesi SI (Akto)","Pembelajaran Mesin Kel 3 (Imron)","Seni Budaya Banyumasan (Akto)","Game Design(Aulia)"]
[null,"R.3.4",null,"CAIS (Agung)","Audit Tata Kelola TI (Agung)","Ilmu Komputasi (Agung)","Logika Matematika (Bambang)"]
[null,"R.3.5",null,"Teori Graf  Kel 2 (Adam)","Teori Graf  dan Otomata (Adam)","Multimedia 3D (Anugrah)","Pengolahan Citra Digital (Dhanar)"]
[null,"R.3.6",null,"Kecerdasan Bisnis (Andi)","E-Business (Andi)","E-Business Technology (Andi)","ERM (Fiby)"]
[null,"R.3.7",null,"Visualisasi 2D (Argiyan)","Grafika Komputer (Argiyan)","Metopel Kel 1 (Arief Adhy)","Pemrograman Game Mobile (Hellik)"]
[null,"R.3.8",null,"Logika dan Sistem Digital (Agus)","Mikroprosesor (Agus)","Multimedia (Aulia)","Semantic Web (Irfan)"]
[null,"R.3.9",null,"Teori Otomata (Bagus)","Teori Graf  Kel 3 (Bagus)","Pembelajaran Mesin Kel 1 (Bambang)"]
[null,"R.4.1",null,"PBO Kel 1 ( Debby)","Pengenalan Sistem Informasi( Debby)","Perancangan Multimedia (Dhanar)"]
[null,"R.4.2",null,"IMK (Dwi)","SIM (Dwi)","ISEP (Fiby)"]
[null,"R.4.3",null,"PBO (Gustin)","ANSBO (Gustin)","Animasi Komputer (Hellik)"]
[null,"R.4.4",null,"Representasi dan Penalaran Kel 1 (Hendra)","Bahasa Assembly (Hendra)","Pemrograman Logik dan Semantik (Irfan)"]
[null,"LAB. 1"]
[null,"LAB. 2"]
[null,"LAB. 3"]
[null,"LAB. 4"]
[null,"LAB. 5"]
[null,"LAB. 6"]
[null,"LAB. 7"]
["HARI","RUANG","07.00-08.40","08.50-10.30","10.40-12.20","12.30-14.10","14.20-16.00","16.15-17.55"]
["Selasa, 4 September","R.2.1",null,"TBI Kel 1 (Chendri)","GCC (Chendri)","Algoritma dan Struktur Data (Ito)","Implementasi dan Pengujian Perangkat Lunak (Ito)"]
[null,"R.2.2",null,"Desain dan Manajemen Bisnis (Eka)","Statistik Probabilitas (Eka)","TBI Kel 2 (Kuat)","Pembelajaran Mesin Kel 2 (Kuat)"]
[null,"R.2.3",null," SPK (Luzi)","Pemrograman .Net (Luzi)","Arsitektur dan Organisasi Komputer ( Abednego)","PV I (Andik)"]
[null,"R.2.4",null,"Aljabar Linear dan Matriks (Chyntia)","MPPL (Chyntia)","Statistik Probabilitas Kel 1 (Desty)","Aplikasi Komputer (Dwi)"]
[null,"R.3.1",null,"Sistem Operasi (Abednego)","RPL (Abednego)","Kriptografi (Imron)","Visualisasi 3D (Anugrah)"]
[null,"R.3.2",null,"Teori Graf  Kel 1 (Abdul Azis)","Pemrograman Basis Data (Abdul Azis)","Pemrograman Mobile 2 (Andik)","Interpersonal Skill (Akto)"]
[null,"R.3.3",null,"Etika Profesi SI (Akto)","Pembelajaran Mesin Kel 3 (Imron)","Seni Budaya Banyumasan (Akto)","Game Design(Aulia)"]
[null,"R.3.4",null,"CAIS (Agung)","Audit Tata Kelola TI (Agung)","Ilmu Komputasi (Agung)","Logika Matematika (Bambang)"]
[null,"R.3.5",null,"Teori Graf  Kel 2 (Adam)","Teori Graf  dan Otomata (Adam)","Multimedia 3D (Anugrah)","Pengolahan Citra Digital (Dhanar)"]
[null,"R.3.6",null,"Kecerdasan Bisnis (Andi)","E-Business (Andi)","E-Business Technology (Andi)","ERM (Fiby)"]
[null,"R.3.7",null,"Visualisasi 2D (Argiyan)","Grafika Komputer (Argiyan)","Metopel Kel 1 (Arief Adhy)","Pemrograman Game Mobile (Hellik)"]
[null,"R.3.8",null,"Logika dan Sistem Digital (Agus)","Mikroprosesor (Agus)","Multimedia (Aulia)","Semantic Web (Irfan)"]
[null,"R.3.9",null,"Teori Otomata (Bagus)","Teori Graf  Kel 3 (Bagus)","Pembelajaran Mesin Kel 1 (Bambang)"]
[null,"R.4.1",null,"PBO Kel 1 ( Debby)","Pengenalan Sistem Informasi( Debby)","Perancangan Multimedia (Dhanar)"]
[null,"R.4.2",null,"IMK (Dwi)","SIM (Dwi)","ISEP (Fiby)"]
[null,"R.4.3",null,"PBO  (Gustin)","ANSBO (Gustin)","Animasi Komputer (Hellik)"]
[null,"R.4.4",null,"Representasi dan Penalaran Kel 1 (Hendra)","Bahasa Assembly (Hendra)","Pemrograman Logik dan Semantik (Irfan)"]
[null,"LAB. 1"]
[null,"LAB. 2"]
[null,"LAB. 3"]
[null,"LAB. 4"]
[null,"LAB. 5"]
[null,"LAB. 6"]
[null,"LAB. 7"]
["HARI","RUANG","07.00-08.40","08.50-10.30","10.40-12.20","12.30-14.10","14.20-16.00","16.15-17.55"]
["Rabu, 5 September","R.2.1",null,"TBI Kel 1 (Chendri)","GCC (Chendri)","Algoritma dan Struktur Data (Ito)","Implementasi dan Pengujian Perangkat Lunak (Ito)"]
[null,"R.2.2",null,"Desain dan Manajemen Bisnis (Eka)","Statistik Probabilitas (Eka)","TBI Kel 2 (Kuat)","Pembelajaran Mesin Kel 2 (Kuat)"]
[null,"R.2.3",null," SPK (Luzi)","Pemrograman .Net (Luzi)","Arsitektur dan Organisasi Komputer ( Abednego)","PV I (Andik)"]
[null,"R.2.4",null,"Aljabar Linear dan Matriks (Chyntia)","MPPL (Chyntia)","Statistik Probabilitas Kel 1 (Desty)","Aplikasi Komputer (Dwi)"]
[null,"R.3.1",null,"Sistem Operasi (Abednego)","RPL (Abednego)","Kriptografi (Imron)","Visualisasi 3D (Anugrah)"]
[null,"R.3.2",null,"Teori Graf  Kel 1 (Abdul Azis)","Pemrograman Basis Data (Abdul Azis)","Pemrograman Mobile 2 (Andik)","Interpersonal Skill (Akto)"]
[null,"R.3.3",null,"Etika Profesi SI (Akto)","Pembelajaran Mesin Kel 3 (Imron)","Seni Budaya Banyumasan (Akto)","Game Design(Aulia)"]
[null,"R.3.4",null,"CAIS (Agung)","Audit Tata Kelola TI (Agung)","Ilmu Komputasi (Agung)","Logika Matematika (Bambang)"]
[null,"R.3.5",null,"Teori Graf  Kel 2 (Adam)","Teori Graf  dan Otomata (Adam)","Multimedia 3D (Anugrah)","Pengolahan Citra Digital (Dhanar)"]
[null,"R.3.6",null,"Kecerdasan Bisnis (Andi)","E-Business (Andi)","E-Business Technology (Andi)","ERM (Fiby)"]
[null,"R.3.7",null,"Visualisasi 2D (Argiyan)","Grafika Komputer (Argiyan)","Metopel Kel 1 (Arief Adhy)","Pemrograman Game Mobile (Hellik)"]
[null,"R.3.8",null,"Logika dan Sistem Digital (Agus)","Mikroprosesor (Agus)","Multimedia (Aulia)","Semantic Web (Irfan)"]
[null,"R.3.9",null,"Teori Otomata (Bagus)","Teori Graf  Kel 3 (Bagus)","Pembelajaran Mesin Kel 1 (Bambang)"]
[null,"R.4.1",null,"PBO Kel 1 ( Debby)","Pengenalan Sistem Informasi( Debby)","Perancangan Multimedia (Dhanar)"]
[null,"R.4.2",null,"IMK (Dwi)","SIM (Dwi)","ISEP (Fiby)"]
[null,"R.4.3",null,"PBO  (Gustin)","ANSBO (Gustin)","Animasi Komputer (Hellik)"]
[null,"R.4.4",null,"Representasi dan Penalaran Kel 1 (Hendra)","Bahasa Assembly (Hendra)","Pemrograman Logik dan Semantik (Irfan)"]
[null,"LAB. 1"]
[null,"LAB. 2"]
[null,"LAB. 3"]
[null,"LAB. 4"]
[null,"LAB. 5"]
[null,"LAB. 6"]
[null,"LAB. 7"]
["HARI","RUANG","07.00-08.40","08.50-10.30","10.40-12.20","12.30-14.10","14.20-16.00","16.15-17.55"]
["Sabtu, 17 Maret","R.2.1"]
[null,"R.2.2"]
[null,"R.2.3"]
[null,"R.2.4"]
[null,"R.3.1"]
[null,"R.3.2"]
[null,"R.3.3"]
[null,"R.3.4"]
[null,"R.3.5"]
[null,"R.3.6"]
[null,"R.3.7"]
[null,"R.3.8"]
[null,"R.3.9"]
[null,"R.4.1"]
[null,"R.4.2"]
[null,"R.4.3"]
[null,"R.4.4"]
[null,"LAB. 1"]
[null,"LAB. 2"]
[null,"LAB. 3"]
[null,"LAB. 4"]
[null,"LAB. 5"]
[null,"LAB. 6"]
[null,"LAB. 7"]
["HARI","RUANG","07.00-08.40","08.50-10.30","10.40-12.20","12.30-14.10","14.20-16.00","16.15-17.55"]
["Kamis, 6 September","R.2.1",null,"Teori Sistem Informasi (Ika)","Pengantar Teknologi Informasi (Ika)","Pemrograman Mobile (Nandang)","Struktur Data (Nandang)"]
[null,"R.2.2",null,"Digital Forensic (Didit)","IT Forensic (Didit)","IT Ethics, Regulation and Cyber Law (Didit)","Pengenalan HS (Didit)"]
[null,"R.2.3",null,"Statistik Probabilitas Kel 2 (Muliasari)","Bahasa Indonesia (Muliasari)","Sikap Mental Amikom (Prayoga)","Etika Profesi (Prayoga)"]
[null,"R.2.4",null,"Kepribadian Manajerial (Rahman)","Kepemimpinan (Rahman)","Sistem Operasi Kel 2 (Prima)","PV II (Prima)"]
[null,"R.3.1",null,"Arsitektur Keamanan dan Sistem Administrator (Awiet)","Pengantar Manajemen (Prayoga)","Tata Kelola TI (Awiet)","Keamanan Informasi dan Jaringan (Awiet)"]
[null,"R.3.2",null,"Knowledge Management (Puji)","Technopreneur (Puji)","Pendidikan Agama (Shodiq)"]
[null,"R.3.3",null,"Infrastruktur Teknologi Informasi (Ranggi)","Strategy and Policy of IS (Ranggi)",null,"Perancangan Film 3D (Sita)"]
[null,"R.3.4",null,"Jaringan Komputer (Waluyo)","Keamanan Sistem Informasi (Waluyo)","Analisis Kinerja Sistem (Sarmini)","Pemrograman Client Server (Sulis)"]
[null,"R.3.5",null,"Pemrograman Framework Web (Rizki W)","Pemrograman Web (Rizki W)","Pemrograman Game (Sita)","Pendidikan Anti Korupsi (Taqwa)"]
[null,"R.3.6",null,"ANSI (Sarmini)","Algoritma dan Pemrograman (Sarmini)","PBO Kel 2 (Sulis)","Representasi dan Penalaran Kel 2 (Tarwoto)"]
[null,"R.3.7",null,"Matematika Diskret (Septi)","Sturktur Diskret (Septi)","Pendidikan Pancasila dan Kewarganegaraan (Taqwa)","Manajemen Bisnis (Yusyida)"]
[null,"R.3.8",null,"Dasar-Dasar Pengembangan PL (Taqwa)","Cloud Computing (Taqwa)","Arsitektur Enterprise (Tarwoto)"]
[null,"R.3.9",null,"Sistem Terdistribusi (Toni)","Representasi dan Penalaran (Toni)","Data Mining dan Data Wareouse (Tri)"]
[null,"R.4.1",null,"Kalkulus 1 (Uswatun)","Kalkulus 2 (Uswatun)","Pemrosesan Bahasa Alami (Wiga)"]
[null,"R.4.2",null,"Representasi dan Penalaran Kel 3 (Wiga)","Pembelajaran Mesin Kel 4 (Wiga)","Metopel Kel 2 (Yusmedi)"]
[null,"R.4.3",null,"SMBD/SBD (Yuli)","Bahasa Inggris 1 (Zulia)","Bahasa Inggris 2 (Zulia)"]
[null,"R.4.4",null,"Digital Marketing (Zanuar)","PPSI (Zanuar)","E-Business Concept & Design (Zanuar)"]
[null,"LAB. 1"]
[null,"LAB. 2"]
[null,"LAB. 3"]
[null,"LAB. 4"]
[null,"LAB. 5"]
[null,"LAB. 6"]
[null,"LAB. 7"]
["HARI","RUANG","07.00-08.40","08.50-10.30","10.40-12.20","12.30-14.10","14.20-16.00","16.15-17.55"]
["Jum'at, 7 September","R.2.1",null,"Teori Sistem Informasi (Ika)","Pengantar Teknologi Informasi (Ika)","Pemrograman Mobile (Nandang)","Struktur Data (Nandang)"]
[null,"R.2.2",null,"Digital Forensic (Didit)","IT Forensic (Didit)","IT Ethics, Regulation and Cyber Law (Didit)","Pengenalan HS (Didit)"]
[null,"R.2.3",null,"Statistik Probabilitas Kel 2 (Muliasari)","Bahasa Indonesia (Muliasari)","Sikap Mental Amikom (Prayoga)","Etika Profesi (Prayoga)"]
[null,"R.2.4",null,"Kepribadian Manajerial (Rahman)","Kepemimpinan (Rahman)","Sistem Operasi Kel 2 (Prima)","PV II (Prima)"]
[null,"R.3.1",null,"Arsitektur Keamanan dan Sistem Administrator (Awiet)","Pengantar Manajemen (Prayoga)","Tata Kelola TI (Awiet)","Keamanan Informasi dan Jaringan (Awiet)"]
[null,"R.3.2",null,"Knowledge Management (Puji)","Technopreneur (Puji)","Pendidikan Agama (Shodiq)"]
[null,"R.3.3",null,"Infrastruktur Teknologi Informasi (Ranggi)","Strategy and Policy of IS (Ranggi)",null,"Perancangan Film 3D (Sita)"]
[null,"R.3.4",null,"Jaringan Komputer (Waluyo)","Keamanan Sistem Informasi (Waluyo)","Analisis Kinerja Sistem (Sarmini)","Pemrograman Client Server (Sulis)"]
[null,"R.3.5",null,"Pemrograman Framework Web (Rizki W)","Pemrograman Web (Rizki W)","Pemrograman Game (Sita)","Pendidikan Anti Korupsi (Taqwa)"]
[null,"R.3.6",null,"ANSI (Sarmini)","Algoritma dan Pemrograman (Sarmini)","PBO Kel 2 (Sulis)","Representasi dan Penalaran Kel 2 (Tarwoto)"]
[null,"R.3.7",null,"Matematika Diskret (Septi)","Sturktur Diskret (Septi)","Pendidikan Pancasila dan Kewarganegaraan (Taqwa)","Manajemen Bisnis (Yusyida)"]
[null,"R.3.8",null,"Dasar-Dasar Pengembangan PL (Taqwa)","Cloud Computing (Taqwa)","Arsitektur Enterprise (Tarwoto)"]
[null,"R.3.9",null,"Sistem Terdistribusi (Toni)","Representasi dan Penalaran (Toni)","Data Mining dan Data Wareouse (Tri)"]
[null,"R.4.1",null,"Kalkulus 1 (Uswatun)","Kalkulus 2 (Uswatun)","Pemrosesan Bahasa Alami (Wiga)"]
[null,"R.4.2",null,"Representasi dan Penalaran Kel 3 (Wiga)","Pembelajaran Mesin Kel 4 (Wiga)","Metopel Kel 2 (Yusmedi)"]
[null,"R.4.3",null,"SMBD/SBD (Yuli)","Bahasa Inggris 1 (Zulia)","Bahasa Inggris 2 (Zulia)"]
[null,"R.4.4",null,"Digital Marketing (Zanuar)","PPSI (Zanuar)","E-Business Concept & Design (Zanuar)"]
[null,"LAB. 1"]
[null,"LAB. 2"]
[null,"LAB. 3"]
[null,"LAB. 4"]
[null,"LAB. 5"]
[null,"LAB. 6"]
[null,"LAB. 7"]
["HARI","RUANG","07.00-08.40","08.50-10.30","10.40-12.20","12.30-14.10","14.20-16.00","16.15-17.55"]
["Sabtu, 8 September","R.2.1",null,"Teori Sistem Informasi (Ika)","Pengantar Teknologi Informasi (Ika)","Pemrograman Mobile (Nandang)","Struktur Data (Nandang)"]
[null,"R.2.2",null,"Digital Forensic (Didit)","IT Forensic (Didit)","IT Ethics, Regulation and Cyber Law (Didit)","Pengenalan HS (Didit)"]
[null,"R.2.3",null,"Statistik Probabilitas Kel 2 (Muliasari)","Bahasa Indonesia (Muliasari)","Sikap Mental Amikom (Prayoga)","Etika Profesi (Prayoga)"]
[null,"R.2.4",null,"Kepribadian Manajerial (Rahman)","Kepemimpinan (Rahman)","Sistem Operasi Kel 2 (Prima)","PV II (Prima)"]
[null,"R.3.1",null,"Arsitektur Keamanan dan Sistem Administrator (Awiet)","Pengantar Manajemen (Prayoga)","Tata Kelola TI (Awiet)","Keamanan Informasi dan Jaringan (Awiet)"]
[null,"R.3.2",null,"Knowledge Management (Puji)","Technopreneur (Puji)","Pendidikan Agama (Shodiq)","Perancangan Film 3D (Sita)"]
[null,"R.3.3",null,"Infrastruktur Teknologi Informasi (Ranggi)","Strategy and Policy of IS (Ranggi)","Manajemen Bisnis (Yusyida)","Pemrograman Client Server (Sulis)"]
[null,"R.3.4",null,"Jaringan Komputer (Waluyo)","Keamanan Sistem Informasi (Waluyo)","Analisis Kinerja Sistem (Sarmini)","Pendidikan Anti Korupsi (Taqwa)"]
[null,"R.3.5",null,"Pemrograman Framework Web (Rizki W)","Pemrograman Web (Rizki W)","Pemrograman Game (Sita)","Representasi dan Penalaran Kel 2 (Tarwoto)"]
[null,"R.3.6",null,"ANSI (Sarmini)","Algoritma dan Pemrograman (Sarmini)","PBO Kel 2 (Sulis)"]
[null,"R.3.7",null,"Matematika Diskret (Septi)","Sturktur Diskret (Septi)","Pendidikan Pancasila dan Kewarganegaraan (Taqwa)"]
[null,"R.3.8",null,"Dasar-Dasar Pengembangan PL (Taqwa)","Cloud Computing (Taqwa)","Arsitektur Enterprise (Tarwoto)"]
[null,"R.3.9",null,"Sistem Terdistribusi (Toni)","Representasi dan Penalaran (Toni)","Data Mining dan Data Wareouse (Tri)"]
[null,"R.4.1",null,"Kalkulus 1 (Uswatun)","Kalkulus 2 (Uswatun)","Pemrosesan Bahasa Alami (Wiga)"]
[null,"R.4.2",null,"Representasi dan Penalaran Kel 3 (Wiga)","Pembelajaran Mesin Kel 4 (Wiga)","Metopel Kel 2 (Yusmedi)"]
[null,"R.4.3",null,"SMBD/SBD (Yuli)","Bahasa Inggris 1 (Zulia)","Bahasa Inggris 2 (Zulia)"]
[null,"R.4.4",null,"Digital Marketing (Zanuar)","PPSI (Zanuar)","E-Business Concept & Design (Zanuar)"]
[null,"LAB. 1"]
[null,"LAB. 2"]
[null,"LAB. 3"]
[null,"LAB. 4"]
[null,"LAB. 5"]
[null,"LAB. 6"]
[null,"LAB. 7"]

{"sheet":"Per Dosen","index":1,"n_rows":259,"n_cols":7,"rows_kept":259,"merged":[[0,0,0,6],[4,1,6,1],[9,1,11,1],[13,1,15,1],[20,1,22,1],[24,1,25,1],[28,1,29,1],[30,1,34,1],[35,1,36,1],[39,1,40,1],[47,1,48,1],[55,1,56,1],[59,1,60,1],[63,1,66,1],[67,1,69,1],[73,1,75,1],[76,1,78,1],[80,1,82,1],[85,1,87,1],[90,1,91,1],[99,1,101,1],[105,1,106,1],[107,1,108,1],[119,1,121,1],[123,1,124,1],[125,1,127,1],[130,1,131,1],[136,1,138,1],[139,1,140,1],[149,1,150,1],[152,1,153,1],[156,1,157,1],[158,1,160,1],[167,1,170,1],[174,1,176,1],[178,1,180,1],[189,1,190,1],[200,1,203,1],[208,1,209,1],[212,1,215,1],[219,1,220,1],[223,1,226,1],[228,1,229,1],[231,1,232,1],[235,1,236,1],[240,1,241,1],[243,1,246,1],[248,1,249,1]]}
["Rekap SP Semester Genap 2018"]
[]
["No","Nama Dosen","Kode","Mata Kuliah","SKS","Semester","Ket"]
[1,"Sarmini, S.Kom., M.MSI ","SI201",{"$f":"IF(C4=\"\",\"\",VLOOKUP(C4,[1]Matkul!$A$2:$B$332,2,0))","v":"Algoritma dan Pemrograman"},{"$f":"IF(C4=\"\",\"\",VLOOKUP(C4,[1]Matkul!$A$2:$C$332,3,0))","v":4},{"$f":"IF(C4=\"\",\"\",VLOOKUP(C4,[1]Matkul!$A$2:$D$332,4,0))","v":1}]
[null,"Sarmini, S.Kom., M.MSI ","SI208",{"$f":"IF(C5=\"\",\"\",VLOOKUP(C5,[1]Matkul!$A$2:$B$332,2,0))","v":"Analisis dan Desain Sistem Informasi"},{"$f":"IF(C5=\"\",\"\",VLOOKUP(C5,[1]Matkul!$A$2:$C$332,3,0))","v":4},{"$f":"IF(C5=\"\",\"\",VLOOKUP(C5,[1]Matkul!$A$2:$D$332,4,0))","v":2}]
[null,null,"SI104",{"$f":"IF(C6=\"\",\"\",VLOOKUP(C6,[1]Matkul!$A$2:$B$332,2,0))","v":"Analisis dan Desain Sistem Informasi"},{"$f":"IF(C6=\"\",\"\",VLOOKUP(C6,[1]Matkul!$A$2:$C$332,3,0))","v":4},{"$f":"IF(C6=\"\",\"\",VLOOKUP(C6,[1]Matkul!$A$2:$D$332,4,0))","v":1}]
[null,null,"SI045",{"$f":"IF(C7=\"\",\"\",VLOOKUP(C7,[1]Matkul!$A$2:$B$332,2,0))","v":"Analisis Kinerja Sistem"},{"$f":"IF(C7=\"\",\"\",VLOOKUP(C7,[1]Matkul!$A$2:$C$332,3,0))","v":2},{"$f":"IF(C7=\"\",\"\",VLOOKUP(C7,[1]Matkul!$A$2:$D$332,4,0))","v":6}]
[]
[2,"Ito Setiawan, S.Kom, M.MSI","SI235",{"$f":"IF(C9=\"\",\"\",VLOOKUP(C9,[1]Matkul!$A$2:$B$332,2,0))","v":"Implementasi dan Pengujian Perangkat Lunak"},{"$f":"IF(C9=\"\",\"\",VLOOKUP(C9,[1]Matkul!$A$2:$C$332,3,0))","v":3},{"$f":"IF(C9=\"\",\"\",VLOOKUP(C9,[1]Matkul!$A$2:$D$332,4,0))","v":6}]
[null,"Ito Setiawan, S.Kom, M.MSI","TI006",{"$f":"IF(C10=\"\",\"\",VLOOKUP(C10,[1]Matkul!$A$2:$B$332,2,0))","v":"Algoritma dan Struktur Data"},{"$f":"IF(C10=\"\",\"\",VLOOKUP(C10,[1]Matkul!$A$2:$C$332,3,0))","v":4},{"$f":"IF(C10=\"\",\"\",VLOOKUP(C10,[1]Matkul!$A$2:$D$332,4,0))","v":1}]
[null,null,"IF106",{"$f":"IF(C11=\"\",\"\",VLOOKUP(C11,[1]Matkul!$A$2:$B$332,2,0))","v":"Algoritma dan Struktur Data"},{"$f":"IF(C11=\"\",\"\",VLOOKUP(C11,[1]Matkul!$A$2:$C$332,3,0))","v":3},{"$f":"IF(C11=\"\",\"\",VLOOKUP(C11,[1]Matkul!$A$2:$D$332,4,0))","v":1}]
[null,null,"SI101",{"$f":"IF(C12=\"\",\"\",VLOOKUP(C12,[1]Matkul!$A$2:$B$332,2,0))","v":"Algoritma dan Struktur Data"},{"$f":"IF(C12=\"\",\"\",VLOOKUP(C12,[1]Matkul!$A$2:$C$332,3,0))","v":4},{"$f":"IF(C12=\"\",\"\",VLOOKUP(C12,[1]Matkul!$A$2:$D$332,4,0))","v":1}]
[]
[3,"Chyntia Raras Ajeng W, S.Kom., M.Eng.","SI211",{"$f":"IF(C14=\"\",\"\",VLOOKUP(C14,[1]Matkul!$A$2:$B$332,2,0))","v":"Aljabar Linear dan Matriks"},{"$f":"IF(C14=\"\",\"\",VLOOKUP(C14,[1]Matkul!$A$2:$C$332,3,0))","v":2},{"$f":"IF(C14=\"\",\"\",VLOOKUP(C14,[1]Matkul!$A$2:$D$332,4,0))","v":2}]
[null,null,"SI128",{"$f":"IF(C15=\"\",\"\",VLOOKUP(C15,[1]Matkul!$A$2:$B$332,2,0))","v":"Aljabar Liniear dan Matriks"},{"$f":"IF(C15=\"\",\"\",VLOOKUP(C15,[1]Matkul!$A$2:$C$332,3,0))","v":2},{"$f":"IF(C15=\"\",\"\",VLOOKUP(C15,[1]Matkul!$A$2:$D$332,4,0))","v":4}]
[null,null,"IF113",{"$f":"IF(C16=\"\",\"\",VLOOKUP(C16,[1]Matkul!$A$2:$B$332,2,0))","v":"Aljabar Linier"},{"$f":"IF(C16=\"\",\"\",VLOOKUP(C16,[1]Matkul!$A$2:$C$332,3,0))","v":3},{"$f":"IF(C16=\"\",\"\",VLOOKUP(C16,[1]Matkul!$A$2:$D$332,4,0))","v":2}]
[null,"Chyntia Raras Ajeng W, S.Kom., M.Eng.","TI033",{"$f":"IF(C17=\"\",\"\",VLOOKUP(C17,[1]Matkul!$A$2:$B$332,2,0))","v":"Metode Pengembangan Perangkat Lunak"},{"$f":"IF(C17=\"\",\"\",VLOOKUP(C17,[1]Matkul!$A$2:$C$332,3,0))","v":3},{"$f":"IF(C17=\"\",\"\",VLOOKUP(C17,[1]Matkul!$A$2:$D$332,4,0))","v":5}]
[null,null,"IF130",{"$f":"IF(C18=\"\",\"\",VLOOKUP(C18,[1]Matkul!$A$2:$B$332,2,0))","v":"Metode Pengembangan Perangkat Lunak"},{"$f":"IF(C18=\"\",\"\",VLOOKUP(C18,[1]Matkul!$A$2:$C$332,3,0))","v":3},{"$f":"IF(C18=\"\",\"\",VLOOKUP(C18,[1]Matkul!$A$2:$D$332,4,0))","v":5}]
[]
[4,"Gustin Setyaningsih, S.Kom.,M.MSI","SI111",{"$f":"IF(C20=\"\",\"\",VLOOKUP(C20,[1]Matkul!$A$2:$B$332,2,0))","v":"Analisa Dan Desain Sistem Berorientasi Objek"},{"$f":"IF(C20=\"\",\"\",VLOOKUP(C20,[1]Matkul!$A$2:$C$332,3,0))","v":3},{"$f":"IF(C20=\"\",\"\",VLOOKUP(C20,[1]Matkul!$A$2:$D$332,4,0))","v":2}]
[null,"Gustin Setyaningsih, S.Kom.,M.MSI","TI009",{"$f":"IF(C21=\"\",\"\",VLOOKUP(C21,[1]Matkul!$A$2:$B$332,2,0))","v":"Pemrograman Berorientasi Objek"},{"$f":"IF(C21=\"\",\"\",VLOOKUP(C21,[1]Matkul!$A$2:$C$332,3,0))","v":4},{"$f":"IF(C21=\"\",\"\",VLOOKUP(C21,[1]Matkul!$A$2:$D$332,4,0))","v":2}]
[null,null,"SI112",{"$f":"IF(C22=\"\",\"\",VLOOKUP(C22,[1]Matkul!$A$2:$B$332,2,0))","v":"Pemrograman Berorientasi Objek"},{"$f":"IF(C22=\"\",\"\",VLOOKUP(C22,[1]Matkul!$A$2:$C$332,3,0))","v":3},{"$f":"IF(C22=\"\",\"\",VLOOKUP(C22,[1]Matkul!$A$2:$D$332,4,0))","v":2}]
[null,null,"SI214",{"$f":"IF(C23=\"\",\"\",VLOOKUP(C23,[1]Matkul!$A$2:$B$332,2,0))","v":"Pemrograman Berorientasi Objek"},{"$f":"IF(C23=\"\",\"\",VLOOKUP(C23,[1]Matkul!$A$2:$C$332,3,0))","v":3},{"$f":"IF(C23=\"\",\"\",VLOOKUP(C23,[1]Matkul!$A$2:$D$332,4,0))","v":3}]
[]
[5,"Hellik Hermawan, M. Kom.","TI055",{"$f":"IF(C25=\"\",\"\",VLOOKUP(C25,[1]Matkul!$A$2:$B$332,2,0))","v":"Animasi Komputer"},{"$f":"IF(C25=\"\",\"\",VLOOKUP(C25,[1]Matkul!$A$2:$C$332,3,0))","v":4},{"$f":"IF(C25=\"\",\"\",VLOOKUP(C25,[1]Matkul!$A$2:$D$332,4,0))","v":6}]
[null,null,"IF150",{"$f":"IF(C26=\"\",\"\",VLOOKUP(C26,[1]Matkul!$A$2:$B$332,2,0))","v":"Animasi Komputer"},{"$f":"IF(C26=\"\",\"\",VLOOKUP(C26,[1]Matkul!$A$2:$C$332,3,0))","v":4},{"$f":"IF(C26=\"\",\"\",VLOOKUP(C26,[1]Matkul!$A$2:$D$332,4,0))","v":6}]
[null,"Hellik Hermawan, M. Kom.","IF148",{"$f":"IF(C27=\"\",\"\",VLOOKUP(C27,[1]Matkul!$A$2:$B$332,2,0))","v":"Pemrograman Game Mobile"},{"$f":"IF(C27=\"\",\"\",VLOOKUP(C27,[1]Matkul!$A$2:$C$332,3,0))","v":4},{"$f":"IF(C27=\"\",\"\",VLOOKUP(C27,[1]Matkul!$A$2:$D$332,4,0))","v":6}]
[]
[6,"Dwi Krisbiantoro, M.Kom.","SI207",{"$f":"IF(C29=\"\",\"\",VLOOKUP(C29,[1]Matkul!$A$2:$B$332,2,0))","v":"Aplikasi Komputer"},{"$f":"IF(C29=\"\",\"\",VLOOKUP(C29,[1]Matkul!$A$2:$C$332,3,0))","v":3},{"$f":"IF(C29=\"\",\"\",VLOOKUP(C29,[1]Matkul!$A$2:$D$332,4,0))","v":1}]
[null,null,"SI107",{"$f":"IF(C30=\"\",\"\",VLOOKUP(C30,[1]Matkul!$A$2:$B$332,2,0))","v":"Aplikasi Komputer"},{"$f":"IF(C30=\"\",\"\",VLOOKUP(C30,[1]Matkul!$A$2:$C$332,3,0))","v":3},{"$f":"IF(C30=\"\",\"\",VLOOKUP(C30,[1]Matkul!$A$2:$D$332,4,0))","v":1}]
[null,"Dwi Krisbiantoro, M.Kom.","SI222",{"$f":"IF(C31=\"\",\"\",VLOOKUP(C31,[1]Matkul!$A$2:$B$332,2,0))","v":"Interaksi Manusia dan Komputer"},{"$f":"IF(C31=\"\",\"\",VLOOKUP(C31,[1]Matkul!$A$2:$C$332,3,0))","v":3},{"$f":"IF(C31=\"\",\"\",VLOOKUP(C31,[1]Matkul!$A$2:$D$332,4,0))","v":4}]
[null,null,"ST046",{"$f":"IF(C32=\"\",\"\",VLOOKUP(C32,[1]Matkul!$A$2:$B$332,2,0))","v":"Interaksi Manusia dan Komputer"},{"$f":"IF(C32=\"\",\"\",VLOOKUP(C32,[1]Matkul!$A$2:$C$332,3,0))","v":2},{"$f":"IF(C32=\"\",\"\",VLOOKUP(C32,[1]Matkul!$A$2:$D$332,4,0))","v":6}]
[null,null,"IF128",{"$f":"IF(C33=\"\",\"\",VLOOKUP(C33,[1]Matkul!$A$2:$B$332,2,0))","v":"Interaksi Manusia dan Komputer"},{"$f":"IF(C33=\"\",\"\",VLOOKUP(C33,[1]Matkul!$A$2:$C$332,3,0))","v":2},{"$f":"IF(C33=\"\",\"\",VLOOKUP(C33,[1]Matkul!$A$2:$D$332,4,0))","v":5}]
[null,null,"TI031",{"$f":"IF(C34=\"\",\"\",VLOOKUP(C34,[1]Matkul!$A$2:$B$332,2,0))","v":"Interaksi Manusia dan Komputer"},{"$f":"IF(C34=\"\",\"\",VLOOKUP(C34,[1]Matkul!$A$2:$C$332,3,0))","v":2},{"$f":"IF(C34=\"\",\"\",VLOOKUP(C34,[1]Matkul!$A$2:$D$332,4,0))","v":5}]
[null,null,"SI122",{"$f":"IF(C35=\"\",\"\",VLOOKUP(C35,[1]Matkul!$A$2:$B$332,2,0))","v":"Interaksi Manusia dan Komputer"},{"$f":"IF(C35=\"\",\"\",VLOOKUP(C35,[1]Matkul!$A$2:$C$332,3,0))","v":3},{"$f":"IF(C35=\"\",\"\",VLOOKUP(C35,[1]Matkul!$A$2:$D$332,4,0))","v":4}]
[null,"Dwi Krisbiantoro, M.Kom.","TI042",{"$f":"IF(C36=\"\",\"\",VLOOKUP(C36,[1]Matkul!$A$2:$B$332,2,0))","v":"Sistem Informasi Manajemen"},{"$f":"IF(C36=\"\",\"\",VLOOKUP(C36,[1]Matkul!$A$2:$C$332,3,0))","v":2},{"$f":"IF(C36=\"\",\"\",VLOOKUP(C36,[1]Matkul!$A$2:$D$332,4,0))","v":6}]
[null,null,"SI121",{"$f":"IF(C37=\"\",\"\",VLOOKUP(C37,[1]Matkul!$A$2:$B$332,2,0))","v":"Sistem Informasi Manajemen"},{"$f":"IF(C37=\"\",\"\",VLOOKUP(C37,[1]Matkul!$A$2:$C$332,3,0))","v":3},{"$f":"IF(C37=\"\",\"\",VLOOKUP(C37,[1]Matkul!$A$2:$D$332,4,0))","v":3}]
[]
[7,"Abednego Dwi Septiadi, M.Kom. ","IF107",{"$f":"IF(C39=\"\",\"\",VLOOKUP(C39,[1]Matkul!$A$2:$B$332,2,0))","v":"Arsitektur dan Organisasi Komputer"},{"$f":"IF(C39=\"\",\"\",VLOOKUP(C39,[1]Matkul!$A$2:$C$332,3,0))","v":3},{"$f":"IF(C39=\"\",\"\",VLOOKUP(C39,[1]Matkul!$A$2:$D$332,4,0))","v":1}]
[null,"Abednego Dwi Septiadi, M.Kom. ","TI027",{"$f":"IF(C40=\"\",\"\",VLOOKUP(C40,[1]Matkul!$A$2:$B$332,2,0))","v":"Rekayasa Perangkat Lunak"},{"$f":"IF(C40=\"\",\"\",VLOOKUP(C40,[1]Matkul!$A$2:$C$332,3,0))","v":2},{"$f":"IF(C40=\"\",\"\",VLOOKUP(C40,[1]Matkul!$A$2:$D$332,4,0))","v":4}]
[null,null,"IF125",{"$f":"IF(C41=\"\",\"\",VLOOKUP(C41,[1]Matkul!$A$2:$B$332,2,0))","v":"Rekayasa Perangkat Lunak"},{"$f":"IF(C41=\"\",\"\",VLOOKUP(C41,[1]Matkul!$A$2:$C$332,3,0))","v":2},{"$f":"IF(C41=\"\",\"\",VLOOKUP(C41,[1]Matkul!$A$2:$D$332,4,0))","v":4}]
[null,"Abednego Dwi Septiadi, M.Kom. ","SI210",{"$f":"IF(C42=\"\",\"\",VLOOKUP(C42,[1]Matkul!$A$2:$B$332,2,0))","v":"Sistem Operasi"},{"$f":"IF(C42=\"\",\"\",VLOOKUP(C42,[1]Matkul!$A$2:$C$332,3,0))","v":3},{"$f":"IF(C42=\"\",\"\",VLOOKUP(C42,[1]Matkul!$A$2:$D$332,4,0))","v":2},"Kel 1"]
[]
[8,"Tarwoto, S.Kom., M.MSI ","SI231",{"$f":"IF(C44=\"\",\"\",VLOOKUP(C44,[1]Matkul!$A$2:$B$332,2,0))","v":"Arsitektur Enterprise"},{"$f":"IF(C44=\"\",\"\",VLOOKUP(C44,[1]Matkul!$A$2:$C$332,3,0))","v":3},{"$f":"IF(C44=\"\",\"\",VLOOKUP(C44,[1]Matkul!$A$2:$D$332,4,0))","v":6}]
[null,"Tarwoto, S.Kom., M.MSI ","IF111",{"$f":"IF(C45=\"\",\"\",VLOOKUP(C45,[1]Matkul!$A$2:$B$332,2,0))","v":"Representasi dan Penalaran"},{"$f":"IF(C45=\"\",\"\",VLOOKUP(C45,[1]Matkul!$A$2:$C$332,3,0))","v":3},{"$f":"IF(C45=\"\",\"\",VLOOKUP(C45,[1]Matkul!$A$2:$D$332,4,0))","v":2},"Kel 2"]
[]
[9,"Muhamad Awiet W P, S.Kom, M.MSI","TI036",{"$f":"IF(C47=\"\",\"\",VLOOKUP(C47,[1]Matkul!$A$2:$B$332,2,0))","v":"Arsitektur Keamanan & Sistem Administrator"},{"$f":"IF(C47=\"\",\"\",VLOOKUP(C47,[1]Matkul!$A$2:$C$332,3,0))","v":3},{"$f":"IF(C47=\"\",\"\",VLOOKUP(C47,[1]Matkul!$A$2:$D$332,4,0))","v":5}]
[null,"Muhamad Awiet W P, S.Kom, M.MSI","IF133",{"$f":"IF(C48=\"\",\"\",VLOOKUP(C48,[1]Matkul!$A$2:$B$332,2,0))","v":"Keamanan Informasi dan Jaringan"},{"$f":"IF(C48=\"\",\"\",VLOOKUP(C48,[1]Matkul!$A$2:$C$332,3,0))","v":3},{"$f":"IF(C48=\"\",\"\",VLOOKUP(C48,[1]Matkul!$A$2:$D$332,4,0))","v":5}]
[null,null,"TI021",{"$f":"IF(C49=\"\",\"\",VLOOKUP(C49,[1]Matkul!$A$2:$B$332,2,0))","v":"Keamanan Jaringan"},{"$f":"IF(C49=\"\",\"\",VLOOKUP(C49,[1]Matkul!$A$2:$C$332,3,0))","v":2},{"$f":"IF(C49=\"\",\"\",VLOOKUP(C49,[1]Matkul!$A$2:$D$332,4,0))","v":3}]
[null,"Muhamad Awiet W P, S.Kom, M.MSI","SI244",{"$f":"IF(C50=\"\",\"\",VLOOKUP(C50,[1]Matkul!$A$2:$B$332,2,0))","v":"Tata Kelola Teknologi Informasi"},{"$f":"IF(C50=\"\",\"\",VLOOKUP(C50,[1]Matkul!$A$2:$C$332,3,0))","v":3},{"$f":"IF(C50=\"\",\"\",VLOOKUP(C50,[1]Matkul!$A$2:$D$332,4,0))","v":6}]
[]
[10,"Agung Prasetyo, M.Kom ","TI045",{"$f":"IF(C52=\"\",\"\",VLOOKUP(C52,[1]Matkul!$A$2:$B$332,2,0))","v":"Audit Tata Kelola IT"},{"$f":"IF(C52=\"\",\"\",VLOOKUP(C52,[1]Matkul!$A$2:$C$332,3,0))","v":2},{"$f":"IF(C52=\"\",\"\",VLOOKUP(C52,[1]Matkul!$A$2:$D$332,4,0))","v":7}]
[null,"Agung Prasetyo, M.Kom ","SI139",{"$f":"IF(C53=\"\",\"\",VLOOKUP(C53,[1]Matkul!$A$2:$B$332,2,0))","v":"Controlling and Auditing Information System"},{"$f":"IF(C53=\"\",\"\",VLOOKUP(C53,[1]Matkul!$A$2:$C$332,3,0))","v":3},{"$f":"IF(C53=\"\",\"\",VLOOKUP(C53,[1]Matkul!$A$2:$D$332,4,0))","v":6}]
[null,"Agung Prasetyo, M.Kom ","TI018",{"$f":"IF(C54=\"\",\"\",VLOOKUP(C54,[1]Matkul!$A$2:$B$332,2,0))","v":"Ilmu Komputasi"},{"$f":"IF(C54=\"\",\"\",VLOOKUP(C54,[1]Matkul!$A$2:$C$332,3,0))","v":4},{"$f":"IF(C54=\"\",\"\",VLOOKUP(C54,[1]Matkul!$A$2:$D$332,4,0))","v":3}]
[]
[11,"Hendra Marcos, S.T., M.Eng. ","IF122",{"$f":"IF(C56=\"\",\"\",VLOOKUP(C56,[1]Matkul!$A$2:$B$332,2,0))","v":"Bahasa Assembly"},{"$f":"IF(C56=\"\",\"\",VLOOKUP(C56,[1]Matkul!$A$2:$C$332,3,0))","v":3},{"$f":"IF(C56=\"\",\"\",VLOOKUP(C56,[1]Matkul!$A$2:$D$332,4,0))","v":4}]
[null,null,"TI011",{"$f":"IF(C57=\"\",\"\",VLOOKUP(C57,[1]Matkul!$A$2:$B$332,2,0))","v":"Bahasa Assembly"},{"$f":"IF(C57=\"\",\"\",VLOOKUP(C57,[1]Matkul!$A$2:$C$332,3,0))","v":3},{"$f":"IF(C57=\"\",\"\",VLOOKUP(C57,[1]Matkul!$A$2:$D$332,4,0))","v":2}]
[null,"Hendra Marcos, S.T., M.Eng. ","IF111",{"$f":"IF(C58=\"\",\"\",VLOOKUP(C58,[1]Matkul!$A$2:$B$332,2,0))","v":"Representasi dan Penalaran"},{"$f":"IF(C58=\"\",\"\",VLOOKUP(C58,[1]Matkul!$A$2:$C$332,3,0))","v":3},{"$f":"IF(C58=\"\",\"\",VLOOKUP(C58,[1]Matkul!$A$2:$D$332,4,0))","v":2},"Kel 1"]
[]
[12,"Muliasari Pinilih, SE, M. Si.","TI039",{"$f":"IF(C60=\"\",\"\",VLOOKUP(C60,[1]Matkul!$A$2:$B$332,2,0))","v":"Bahasa Indonesia"},{"$f":"IF(C60=\"\",\"\",VLOOKUP(C60,[1]Matkul!$A$2:$C$332,3,0))","v":2},{"$f":"IF(C60=\"\",\"\",VLOOKUP(C60,[1]Matkul!$A$2:$D$332,4,0))","v":6}]
[null,null,"AP201",{"$f":"IF(C61=\"\",\"\",VLOOKUP(C61,[1]Matkul!$A$2:$B$332,2,0))","v":"Bahasa Indonesia"},{"$f":"IF(C61=\"\",\"\",VLOOKUP(C61,[1]Matkul!$A$2:$C$332,3,0))","v":3},{"$f":"IF(C61=\"\",\"\",VLOOKUP(C61,[1]Matkul!$A$2:$D$332,4,0))","v":2}]
[null,"Muliasari Pinilih, SE, M. Si.","IF110",{"$f":"IF(C62=\"\",\"\",VLOOKUP(C62,[1]Matkul!$A$2:$B$332,2,0))","v":"Statistik Probabilitas"},{"$f":"IF(C62=\"\",\"\",VLOOKUP(C62,[1]Matkul!$A$2:$C$332,3,0))","v":3},{"$f":"IF(C62=\"\",\"\",VLOOKUP(C62,[1]Matkul!$A$2:$D$332,4,0))","v":2},"Kel 2"]
[]
[13,"Zulia Karini, S.S., M.Hum.","SI146",{"$f":"IF(C64=\"\",\"\",VLOOKUP(C64,[1]Matkul!$A$2:$B$332,2,0))","v":"Bahasa Inggris"},{"$f":"IF(C64=\"\",\"\",VLOOKUP(C64,[1]Matkul!$A$2:$C$332,3,0))","v":2},{"$f":"IF(C64=\"\",\"\",VLOOKUP(C64,[1]Matkul!$A$2:$D$332,4,0))","v":6}]
[null,null,"SI219",{"$f":"IF(C65=\"\",\"\",VLOOKUP(C65,[1]Matkul!$A$2:$B$332,2,0))","v":"Bahasa Inggris 1"},{"$f":"IF(C65=\"\",\"\",VLOOKUP(C65,[1]Matkul!$A$2:$C$332,3,0))","v":2},{"$f":"IF(C65=\"\",\"\",VLOOKUP(C65,[1]Matkul!$A$2:$D$332,4,0))","v":3}]
[null,null,"TI023",{"$f":"IF(C66=\"\",\"\",VLOOKUP(C66,[1]Matkul!$A$2:$B$332,2,0))","v":"Bahasa Inggris I"},{"$f":"IF(C66=\"\",\"\",VLOOKUP(C66,[1]Matkul!$A$2:$C$332,3,0))","v":2},{"$f":"IF(C66=\"\",\"\",VLOOKUP(C66,[1]Matkul!$A$2:$D$332,4,0))","v":3}]
[null,null,"IF101",{"$f":"IF(C67=\"\",\"\",VLOOKUP(C67,[1]Matkul!$A$2:$B$332,2,0))","v":"Bahasa Inggris I"},{"$f":"IF(C67=\"\",\"\",VLOOKUP(C67,[1]Matkul!$A$2:$C$332,3,0))","v":2},{"$f":"IF(C67=\"\",\"\",VLOOKUP(C67,[1]Matkul!$A$2:$D$332,4,0))","v":3}]
[null,"Zulia Karini, S.S., M.Hum.","TI028",{"$f":"IF(C68=\"\",\"\",VLOOKUP(C68,[1]Matkul!$A$2:$B$332,2,0))","v":"Bahasa Inggris II"},{"$f":"IF(C68=\"\",\"\",VLOOKUP(C68,[1]Matkul!$A$2:$C$332,3,0))","v":2},{"$f":"IF(C68=\"\",\"\",VLOOKUP(C68,[1]Matkul!$A$2:$D$332,4,0))","v":4}]
[null,null,"IF102",{"$f":"IF(C69=\"\",\"\",VLOOKUP(C69,[1]Matkul!$A$2:$B$332,2,0))","v":"Bahasa Inggris II"},{"$f":"IF(C69=\"\",\"\",VLOOKUP(C69,[1]Matkul!$A$2:$C$332,3,0))","v":2},{"$f":"IF(C69=\"\",\"\",VLOOKUP(C69,[1]Matkul!$A$2:$D$332,4,0))","v":4}]
[null,null,"SI224",{"$f":"IF(C70=\"\",\"\",VLOOKUP(C70,[1]Matkul!$A$2:$B$332,2,0))","v":"Bahasa Inggris 2"},{"$f":"IF(C70=\"\",\"\",VLOOKUP(C70,[1]Matkul!$A$2:$C$332,3,0))","v":2},{"$f":"IF(C70=\"\",\"\",VLOOKUP(C70,[1]Matkul!$A$2:$D$332,4,0))","v":4}]
[]
[14,"Taqwa Hari Guna, S.T., M.Kom., Dr.","IF131",{"$f":"IF(C72=\"\",\"\",VLOOKUP(C72,[1]Matkul!$A$2:$B$332,2,0))","v":"Cloud Computing"},{"$f":"IF(C72=\"\",\"\",VLOOKUP(C72,[1]Matkul!$A$2:$C$332,3,0))","v":2},{"$f":"IF(C72=\"\",\"\",VLOOKUP(C72,[1]Matkul!$A$2:$D$332,4,0))","v":5}]
[null,"Taqwa Hari Guna, S.T., M.Kom., Dr.","SI217",{"$f":"IF(C73=\"\",\"\",VLOOKUP(C73,[1]Matkul!$A$2:$B$332,2,0))","v":"Dasar-dasar Pengembangan Perangkat Lunak"},{"$f":"IF(C73=\"\",\"\",VLOOKUP(C73,[1]Matkul!$A$2:$C$332,3,0))","v":3},{"$f":"IF(C73=\"\",\"\",VLOOKUP(C73,[1]Matkul!$A$2:$D$332,4,0))","v":3}]
[null,"Taqwa Hari Guna, S.T., M.Kom., Dr.","IF121",{"$f":"IF(C74=\"\",\"\",VLOOKUP(C74,[1]Matkul!$A$2:$B$332,2,0))","v":"Pendidikan Anti Korupsi"},{"$f":"IF(C74=\"\",\"\",VLOOKUP(C74,[1]Matkul!$A$2:$C$332,3,0))","v":2},{"$f":"IF(C74=\"\",\"\",VLOOKUP(C74,[1]Matkul!$A$2:$D$332,4,0))","v":3}]
[null,null,"SI237",{"$f":"IF(C75=\"\",\"\",VLOOKUP(C75,[1]Matkul!$A$2:$B$332,2,0))","v":"Pendidikan Anti Korupsi"},{"$f":"IF(C75=\"\",\"\",VLOOKUP(C75,[1]Matkul!$A$2:$C$332,3,0))","v":2},{"$f":"IF(C75=\"\",\"\",VLOOKUP(C75,[1]Matkul!$A$2:$D$332,4,0))","v":7}]
[null,null,"SI148",{"$f":"IF(C76=\"\",\"\",VLOOKUP(C76,[1]Matkul!$A$2:$B$332,2,0))","v":"Pendidikan Anti Korupsi"},{"$f":"IF(C76=\"\",\"\",VLOOKUP(C76,[1]Matkul!$A$2:$C$332,3,0))","v":2},{"$f":"IF(C76=\"\",\"\",VLOOKUP(C76,[1]Matkul!$A$2:$D$332,4,0))","v":7}]
[null,"Taqwa Hari Guna, S.T., M.Kom., Dr.","TI001",{"$f":"IF(C77=\"\",\"\",VLOOKUP(C77,[1]Matkul!$A$2:$B$332,2,0))","v":"Pendidikan Pancasila dan Kewarganegaraan"},{"$f":"IF(C77=\"\",\"\",VLOOKUP(C77,[1]Matkul!$A$2:$C$332,3,0))","v":3},{"$f":"IF(C77=\"\",\"\",VLOOKUP(C77,[1]Matkul!$A$2:$D$332,4,0))","v":1}]
[null,null,"AP202",{"$f":"IF(C78=\"\",\"\",VLOOKUP(C78,[1]Matkul!$A$2:$B$332,2,0))","v":"Pendidikan Pancasila dan Kewarganegaraan"},{"$f":"IF(C78=\"\",\"\",VLOOKUP(C78,[1]Matkul!$A$2:$C$332,3,0))","v":3},{"$f":"IF(C78=\"\",\"\",VLOOKUP(C78,[1]Matkul!$A$2:$D$332,4,0))","v":1}]
[null,null,"SI133",{"$f":"IF(C79=\"\",\"\",VLOOKUP(C79,[1]Matkul!$A$2:$B$332,2,0))","v":"Pendidikan Pancasila dan Kewarganegaraan"},{"$f":"IF(C79=\"\",\"\",VLOOKUP(C79,[1]Matkul!$A$2:$C$332,3,0))","v":3},{"$f":"IF(C79=\"\",\"\",VLOOKUP(C79,[1]Matkul!$A$2:$D$332,4,0))","v":5}]
[]
[15,"Tri Astuti, S.Kom., M.Eng.","TI035",{"$f":"IF(C81=\"\",\"\",VLOOKUP(C81,[1]Matkul!$A$2:$B$332,2,0))","v":"Data Mining"},{"$f":"IF(C81=\"\",\"\",VLOOKUP(C81,[1]Matkul!$A$2:$C$332,3,0))","v":3},{"$f":"IF(C81=\"\",\"\",VLOOKUP(C81,[1]Matkul!$A$2:$D$332,4,0))","v":5}]
[null,null,"SI143",{"$f":"IF(C82=\"\",\"\",VLOOKUP(C82,[1]Matkul!$A$2:$B$332,2,0))","v":"Data Mining and Data Warehouse"},{"$f":"IF(C82=\"\",\"\",VLOOKUP(C82,[1]Matkul!$A$2:$C$332,3,0))","v":3},{"$f":"IF(C82=\"\",\"\",VLOOKUP(C82,[1]Matkul!$A$2:$D$332,4,0))","v":6}]
[null,null,"SI223",{"$f":"IF(C83=\"\",\"\",VLOOKUP(C83,[1]Matkul!$A$2:$B$332,2,0))","v":"Data Mining and Data Warehouse"},{"$f":"IF(C83=\"\",\"\",VLOOKUP(C83,[1]Matkul!$A$2:$C$332,3,0))","v":3},{"$f":"IF(C83=\"\",\"\",VLOOKUP(C83,[1]Matkul!$A$2:$D$332,4,0))","v":4}]
[]
[16,"Eka Tripustikasari, S.E., M. Si. ","SI212",{"$f":"IF(C85=\"\",\"\",VLOOKUP(C85,[1]Matkul!$A$2:$B$332,2,0))","v":"Desain dan Manajemen Bisnis"},{"$f":"IF(C85=\"\",\"\",VLOOKUP(C85,[1]Matkul!$A$2:$C$332,3,0))","v":3},{"$f":"IF(C85=\"\",\"\",VLOOKUP(C85,[1]Matkul!$A$2:$D$332,4,0))","v":2}]
[null,"Eka Tripustikasari, S.E., M. Si. ","SI135",{"$f":"IF(C86=\"\",\"\",VLOOKUP(C86,[1]Matkul!$A$2:$B$332,2,0))","v":"Statistik"},{"$f":"IF(C86=\"\",\"\",VLOOKUP(C86,[1]Matkul!$A$2:$C$332,3,0))","v":3},{"$f":"IF(C86=\"\",\"\",VLOOKUP(C86,[1]Matkul!$A$2:$D$332,4,0))","v":5}]
[null,null,"SI227",{"$f":"IF(C87=\"\",\"\",VLOOKUP(C87,[1]Matkul!$A$2:$B$332,2,0))","v":"Statistik"},{"$f":"IF(C87=\"\",\"\",VLOOKUP(C87,[1]Matkul!$A$2:$C$332,3,0))","v":3},{"$f":"IF(C87=\"\",\"\",VLOOKUP(C87,[1]Matkul!$A$2:$D$332,4,0))","v":5}]
[null,null,"TI016",{"$f":"IF(C88=\"\",\"\",VLOOKUP(C88,[1]Matkul!$A$2:$B$332,2,0))","v":"Statistik Probabilitas"},{"$f":"IF(C88=\"\",\"\",VLOOKUP(C88,[1]Matkul!$A$2:$C$332,3,0))","v":3},{"$f":"IF(C88=\"\",\"\",VLOOKUP(C88,[1]Matkul!$A$2:$D$332,4,0))","v":2}]
[]
[17,"Didit Suhartono, S. Sos, M. Kom","TI046",{"$f":"IF(C90=\"\",\"\",VLOOKUP(C90,[1]Matkul!$A$2:$B$332,2,0))","v":"Digital Forensik"},{"$f":"IF(C90=\"\",\"\",VLOOKUP(C90,[1]Matkul!$A$2:$C$332,3,0))","v":2},{"$f":"IF(C90=\"\",\"\",VLOOKUP(C90,[1]Matkul!$A$2:$D$332,4,0))","v":7}]
[null,"Didit Suhartono, S. Sos, M. Kom","SI221",{"$f":"IF(C91=\"\",\"\",VLOOKUP(C91,[1]Matkul!$A$2:$B$332,2,0))","v":"Information Technology ethic, Regulation and Cyber Law"},{"$f":"IF(C91=\"\",\"\",VLOOKUP(C91,[1]Matkul!$A$2:$C$332,3,0))","v":3},{"$f":"IF(C91=\"\",\"\",VLOOKUP(C91,[1]Matkul!$A$2:$D$332,4,0))","v":4}]
[null,null,"SI117",{"$f":"IF(C92=\"\",\"\",VLOOKUP(C92,[1]Matkul!$A$2:$B$332,2,0))","v":"IT Ethic, Regulation & Cyber Law"},{"$f":"IF(C92=\"\",\"\",VLOOKUP(C92,[1]Matkul!$A$2:$C$332,3,0))","v":3},{"$f":"IF(C92=\"\",\"\",VLOOKUP(C92,[1]Matkul!$A$2:$D$332,4,0))","v":3}]
[null,"Didit Suhartono, S. Sos, M. Kom","SI136",{"$f":"IF(C93=\"\",\"\",VLOOKUP(C93,[1]Matkul!$A$2:$B$332,2,0))","v":"IT Forensic"},{"$f":"IF(C93=\"\",\"\",VLOOKUP(C93,[1]Matkul!$A$2:$C$332,3,0))","v":3},{"$f":"IF(C93=\"\",\"\",VLOOKUP(C93,[1]Matkul!$A$2:$D$332,4,0))","v":5}]
[null,"Didit Suhartono, S. Sos, M. Kom","TI004",{"$f":"IF(C94=\"\",\"\",VLOOKUP(C94,[1]Matkul!$A$2:$B$332,2,0))","v":"Pengenalan Hardware Software"},{"$f":"IF(C94=\"\",\"\",VLOOKUP(C94,[1]Matkul!$A$2:$C$332,3,0))","v":3},{"$f":"IF(C94=\"\",\"\",VLOOKUP(C94,[1]Matkul!$A$2:$D$332,4,0))","v":1}]
[]
[18,"Zanuar Rifa'i, S.Kom., M.MSI","SI246",{"$f":"IF(C96=\"\",\"\",VLOOKUP(C96,[1]Matkul!$A$2:$B$332,2,0))","v":"Digital Marketing"},{"$f":"IF(C96=\"\",\"\",VLOOKUP(C96,[1]Matkul!$A$2:$C$332,3,0))","v":3},{"$f":"IF(C96=\"\",\"\",VLOOKUP(C96,[1]Matkul!$A$2:$D$332,4,0))","v":6}]
[null,"Zanuar Rifa'i, S.Kom., M.MSI","SI242",{"$f":"IF(C97=\"\",\"\",VLOOKUP(C97,[1]Matkul!$A$2:$B$332,2,0))","v":"E-Business Concept and Desaign"},{"$f":"IF(C97=\"\",\"\",VLOOKUP(C97,[1]Matkul!$A$2:$C$332,3,0))","v":3},{"$f":"IF(C97=\"\",\"\",VLOOKUP(C97,[1]Matkul!$A$2:$D$332,4,0))","v":5}]
[null,"Zanuar Rifa'i, S.Kom., M.MSI","SI043",{"$f":"IF(C98=\"\",\"\",VLOOKUP(C98,[1]Matkul!$A$2:$B$332,2,0))","v":"Pengelolaan Proyek Sistem Informasi"},{"$f":"IF(C98=\"\",\"\",VLOOKUP(C98,[1]Matkul!$A$2:$C$332,3,0))","v":2},{"$f":"IF(C98=\"\",\"\",VLOOKUP(C98,[1]Matkul!$A$2:$D$332,4,0))","v":6}]
[]
[19,"Andi Dwi Riyanto, M.Kom ","SI141",{"$f":"IF(C100=\"\",\"\",VLOOKUP(C100,[1]Matkul!$A$2:$B$332,2,0))","v":"E-Business"},{"$f":"IF(C100=\"\",\"\",VLOOKUP(C100,[1]Matkul!$A$2:$C$332,3,0))","v":4},{"$f":"IF(C100=\"\",\"\",VLOOKUP(C100,[1]Matkul!$A$2:$D$332,4,0))","v":6}]
[null,null,"SI039",{"$f":"IF(C101=\"\",\"\",VLOOKUP(C101,[1]Matkul!$A$2:$B$332,2,0))","v":"E-Business"},{"$f":"IF(C101=\"\",\"\",VLOOKUP(C101,[1]Matkul!$A$2:$C$332,3,0))","v":2},{"$f":"IF(C101=\"\",\"\",VLOOKUP(C101,[1]Matkul!$A$2:$D$332,4,0))","v":4}]
[null,null,"SI243",{"$f":"IF(C102=\"\",\"\",VLOOKUP(C102,[1]Matkul!$A$2:$B$332,2,0))","v":"E-Business Technology"},{"$f":"IF(C102=\"\",\"\",VLOOKUP(C102,[1]Matkul!$A$2:$C$332,3,0))","v":3},{"$f":"IF(C102=\"\",\"\",VLOOKUP(C102,[1]Matkul!$A$2:$D$332,4,0))","v":5}]
[null,"Andi Dwi Riyanto, M.Kom ","SI118",{"$f":"IF(C103=\"\",\"\",VLOOKUP(C103,[1]Matkul!$A$2:$B$332,2,0))","v":"Kecerdasan Bisnis"},{"$f":"IF(C103=\"\",\"\",VLOOKUP(C103,[1]Matkul!$A$2:$C$332,3,0))","v":3},{"$f":"IF(C103=\"\",\"\",VLOOKUP(C103,[1]Matkul!$A$2:$D$332,4,0))","v":3}]
[null,null,"SI228",{"$f":"IF(C104=\"\",\"\",VLOOKUP(C104,[1]Matkul!$A$2:$B$332,2,0))","v":"Kecerdasan Bisnis"},{"$f":"IF(C104=\"\",\"\",VLOOKUP(C104,[1]Matkul!$A$2:$C$332,3,0))","v":3},{"$f":"IF(C104=\"\",\"\",VLOOKUP(C104,[1]Matkul!$A$2:$D$332,4,0))","v":5}]
[]
[20,"Fiby Nur Afiana, S.Kom., M.MSI","SI218",{"$f":"IF(C106=\"\",\"\",VLOOKUP(C106,[1]Matkul!$A$2:$B$332,2,0))","v":"Enterprise Resource Management"},{"$f":"IF(C106=\"\",\"\",VLOOKUP(C106,[1]Matkul!$A$2:$C$332,3,0))","v":4},{"$f":"IF(C106=\"\",\"\",VLOOKUP(C106,[1]Matkul!$A$2:$D$332,4,0))","v":3}]
[null,null,"SI142",{"$f":"IF(C107=\"\",\"\",VLOOKUP(C107,[1]Matkul!$A$2:$B$332,2,0))","v":"Enterprise Resource Management"},{"$f":"IF(C107=\"\",\"\",VLOOKUP(C107,[1]Matkul!$A$2:$C$332,3,0))","v":4},{"$f":"IF(C107=\"\",\"\",VLOOKUP(C107,[1]Matkul!$A$2:$D$332,4,0))","v":6}]
[null,"Fiby Nur Afiana, S.Kom., M.MSI","TI043",{"$f":"IF(C108=\"\",\"\",VLOOKUP(C108,[1]Matkul!$A$2:$B$332,2,0))","v":"Isu Sosial dan Etika Profesi"},{"$f":"IF(C108=\"\",\"\",VLOOKUP(C108,[1]Matkul!$A$2:$C$332,3,0))","v":2},{"$f":"IF(C108=\"\",\"\",VLOOKUP(C108,[1]Matkul!$A$2:$D$332,4,0))","v":7}]
[null,null,"IF139",{"$f":"IF(C109=\"\",\"\",VLOOKUP(C109,[1]Matkul!$A$2:$B$332,2,0))","v":"Isu Sosial dan Etika Profesi"},{"$f":"IF(C109=\"\",\"\",VLOOKUP(C109,[1]Matkul!$A$2:$C$332,3,0))","v":2},{"$f":"IF(C109=\"\",\"\",VLOOKUP(C109,[1]Matkul!$A$2:$D$332,4,0))","v":6}]
[]
[21,"Akto Hariawan, S.Kom, M. Si ","SI229",{"$f":"IF(C111=\"\",\"\",VLOOKUP(C111,[1]Matkul!$A$2:$B$332,2,0))","v":"Etika Profesi SI"},{"$f":"IF(C111=\"\",\"\",VLOOKUP(C111,[1]Matkul!$A$2:$C$332,3,0))","v":2},{"$f":"IF(C111=\"\",\"\",VLOOKUP(C111,[1]Matkul!$A$2:$D$332,4,0))","v":5}]
[null,"Akto Hariawan, S.Kom, M. Si ","SI144",{"$f":"IF(C112=\"\",\"\",VLOOKUP(C112,[1]Matkul!$A$2:$B$332,2,0))","v":"Interpersonal Skill"},{"$f":"IF(C112=\"\",\"\",VLOOKUP(C112,[1]Matkul!$A$2:$C$332,3,0))","v":2},{"$f":"IF(C112=\"\",\"\",VLOOKUP(C112,[1]Matkul!$A$2:$D$332,4,0))","v":6}]
[null,"Akto Hariawan, S.Kom, M. Si ","SI132",{"$f":"IF(C113=\"\",\"\",VLOOKUP(C113,[1]Matkul!$A$2:$B$332,2,0))","v":"Seni Budaya Banyumasan"},{"$f":"IF(C113=\"\",\"\",VLOOKUP(C113,[1]Matkul!$A$2:$C$332,3,0))","v":2},{"$f":"IF(C113=\"\",\"\",VLOOKUP(C113,[1]Matkul!$A$2:$D$332,4,0))","v":5}]
[]
[22,"Prayoga Pribadi, SE, M.Si.","SI004",{"$f":"IF(C115=\"\",\"\",VLOOKUP(C115,[1]Matkul!$A$2:$B$332,2,0))","v":"Etika Profesi"},{"$f":"IF(C115=\"\",\"\",VLOOKUP(C115,[1]Matkul!$A$2:$C$332,3,0))","v":2},{"$f":"IF(C115=\"\",\"\",VLOOKUP(C115,[1]Matkul!$A$2:$D$332,4,0))","v":1}]
[null,"Prayoga Pribadi, SE, M.Si.","TI034",{"$f":"IF(C116=\"\",\"\",VLOOKUP(C116,[1]Matkul!$A$2:$B$332,2,0))","v":"Pengantar Manajemen"},{"$f":"IF(C116=\"\",\"\",VLOOKUP(C116,[1]Matkul!$A$2:$C$332,3,0))","v":2},{"$f":"IF(C116=\"\",\"\",VLOOKUP(C116,[1]Matkul!$A$2:$D$332,4,0))","v":5}]
[null,"Prayoga Pribadi, SE, M.Si.","AP101",{"$f":"IF(C117=\"\",\"\",VLOOKUP(C117,[1]Matkul!$A$2:$B$332,2,0))","v":"Sikap Mental Amikom"},{"$f":"IF(C117=\"\",\"\",VLOOKUP(C117,[1]Matkul!$A$2:$C$332,3,0))","v":2},{"$f":"IF(C117=\"\",\"\",VLOOKUP(C117,[1]Matkul!$A$2:$D$332,4,0))","v":1}]
[]
[23,"Aulia Hamdi, M. Kom","SI150",{"$f":"IF(C119=\"\",\"\",VLOOKUP(C119,[1]Matkul!$A$2:$B$332,2,0))","v":"Game Design"},{"$f":"IF(C119=\"\",\"\",VLOOKUP(C119,[1]Matkul!$A$2:$C$332,3,0))","v":3},{"$f":"IF(C119=\"\",\"\",VLOOKUP(C119,[1]Matkul!$A$2:$D$332,4,0))","v":7}]
[null,"Aulia Hamdi, M. Kom","ST038",{"$f":"IF(C120=\"\",\"\",VLOOKUP(C120,[1]Matkul!$A$2:$B$332,2,0))","v":"Multimedia"},{"$f":"IF(C120=\"\",\"\",VLOOKUP(C120,[1]Matkul!$A$2:$C$332,3,0))","v":2},{"$f":"IF(C120=\"\",\"\",VLOOKUP(C120,[1]Matkul!$A$2:$D$332,4,0))","v":4}]
[null,null,"TI030",{"$f":"IF(C121=\"\",\"\",VLOOKUP(C121,[1]Matkul!$A$2:$B$332,2,0))","v":"Multimedia"},{"$f":"IF(C121=\"\",\"\",VLOOKUP(C121,[1]Matkul!$A$2:$C$332,3,0))","v":3},{"$f":"IF(C121=\"\",\"\",VLOOKUP(C121,[1]Matkul!$A$2:$D$332,4,0))","v":4}]
[null,null,"IF127",{"$f":"IF(C122=\"\",\"\",VLOOKUP(C122,[1]Matkul!$A$2:$B$332,2,0))","v":"Multimedia"},{"$f":"IF(C122=\"\",\"\",VLOOKUP(C122,[1]Matkul!$A$2:$C$332,3,0))","v":3},{"$f":"IF(C122=\"\",\"\",VLOOKUP(C122,[1]Matkul!$A$2:$D$332,4,0))","v":4}]
[]
[24,"Argiyan Dwi Pritama, S.Kom., M.MSI.","IF116",{"$f":"IF(C124=\"\",\"\",VLOOKUP(C124,[1]Matkul!$A$2:$B$332,2,0))","v":"Grafika Komputer"},{"$f":"IF(C124=\"\",\"\",VLOOKUP(C124,[1]Matkul!$A$2:$C$332,3,0))","v":3},{"$f":"IF(C124=\"\",\"\",VLOOKUP(C124,[1]Matkul!$A$2:$D$332,4,0))","v":3}]
[null,null,"TI017",{"$f":"IF(C125=\"\",\"\",VLOOKUP(C125,[1]Matkul!$A$2:$B$332,2,0))","v":"Grafika Komputer"},{"$f":"IF(C125=\"\",\"\",VLOOKUP(C125,[1]Matkul!$A$2:$C$332,3,0))","v":3},{"$f":"IF(C125=\"\",\"\",VLOOKUP(C125,[1]Matkul!$A$2:$D$332,4,0))","v":3}]
[null,"Argiyan Dwi Pritama, S.Kom., M.MSI.","SI120",{"$f":"IF(C126=\"\",\"\",VLOOKUP(C126,[1]Matkul!$A$2:$B$332,2,0))","v":"Multimedia 2D"},{"$f":"IF(C126=\"\",\"\",VLOOKUP(C126,[1]Matkul!$A$2:$C$332,3,0))","v":3},{"$f":"IF(C126=\"\",\"\",VLOOKUP(C126,[1]Matkul!$A$2:$D$332,4,0))","v":3}]
[null,null,"IF144",{"$f":"IF(C127=\"\",\"\",VLOOKUP(C127,[1]Matkul!$A$2:$B$332,2,0))","v":"Visualisasi 2D"},{"$f":"IF(C127=\"\",\"\",VLOOKUP(C127,[1]Matkul!$A$2:$C$332,3,0))","v":4},{"$f":"IF(C127=\"\",\"\",VLOOKUP(C127,[1]Matkul!$A$2:$D$332,4,0))","v":4}]
[null,null,"TIK049",{"$f":"IF(C128=\"\",\"\",VLOOKUP(C128,[1]Matkul!$A$2:$B$332,2,0))","v":"Visualisasi 2D"},{"$f":"IF(C128=\"\",\"\",VLOOKUP(C128,[1]Matkul!$A$2:$C$332,3,0))","v":4},{"$f":"IF(C128=\"\",\"\",VLOOKUP(C128,[1]Matkul!$A$2:$D$332,4,0))","v":4}]
[]
[25,"Chendri Irawan S N, S.Kom., M.MSI","SI119",{"$f":"IF(C130=\"\",\"\",VLOOKUP(C130,[1]Matkul!$A$2:$B$332,2,0))","v":"Grid & Cloud Computing"},{"$f":"IF(C130=\"\",\"\",VLOOKUP(C130,[1]Matkul!$A$2:$C$332,3,0))","v":3},{"$f":"IF(C130=\"\",\"\",VLOOKUP(C130,[1]Matkul!$A$2:$D$332,4,0))","v":3}]
[null,"Chendri Irawan S N, S.Kom., M.MSI","TI040",{"$f":"IF(C131=\"\",\"\",VLOOKUP(C131,[1]Matkul!$A$2:$B$332,2,0))","v":"Temu Balik Informasi"},{"$f":"IF(C131=\"\",\"\",VLOOKUP(C131,[1]Matkul!$A$2:$C$332,3,0))","v":3},{"$f":"IF(C131=\"\",\"\",VLOOKUP(C131,[1]Matkul!$A$2:$D$332,4,0))","v":6}]
[null,null,"IF136",{"$f":"IF(C132=\"\",\"\",VLOOKUP(C132,[1]Matkul!$A$2:$B$332,2,0))","v":"Temu Balik Informasi"},{"$f":"IF(C132=\"\",\"\",VLOOKUP(C132,[1]Matkul!$A$2:$C$332,3,0))","v":3},{"$f":"IF(C132=\"\",\"\",VLOOKUP(C132,[1]Matkul!$A$2:$D$332,4,0))","v":6},"Kel 1"]
[]
[26,"Ranggi Praharaningtyas A S.Kom, M.MSI ","SI213",{"$f":"IF(C134=\"\",\"\",VLOOKUP(C134,[1]Matkul!$A$2:$B$332,2,0))","v":"Infrastruktur Teknologi Informasi"},{"$f":"IF(C134=\"\",\"\",VLOOKUP(C134,[1]Matkul!$A$2:$C$332,3,0))","v":3},{"$f":"IF(C134=\"\",\"\",VLOOKUP(C134,[1]Matkul!$A$2:$D$332,4,0))","v":2}]
[null,"Ranggi Praharaningtyas A S.Kom, M.MSI ","SI130",{"$f":"IF(C135=\"\",\"\",VLOOKUP(C135,[1]Matkul!$A$2:$B$332,2,0))","v":"Strategy and Policy of Information Sistem"},{"$f":"IF(C135=\"\",\"\",VLOOKUP(C135,[1]Matkul!$A$2:$C$332,3,0))","v":3},{"$f":"IF(C135=\"\",\"\",VLOOKUP(C135,[1]Matkul!$A$2:$D$332,4,0))","v":5}]
[]
[27,"Retno Waluyo, S.Kom, M.MSI","IF120",{"$f":"IF(C137=\"\",\"\",VLOOKUP(C137,[1]Matkul!$A$2:$B$332,2,0))","v":"Jaringan Komputer"},{"$f":"IF(C137=\"\",\"\",VLOOKUP(C137,[1]Matkul!$A$2:$C$332,3,0))","v":3},{"$f":"IF(C137=\"\",\"\",VLOOKUP(C137,[1]Matkul!$A$2:$D$332,4,0))","v":3}]
[null,null,"SI113",{"$f":"IF(C138=\"\",\"\",VLOOKUP(C138,[1]Matkul!$A$2:$B$332,2,0))","v":"Jaringan Komputer"},{"$f":"IF(C138=\"\",\"\",VLOOKUP(C138,[1]Matkul!$A$2:$C$332,3,0))","v":3},{"$f":"IF(C138=\"\",\"\",VLOOKUP(C138,[1]Matkul!$A$2:$D$332,4,0))","v":2}]
[null,null,"TI013",{"$f":"IF(C139=\"\",\"\",VLOOKUP(C139,[1]Matkul!$A$2:$B$332,2,0))","v":"Jaringan Komputer"},{"$f":"IF(C139=\"\",\"\",VLOOKUP(C139,[1]Matkul!$A$2:$C$332,3,0))","v":3},{"$f":"IF(C139=\"\",\"\",VLOOKUP(C139,[1]Matkul!$A$2:$D$332,4,0))","v":2}]
[null,"Retno Waluyo, S.Kom, M.MSI","SI124",{"$f":"IF(C140=\"\",\"\",VLOOKUP(C140,[1]Matkul!$A$2:$B$332,2,0))","v":"Keamanan Sistem Informasi"},{"$f":"IF(C140=\"\",\"\",VLOOKUP(C140,[1]Matkul!$A$2:$C$332,3,0))","v":3},{"$f":"IF(C140=\"\",\"\",VLOOKUP(C140,[1]Matkul!$A$2:$D$332,4,0))","v":4}]
[null,null,"SI226",{"$f":"IF(C141=\"\",\"\",VLOOKUP(C141,[1]Matkul!$A$2:$B$332,2,0))","v":"Keamanan Sistem Informasi"},{"$f":"IF(C141=\"\",\"\",VLOOKUP(C141,[1]Matkul!$A$2:$C$332,3,0))","v":3},{"$f":"IF(C141=\"\",\"\",VLOOKUP(C141,[1]Matkul!$A$2:$D$332,4,0))","v":5}]
[]
[28,"Uswatun Hasanah, S.Kom., M.Eng","IF103",{"$f":"IF(C143=\"\",\"\",VLOOKUP(C143,[1]Matkul!$A$2:$B$332,2,0))","v":"Kalkulus 1"},{"$f":"IF(C143=\"\",\"\",VLOOKUP(C143,[1]Matkul!$A$2:$C$332,3,0))","v":3},{"$f":"IF(C143=\"\",\"\",VLOOKUP(C143,[1]Matkul!$A$2:$D$332,4,0))","v":1}]
[null,"Uswatun Hasanah, S.Kom., M.Eng","IF104",{"$f":"IF(C144=\"\",\"\",VLOOKUP(C144,[1]Matkul!$A$2:$B$332,2,0))","v":"Kalkulus 2"},{"$f":"IF(C144=\"\",\"\",VLOOKUP(C144,[1]Matkul!$A$2:$C$332,3,0))","v":3},{"$f":"IF(C144=\"\",\"\",VLOOKUP(C144,[1]Matkul!$A$2:$D$332,4,0))","v":2}]
[]
[29,"Rahman Rosyidi, S.Sos, M.Kom","TI022",{"$f":"IF(C146=\"\",\"\",VLOOKUP(C146,[1]Matkul!$A$2:$B$332,2,0))","v":"Kepemimpinan"},{"$f":"IF(C146=\"\",\"\",VLOOKUP(C146,[1]Matkul!$A$2:$C$332,3,0))","v":2},{"$f":"IF(C146=\"\",\"\",VLOOKUP(C146,[1]Matkul!$A$2:$D$332,4,0))","v":3}]
[null,"Rahman Rosyidi, S.Sos, M.Kom","TI003",{"$f":"IF(C147=\"\",\"\",VLOOKUP(C147,[1]Matkul!$A$2:$B$332,2,0))","v":"Kepribadian Managerial"},{"$f":"IF(C147=\"\",\"\",VLOOKUP(C147,[1]Matkul!$A$2:$C$332,3,0))","v":2},{"$f":"IF(C147=\"\",\"\",VLOOKUP(C147,[1]Matkul!$A$2:$D$332,4,0))","v":1}]
[]
[30,"Puji Ratwiyanti, S.Kom, M.MSI ","SI151",{"$f":"IF(C149=\"\",\"\",VLOOKUP(C149,[1]Matkul!$A$2:$B$332,2,0))","v":"Knowledge Management"},{"$f":"IF(C149=\"\",\"\",VLOOKUP(C149,[1]Matkul!$A$2:$C$332,3,0))","v":3},{"$f":"IF(C149=\"\",\"\",VLOOKUP(C149,[1]Matkul!$A$2:$D$332,4,0))","v":7}]
[null,"Puji Ratwiyanti, S.Kom, M.MSI ","TI044",{"$f":"IF(C150=\"\",\"\",VLOOKUP(C150,[1]Matkul!$A$2:$B$332,2,0))","v":"Technopreneur"},{"$f":"IF(C150=\"\",\"\",VLOOKUP(C150,[1]Matkul!$A$2:$C$332,3,0))","v":2},{"$f":"IF(C150=\"\",\"\",VLOOKUP(C150,[1]Matkul!$A$2:$D$332,4,0))","v":7}]
[null,null,"SI147",{"$f":"IF(C151=\"\",\"\",VLOOKUP(C151,[1]Matkul!$A$2:$B$332,2,0))","v":"Technopreneur"},{"$f":"IF(C151=\"\",\"\",VLOOKUP(C151,[1]Matkul!$A$2:$C$332,3,0))","v":3},{"$f":"IF(C151=\"\",\"\",VLOOKUP(C151,[1]Matkul!$A$2:$D$332,4,0))","v":7}]
[]
[31,"Mohammad Imron, M. Kom","TI025",{"$f":"IF(C153=\"\",\"\",VLOOKUP(C153,[1]Matkul!$A$2:$B$332,2,0))","v":"Kriptografi"},{"$f":"IF(C153=\"\",\"\",VLOOKUP(C153,[1]Matkul!$A$2:$C$332,3,0))","v":2},{"$f":"IF(C153=\"\",\"\",VLOOKUP(C153,[1]Matkul!$A$2:$D$332,4,0))","v":4}]
[null,null,"IF123",{"$f":"IF(C154=\"\",\"\",VLOOKUP(C154,[1]Matkul!$A$2:$B$332,2,0))","v":"Kriptografi"},{"$f":"IF(C154=\"\",\"\",VLOOKUP(C154,[1]Matkul!$A$2:$C$332,3,0))","v":2},{"$f":"IF(C154=\"\",\"\",VLOOKUP(C154,[1]Matkul!$A$2:$D$332,4,0))","v":4}]
[null,"Mohammad Imron, M. Kom","IF115",{"$f":"IF(C155=\"\",\"\",VLOOKUP(C155,[1]Matkul!$A$2:$B$332,2,0))","v":"Pembelajaran Mesin"},{"$f":"IF(C155=\"\",\"\",VLOOKUP(C155,[1]Matkul!$A$2:$C$332,3,0))","v":4},{"$f":"IF(C155=\"\",\"\",VLOOKUP(C155,[1]Matkul!$A$2:$D$332,4,0))","v":3},"Kel 3"]
[]
[32,"Agus Pramono, ST, MT","IF112",{"$f":"IF(C157=\"\",\"\",VLOOKUP(C157,[1]Matkul!$A$2:$B$332,2,0))","v":"Logika Digital dan Sistem Digital"},{"$f":"IF(C157=\"\",\"\",VLOOKUP(C157,[1]Matkul!$A$2:$C$332,3,0))","v":3},{"$f":"IF(C157=\"\",\"\",VLOOKUP(C157,[1]Matkul!$A$2:$D$332,4,0))","v":2}]
[null,null,"TI012",{"$f":"IF(C158=\"\",\"\",VLOOKUP(C158,[1]Matkul!$A$2:$B$332,2,0))","v":"Logika Digital Dan Sistem Digital"},{"$f":"IF(C158=\"\",\"\",VLOOKUP(C158,[1]Matkul!$A$2:$C$332,3,0))","v":3},{"$f":"IF(C158=\"\",\"\",VLOOKUP(C158,[1]Matkul!$A$2:$D$332,4,0))","v":2}]
[null,"Agus Pramono, ST, MT","TI020",{"$f":"IF(C159=\"\",\"\",VLOOKUP(C159,[1]Matkul!$A$2:$B$332,2,0))","v":"Mikroprosesor"},{"$f":"IF(C159=\"\",\"\",VLOOKUP(C159,[1]Matkul!$A$2:$C$332,3,0))","v":3},{"$f":"IF(C159=\"\",\"\",VLOOKUP(C159,[1]Matkul!$A$2:$D$332,4,0))","v":3}]
[null,null,"IF119",{"$f":"IF(C160=\"\",\"\",VLOOKUP(C160,[1]Matkul!$A$2:$B$332,2,0))","v":"Mikroprosessor"},{"$f":"IF(C160=\"\",\"\",VLOOKUP(C160,[1]Matkul!$A$2:$C$332,3,0))","v":3},{"$f":"IF(C160=\"\",\"\",VLOOKUP(C160,[1]Matkul!$A$2:$D$332,4,0))","v":3}]
[null,null,"ST036",{"$f":"IF(C161=\"\",\"\",VLOOKUP(C161,[1]Matkul!$A$2:$B$332,2,0))","v":"Praktikum Mikroprosessor"},{"$f":"IF(C161=\"\",\"\",VLOOKUP(C161,[1]Matkul!$A$2:$C$332,3,0))","v":2},{"$f":"IF(C161=\"\",\"\",VLOOKUP(C161,[1]Matkul!$A$2:$D$332,4,0))","v":5}]
[]
[33,"Bambang Pilu Hartato, S.Kom., M.Eng.","SI108",{"$f":"IF(C163=\"\",\"\",VLOOKUP(C163,[1]Matkul!$A$2:$B$332,2,0))","v":"Logika Matematika"},{"$f":"IF(C163=\"\",\"\",VLOOKUP(C163,[1]Matkul!$A$2:$C$332,3,0))","v":3},{"$f":"IF(C163=\"\",\"\",VLOOKUP(C163,[1]Matkul!$A$2:$D$332,4,0))","v":2}]
[null,"Bambang Pilu Hartato, S.Kom., M.Eng.","IF115",{"$f":"IF(C164=\"\",\"\",VLOOKUP(C164,[1]Matkul!$A$2:$B$332,2,0))","v":"Pembelajaran Mesin"},{"$f":"IF(C164=\"\",\"\",VLOOKUP(C164,[1]Matkul!$A$2:$C$332,3,0))","v":4},{"$f":"IF(C164=\"\",\"\",VLOOKUP(C164,[1]Matkul!$A$2:$D$332,4,0))","v":3},"Kel 1"]
[]
[34,"Yusyida Munsa Idah, SE, MM ","SI204",{"$f":"IF(C166=\"\",\"\",VLOOKUP(C166,[1]Matkul!$A$2:$B$332,2,0))","v":"Manajemen Bisnis"},{"$f":"IF(C166=\"\",\"\",VLOOKUP(C166,[1]Matkul!$A$2:$C$332,3,0))","v":2},{"$f":"IF(C166=\"\",\"\",VLOOKUP(C166,[1]Matkul!$A$2:$D$332,4,0))","v":1}]
[]
[35,"Septi Fajarwati, M. Pd","IF114",{"$f":"IF(C168=\"\",\"\",VLOOKUP(C168,[1]Matkul!$A$2:$B$332,2,0))","v":"Matematika Diskret"},{"$f":"IF(C168=\"\",\"\",VLOOKUP(C168,[1]Matkul!$A$2:$C$332,3,0))","v":4},{"$f":"IF(C168=\"\",\"\",VLOOKUP(C168,[1]Matkul!$A$2:$D$332,4,0))","v":2}]
[null,null,"SI038",{"$f":"IF(C169=\"\",\"\",VLOOKUP(C169,[1]Matkul!$A$2:$B$332,2,0))","v":"Matematika Diskret"},{"$f":"IF(C169=\"\",\"\",VLOOKUP(C169,[1]Matkul!$A$2:$C$332,3,0))","v":2},{"$f":"IF(C169=\"\",\"\",VLOOKUP(C169,[1]Matkul!$A$2:$D$332,4,0))","v":5}]
[null,null,"SI205",{"$f":"IF(C170=\"\",\"\",VLOOKUP(C170,[1]Matkul!$A$2:$B$332,2,0))","v":"Matematika Diskrit"},{"$f":"IF(C170=\"\",\"\",VLOOKUP(C170,[1]Matkul!$A$2:$C$332,3,0))","v":3},{"$f":"IF(C170=\"\",\"\",VLOOKUP(C170,[1]Matkul!$A$2:$D$332,4,0))","v":1}]
[null,null,"TI015",{"$f":"IF(C171=\"\",\"\",VLOOKUP(C171,[1]Matkul!$A$2:$B$332,2,0))","v":"Struktur Diskret"},{"$f":"IF(C171=\"\",\"\",VLOOKUP(C171,[1]Matkul!$A$2:$C$332,3,0))","v":4},{"$f":"IF(C171=\"\",\"\",VLOOKUP(C171,[1]Matkul!$A$2:$D$332,4,0))","v":2}]
[]
[36,"Arief Adhy Kurniawan, S.E., M. Si. ","IF135",{"$f":"IF(C173=\"\",\"\",VLOOKUP(C173,[1]Matkul!$A$2:$B$332,2,0))","v":"Metodologi Penelitian"},{"$f":"IF(C173=\"\",\"\",VLOOKUP(C173,[1]Matkul!$A$2:$C$332,3,0))","v":3},{"$f":"IF(C173=\"\",\"\",VLOOKUP(C173,[1]Matkul!$A$2:$D$332,4,0))","v":6}]
[{"$nulls":3},{"$f":"IF(C174=\"\",\"\",VLOOKUP(C174,[1]Matkul!$A$2:$B$332,2,0))","v":""},{"$f":"IF(C174=\"\",\"\",VLOOKUP(C174,[1]Matkul!$A$2:$C$332,3,0))","v":""},{"$f":"IF(C174=\"\",\"\",VLOOKUP(C174,[1]Matkul!$A$2:$D$332,4,0))","v":""}]
[37,"Yusmedi Nurfaizal, S.E., M.Si","TI038",{"$f":"IF(C175=\"\",\"\",VLOOKUP(C175,[1]Matkul!$A$2:$B$332,2,0))","v":"Metodologi Penelitian"},{"$f":"IF(C175=\"\",\"\",VLOOKUP(C175,[1]Matkul!$A$2:$C$332,3,0))","v":3},{"$f":"IF(C175=\"\",\"\",VLOOKUP(C175,[1]Matkul!$A$2:$D$332,4,0))","v":6}]
[null,null,"SI125",{"$f":"IF(C176=\"\",\"\",VLOOKUP(C176,[1]Matkul!$A$2:$B$332,2,0))","v":"Metodologi Penelitian"},{"$f":"IF(C176=\"\",\"\",VLOOKUP(C176,[1]Matkul!$A$2:$C$332,3,0))","v":3},{"$f":"IF(C176=\"\",\"\",VLOOKUP(C176,[1]Matkul!$A$2:$D$332,4,0))","v":4}]
[null,null,"SI230",{"$f":"IF(C177=\"\",\"\",VLOOKUP(C177,[1]Matkul!$A$2:$B$332,2,0))","v":"Metodologi Penelitian"},{"$f":"IF(C177=\"\",\"\",VLOOKUP(C177,[1]Matkul!$A$2:$C$332,3,0))","v":3},{"$f":"IF(C177=\"\",\"\",VLOOKUP(C177,[1]Matkul!$A$2:$D$332,4,0))","v":5}]
[]
[38,"Anugrah Bagus Wijaya, M. Kom.","SI123",{"$f":"IF(C179=\"\",\"\",VLOOKUP(C179,[1]Matkul!$A$2:$B$332,2,0))","v":"Multimedia 3D"},{"$f":"IF(C179=\"\",\"\",VLOOKUP(C179,[1]Matkul!$A$2:$C$332,3,0))","v":3},{"$f":"IF(C179=\"\",\"\",VLOOKUP(C179,[1]Matkul!$A$2:$D$332,4,0))","v":4}]
[null,null,"TI052",{"$f":"IF(C180=\"\",\"\",VLOOKUP(C180,[1]Matkul!$A$2:$B$332,2,0))","v":"Visualisasi 3D"},{"$f":"IF(C180=\"\",\"\",VLOOKUP(C180,[1]Matkul!$A$2:$C$332,3,0))","v":4},{"$f":"IF(C180=\"\",\"\",VLOOKUP(C180,[1]Matkul!$A$2:$D$332,4,0))","v":5}]
[null,null,"IF147",{"$f":"IF(C181=\"\",\"\",VLOOKUP(C181,[1]Matkul!$A$2:$B$332,2,0))","v":"Visualisasi 3D"},{"$f":"IF(C181=\"\",\"\",VLOOKUP(C181,[1]Matkul!$A$2:$C$332,3,0))","v":4},{"$f":"IF(C181=\"\",\"\",VLOOKUP(C181,[1]Matkul!$A$2:$D$332,4,0))","v":5}]
[{"$nulls":3},{"$f":"IF(C182=\"\",\"\",VLOOKUP(C182,[1]Matkul!$A$2:$B$332,2,0))","v":""},{"$f":"IF(C182=\"\",\"\",VLOOKUP(C182,[1]Matkul!$A$2:$C$332,3,0))","v":""},{"$f":"IF(C182=\"\",\"\",VLOOKUP(C182,[1]Matkul!$A$2:$D$332,4,0))","v":""}]
[39,"Kuat Indartono, ST, M. Eng","IF115",{"$f":"IF(C183=\"\",\"\",VLOOKUP(C183,[1]Matkul!$A$2:$B$332,2,0))","v":"Pembelajaran Mesin"},{"$f":"IF(C183=\"\",\"\",VLOOKUP(C183,[1]Matkul!$A$2:$C$332,3,0))","v":4},{"$f":"IF(C183=\"\",\"\",VLOOKUP(C183,[1]Matkul!$A$2:$D$332,4,0))","v":3},"Kel 2"]
[null,"Kuat Indartono, ST, M. Eng","IF136",{"$f":"IF(C184=\"\",\"\",VLOOKUP(C184,[1]Matkul!$A$2:$B$332,2,0))","v":"Temu Balik Informasi"},{"$f":"IF(C184=\"\",\"\",VLOOKUP(C184,[1]Matkul!$A$2:$C$332,3,0))","v":3},{"$f":"IF(C184=\"\",\"\",VLOOKUP(C184,[1]Matkul!$A$2:$D$332,4,0))","v":6},"Kel 2"]
[]
[40,"Wiga Maulana Baihaqi, S.Kom., M.Eng","IF115",{"$f":"IF(C186=\"\",\"\",VLOOKUP(C186,[1]Matkul!$A$2:$B$332,2,0))","v":"Pembelajaran Mesin"},{"$f":"IF(C186=\"\",\"\",VLOOKUP(C186,[1]Matkul!$A$2:$C$332,3,0))","v":4},{"$f":"IF(C186=\"\",\"\",VLOOKUP(C186,[1]Matkul!$A$2:$D$332,4,0))","v":3},"Kel 4"]
[null,"Wiga Maulana Baihaqi, S.Kom., M.Eng","TIK048",{"$f":"IF(C187=\"\",\"\",VLOOKUP(C187,[1]Matkul!$A$2:$B$332,2,0))","v":"Pemrosesan Bahasa Alami"},{"$f":"IF(C187=\"\",\"\",VLOOKUP(C187,[1]Matkul!$A$2:$C$332,3,0))","v":4},{"$f":"IF(C187=\"\",\"\",VLOOKUP(C187,[1]Matkul!$A$2:$D$332,4,0))","v":4}]
[null,"Wiga Maulana Baihaqi, S.Kom., M.Eng","IF111",{"$f":"IF(C188=\"\",\"\",VLOOKUP(C188,[1]Matkul!$A$2:$B$332,2,0))","v":"Representasi dan Penalaran"},{"$f":"IF(C188=\"\",\"\",VLOOKUP(C188,[1]Matkul!$A$2:$C$332,3,0))","v":3},{"$f":"IF(C188=\"\",\"\",VLOOKUP(C188,[1]Matkul!$A$2:$D$332,4,0))","v":2},"Kel 3"]
[]
[41,"Luzi Dwi Oktaviana, S.Kom., M.MSI.","IF118",{"$f":"IF(C190=\"\",\"\",VLOOKUP(C190,[1]Matkul!$A$2:$B$332,2,0))","v":"Pemrograman .Net"},{"$f":"IF(C190=\"\",\"\",VLOOKUP(C190,[1]Matkul!$A$2:$C$332,3,0))","v":3},{"$f":"IF(C190=\"\",\"\",VLOOKUP(C190,[1]Matkul!$A$2:$D$332,4,0))","v":3}]
[null,null,"TI019",{"$f":"IF(C191=\"\",\"\",VLOOKUP(C191,[1]Matkul!$A$2:$B$332,2,0))","v":"Pemrograman.Net"},{"$f":"IF(C191=\"\",\"\",VLOOKUP(C191,[1]Matkul!$A$2:$C$332,3,0))","v":3},{"$f":"IF(C191=\"\",\"\",VLOOKUP(C191,[1]Matkul!$A$2:$D$332,4,0))","v":3}]
[null,"Luzi Dwi Oktaviana, S.Kom., M.MSI.","SI149",{"$f":"IF(C192=\"\",\"\",VLOOKUP(C192,[1]Matkul!$A$2:$B$332,2,0))","v":"Sistem Penunjang Keputusan"},{"$f":"IF(C192=\"\",\"\",VLOOKUP(C192,[1]Matkul!$A$2:$C$332,3,0))","v":3},{"$f":"IF(C192=\"\",\"\",VLOOKUP(C192,[1]Matkul!$A$2:$D$332,4,0))","v":7}]
[{"$nulls":3},{"$f":"IF(C193=\"\",\"\",VLOOKUP(C193,[1]Matkul!$A$2:$B$332,2,0))","v":""},{"$f":"IF(C193=\"\",\"\",VLOOKUP(C193,[1]Matkul!$A$2:$C$332,3,0))","v":""},{"$f":"IF(C193=\"\",\"\",VLOOKUP(C193,[1]Matkul!$A$2:$D$332,4,0))","v":""}]
[42,"Debby Ummul Hidayah, S.Kom, M. MSI","IF109",{"$f":"IF(C194=\"\",\"\",VLOOKUP(C194,[1]Matkul!$A$2:$B$332,2,0))","v":"Pemrograman Berorientasi Objek"},{"$f":"IF(C194=\"\",\"\",VLOOKUP(C194,[1]Matkul!$A$2:$C$332,3,0))","v":4},{"$f":"IF(C194=\"\",\"\",VLOOKUP(C194,[1]Matkul!$A$2:$D$332,4,0))","v":2},"Kel 1"]
[null,"Debby Ummul Hidayah, S.Kom, M. MSI","IF138",{"$f":"IF(C195=\"\",\"\",VLOOKUP(C195,[1]Matkul!$A$2:$B$332,2,0))","v":"Pengenalan Sistem Informasi"},{"$f":"IF(C195=\"\",\"\",VLOOKUP(C195,[1]Matkul!$A$2:$C$332,3,0))","v":2},{"$f":"IF(C195=\"\",\"\",VLOOKUP(C195,[1]Matkul!$A$2:$D$332,4,0))","v":6}]
[]
[43,"Suliswaningsih, M.Kom","IF109",{"$f":"IF(C197=\"\",\"\",VLOOKUP(C197,[1]Matkul!$A$2:$B$332,2,0))","v":"Pemrograman Berorientasi Objek"},{"$f":"IF(C197=\"\",\"\",VLOOKUP(C197,[1]Matkul!$A$2:$C$332,3,0))","v":4},{"$f":"IF(C197=\"\",\"\",VLOOKUP(C197,[1]Matkul!$A$2:$D$332,4,0))","v":2},"Kel 2"]
[null,"Suliswaningsih, M.Kom","SI037",{"$f":"IF(C198=\"\",\"\",VLOOKUP(C198,[1]Matkul!$A$2:$B$332,2,0))","v":"Pemrograman Client/Server"},{"$f":"IF(C198=\"\",\"\",VLOOKUP(C198,[1]Matkul!$A$2:$C$332,3,0))","v":2},{"$f":"IF(C198=\"\",\"\",VLOOKUP(C198,[1]Matkul!$A$2:$D$332,4,0))","v":5}]
[]
[44,"Rizki Wahyudi, M.Kom.","TIK047",{"$f":"IF(C200=\"\",\"\",VLOOKUP(C200,[1]Matkul!$A$2:$B$332,2,0))","v":"Pemrograman Framework Web"},{"$f":"IF(C200=\"\",\"\",VLOOKUP(C200,[1]Matkul!$A$2:$C$332,3,0))","v":4},{"$f":"IF(C200=\"\",\"\",VLOOKUP(C200,[1]Matkul!$A$2:$D$332,4,0))","v":4}]
[null,"Rizki Wahyudi, M.Kom.","IF105",{"$f":"IF(C201=\"\",\"\",VLOOKUP(C201,[1]Matkul!$A$2:$B$332,2,0))","v":"Pemrograman Web"},{"$f":"IF(C201=\"\",\"\",VLOOKUP(C201,[1]Matkul!$A$2:$C$332,3,0))","v":3},{"$f":"IF(C201=\"\",\"\",VLOOKUP(C201,[1]Matkul!$A$2:$D$332,4,0))","v":1}]
[null,null,"TI005",{"$f":"IF(C202=\"\",\"\",VLOOKUP(C202,[1]Matkul!$A$2:$B$332,2,0))","v":"Pemrograman Web"},{"$f":"IF(C202=\"\",\"\",VLOOKUP(C202,[1]Matkul!$A$2:$C$332,3,0))","v":3},{"$f":"IF(C202=\"\",\"\",VLOOKUP(C202,[1]Matkul!$A$2:$D$332,4,0))","v":1}]
[null,null,"SI127",{"$f":"IF(C203=\"\",\"\",VLOOKUP(C203,[1]Matkul!$A$2:$B$332,2,0))","v":"Pemrograman Web"},{"$f":"IF(C203=\"\",\"\",VLOOKUP(C203,[1]Matkul!$A$2:$C$332,3,0))","v":4},{"$f":"IF(C203=\"\",\"\",VLOOKUP(C203,[1]Matkul!$A$2:$D$332,4,0))","v":4}]
[null,null,"SI216",{"$f":"IF(C204=\"\",\"\",VLOOKUP(C204,[1]Matkul!$A$2:$B$332,2,0))","v":"Pemrograman Web"},{"$f":"IF(C204=\"\",\"\",VLOOKUP(C204,[1]Matkul!$A$2:$C$332,3,0))","v":4},{"$f":"IF(C204=\"\",\"\",VLOOKUP(C204,[1]Matkul!$A$2:$D$332,4,0))","v":3}]
[]
[45,"Sitaresmi Wahyu Handani, M.Kom","TI053",{"$f":"IF(C206=\"\",\"\",VLOOKUP(C206,[1]Matkul!$A$2:$B$332,2,0))","v":"Pemrograman Game"},{"$f":"IF(C206=\"\",\"\",VLOOKUP(C206,[1]Matkul!$A$2:$C$332,3,0))","v":4},{"$f":"IF(C206=\"\",\"\",VLOOKUP(C206,[1]Matkul!$A$2:$D$332,4,0))","v":6}]
[null,"Sitaresmi Wahyu Handani, M.Kom","SI129",{"$f":"IF(C207=\"\",\"\",VLOOKUP(C207,[1]Matkul!$A$2:$B$332,2,0))","v":"Perancangan Film 3D"},{"$f":"IF(C207=\"\",\"\",VLOOKUP(C207,[1]Matkul!$A$2:$C$332,3,0))","v":3},{"$f":"IF(C207=\"\",\"\",VLOOKUP(C207,[1]Matkul!$A$2:$D$332,4,0))","v":5}]
[]
[46,"Irfan Santiko, M. Kom.","IF126",{"$f":"IF(C209=\"\",\"\",VLOOKUP(C209,[1]Matkul!$A$2:$B$332,2,0))","v":"Pemrograman logik dan semantik"},{"$f":"IF(C209=\"\",\"\",VLOOKUP(C209,[1]Matkul!$A$2:$C$332,3,0))","v":3},{"$f":"IF(C209=\"\",\"\",VLOOKUP(C209,[1]Matkul!$A$2:$D$332,4,0))","v":4}]
[null,null,"TI029",{"$f":"IF(C210=\"\",\"\",VLOOKUP(C210,[1]Matkul!$A$2:$B$332,2,0))","v":"Pemrograman Logik dan Semantik"},{"$f":"IF(C210=\"\",\"\",VLOOKUP(C210,[1]Matkul!$A$2:$C$332,3,0))","v":3},{"$f":"IF(C210=\"\",\"\",VLOOKUP(C210,[1]Matkul!$A$2:$D$332,4,0))","v":4}]
[null,"Irfan Santiko, M. Kom.","SI137",{"$f":"IF(C211=\"\",\"\",VLOOKUP(C211,[1]Matkul!$A$2:$B$332,2,0))","v":"Semantic Web"},{"$f":"IF(C211=\"\",\"\",VLOOKUP(C211,[1]Matkul!$A$2:$C$332,3,0))","v":3},{"$f":"IF(C211=\"\",\"\",VLOOKUP(C211,[1]Matkul!$A$2:$D$332,4,0))","v":5}]
[]
[47,"Nandang Hermanto, M.Kom.","SI116",{"$f":"IF(C213=\"\",\"\",VLOOKUP(C213,[1]Matkul!$A$2:$B$332,2,0))","v":"Pemrograman Mobile"},{"$f":"IF(C213=\"\",\"\",VLOOKUP(C213,[1]Matkul!$A$2:$C$332,3,0))","v":4},{"$f":"IF(C213=\"\",\"\",VLOOKUP(C213,[1]Matkul!$A$2:$D$332,4,0))","v":3}]
[null,null,"SI220",{"$f":"IF(C214=\"\",\"\",VLOOKUP(C214,[1]Matkul!$A$2:$B$332,2,0))","v":"Pemrograman Mobile"},{"$f":"IF(C214=\"\",\"\",VLOOKUP(C214,[1]Matkul!$A$2:$C$332,3,0))","v":4},{"$f":"IF(C214=\"\",\"\",VLOOKUP(C214,[1]Matkul!$A$2:$D$332,4,0))","v":4}]
[null,null,"TI050",{"$f":"IF(C215=\"\",\"\",VLOOKUP(C215,[1]Matkul!$A$2:$B$332,2,0))","v":"Pemrograman Mobile"},{"$f":"IF(C215=\"\",\"\",VLOOKUP(C215,[1]Matkul!$A$2:$C$332,3,0))","v":4},{"$f":"IF(C215=\"\",\"\",VLOOKUP(C215,[1]Matkul!$A$2:$D$332,4,0))","v":5}]
[null,null,"IF142",{"$f":"IF(C216=\"\",\"\",VLOOKUP(C216,[1]Matkul!$A$2:$B$332,2,0))","v":"Pemrograman Mobile 1"},{"$f":"IF(C216=\"\",\"\",VLOOKUP(C216,[1]Matkul!$A$2:$C$332,3,0))","v":4},{"$f":"IF(C216=\"\",\"\",VLOOKUP(C216,[1]Matkul!$A$2:$D$332,4,0))","v":4}]
[null,"Nandang Hermanto, M.Kom.","TI014",{"$f":"IF(C217=\"\",\"\",VLOOKUP(C217,[1]Matkul!$A$2:$B$332,2,0))","v":"Struktur Data"},{"$f":"IF(C217=\"\",\"\",VLOOKUP(C217,[1]Matkul!$A$2:$C$332,3,0))","v":3},{"$f":"IF(C217=\"\",\"\",VLOOKUP(C217,[1]Matkul!$A$2:$D$332,4,0))","v":2}]
[]
[48,"Andik Wijanarko, S.T, M.T","IF145",{"$f":"IF(C219=\"\",\"\",VLOOKUP(C219,[1]Matkul!$A$2:$B$332,2,0))","v":"Pemrograman Mobile 2"},{"$f":"IF(C219=\"\",\"\",VLOOKUP(C219,[1]Matkul!$A$2:$C$332,3,0))","v":4},{"$f":"IF(C219=\"\",\"\",VLOOKUP(C219,[1]Matkul!$A$2:$D$332,4,0))","v":5}]
[null,"Andik Wijanarko, S.T, M.T","SI102",{"$f":"IF(C220=\"\",\"\",VLOOKUP(C220,[1]Matkul!$A$2:$B$332,2,0))","v":"Pemrograman Visual I"},{"$f":"IF(C220=\"\",\"\",VLOOKUP(C220,[1]Matkul!$A$2:$C$332,3,0))","v":4},{"$f":"IF(C220=\"\",\"\",VLOOKUP(C220,[1]Matkul!$A$2:$D$332,4,0))","v":1}]
[null,null,"SI225",{"$f":"IF(C221=\"\",\"\",VLOOKUP(C221,[1]Matkul!$A$2:$B$332,2,0))","v":"Pemrograman Visual"},{"$f":"IF(C221=\"\",\"\",VLOOKUP(C221,[1]Matkul!$A$2:$C$332,3,0))","v":4},{"$f":"IF(C221=\"\",\"\",VLOOKUP(C221,[1]Matkul!$A$2:$D$332,4,0))","v":4}]
[]
[49,"Primandani Arsi, S.ST, M. Kom","SI109",{"$f":"IF(C223=\"\",\"\",VLOOKUP(C223,[1]Matkul!$A$2:$B$332,2,0))","v":"Pemrograman Visual II"},{"$f":"IF(C223=\"\",\"\",VLOOKUP(C223,[1]Matkul!$A$2:$C$332,3,0))","v":4},{"$f":"IF(C223=\"\",\"\",VLOOKUP(C223,[1]Matkul!$A$2:$D$332,4,0))","v":2}]
[null,"Primandani Arsi, S.ST, M. Kom","IF117",{"$f":"IF(C224=\"\",\"\",VLOOKUP(C224,[1]Matkul!$A$2:$B$332,2,0))","v":"Sistem Operasi"},{"$f":"IF(C224=\"\",\"\",VLOOKUP(C224,[1]Matkul!$A$2:$C$332,3,0))","v":3},{"$f":"IF(C224=\"\",\"\",VLOOKUP(C224,[1]Matkul!$A$2:$D$332,4,0))","v":3}]
[null,null,"TI007",{"$f":"IF(C225=\"\",\"\",VLOOKUP(C225,[1]Matkul!$A$2:$B$332,2,0))","v":"Sistem Operasi"},{"$f":"IF(C225=\"\",\"\",VLOOKUP(C225,[1]Matkul!$A$2:$C$332,3,0))","v":3},{"$f":"IF(C225=\"\",\"\",VLOOKUP(C225,[1]Matkul!$A$2:$D$332,4,0))","v":1}]
[null,null,"SI126",{"$f":"IF(C226=\"\",\"\",VLOOKUP(C226,[1]Matkul!$A$2:$B$332,2,0))","v":"Sistem Operasi"},{"$f":"IF(C226=\"\",\"\",VLOOKUP(C226,[1]Matkul!$A$2:$C$332,3,0))","v":3},{"$f":"IF(C226=\"\",\"\",VLOOKUP(C226,[1]Matkul!$A$2:$D$332,4,0))","v":4}]
[null,null,"SI210",{"$f":"IF(C227=\"\",\"\",VLOOKUP(C227,[1]Matkul!$A$2:$B$332,2,0))","v":"Sistem Operasi"},{"$f":"IF(C227=\"\",\"\",VLOOKUP(C227,[1]Matkul!$A$2:$C$332,3,0))","v":3},{"$f":"IF(C227=\"\",\"\",VLOOKUP(C227,[1]Matkul!$A$2:$D$332,4,0))","v":2},"Kel 2"]
[]
[50,"Shodiq Khalidy, S.Pd.I, M.Pd","AP102",{"$f":"IF(C229=\"\",\"\",VLOOKUP(C229,[1]Matkul!$A$2:$B$332,2,0))","v":"Pendidikan Agama"},{"$f":"IF(C229=\"\",\"\",VLOOKUP(C229,[1]Matkul!$A$2:$C$332,3,0))","v":3},{"$f":"IF(C229=\"\",\"\",VLOOKUP(C229,[1]Matkul!$A$2:$D$332,4,0))","v":1}]
[null,null,"SI145",{"$f":"IF(C230=\"\",\"\",VLOOKUP(C230,[1]Matkul!$A$2:$B$332,2,0))","v":"Pendidikan Agama"},{"$f":"IF(C230=\"\",\"\",VLOOKUP(C230,[1]Matkul!$A$2:$C$332,3,0))","v":2},{"$f":"IF(C230=\"\",\"\",VLOOKUP(C230,[1]Matkul!$A$2:$D$332,4,0))","v":6}]
[]
[51,"Ika Romadoni Yunita, S.Kom., M.MSI.","SI105",{"$f":"IF(C232=\"\",\"\",VLOOKUP(C232,[1]Matkul!$A$2:$B$332,2,0))","v":"Pengantar Teknologi Informasi"},{"$f":"IF(C232=\"\",\"\",VLOOKUP(C232,[1]Matkul!$A$2:$C$332,3,0))","v":3},{"$f":"IF(C232=\"\",\"\",VLOOKUP(C232,[1]Matkul!$A$2:$D$332,4,0))","v":1}]
[null,null,"SI206",{"$f":"IF(C233=\"\",\"\",VLOOKUP(C233,[1]Matkul!$A$2:$B$332,2,0))","v":"Pengantar Teknologi Informasi dan Komunikasi"},{"$f":"IF(C233=\"\",\"\",VLOOKUP(C233,[1]Matkul!$A$2:$C$332,3,0))","v":3},{"$f":"IF(C233=\"\",\"\",VLOOKUP(C233,[1]Matkul!$A$2:$D$332,4,0))","v":1}]
[null,"Ika Romadoni Yunita, S.Kom., M.MSI.","SI203",{"$f":"IF(C234=\"\",\"\",VLOOKUP(C234,[1]Matkul!$A$2:$B$332,2,0))","v":"Teori Sistem Informasi"},{"$f":"IF(C234=\"\",\"\",VLOOKUP(C234,[1]Matkul!$A$2:$C$332,3,0))","v":3},{"$f":"IF(C234=\"\",\"\",VLOOKUP(C234,[1]Matkul!$A$2:$D$332,4,0))","v":1}]
[]
[52,"Dhanar Intan Surya Saputra, M. Kom.","IF129",{"$f":"IF(C236=\"\",\"\",VLOOKUP(C236,[1]Matkul!$A$2:$B$332,2,0))","v":"Pengolahan Citra Digital"},{"$f":"IF(C236=\"\",\"\",VLOOKUP(C236,[1]Matkul!$A$2:$C$332,3,0))","v":3},{"$f":"IF(C236=\"\",\"\",VLOOKUP(C236,[1]Matkul!$A$2:$D$332,4,0))","v":5}]
[null,null,"TI032",{"$f":"IF(C237=\"\",\"\",VLOOKUP(C237,[1]Matkul!$A$2:$B$332,2,0))","v":"Pengolahan Citra Digital"},{"$f":"IF(C237=\"\",\"\",VLOOKUP(C237,[1]Matkul!$A$2:$C$332,3,0))","v":3},{"$f":"IF(C237=\"\",\"\",VLOOKUP(C237,[1]Matkul!$A$2:$D$332,4,0))","v":5}]
[null,"Dhanar Intan Surya Saputra, M. Kom.","SI053",{"$f":"IF(C238=\"\",\"\",VLOOKUP(C238,[1]Matkul!$A$2:$B$332,2,0))","v":"Perancangan Multimedia"},{"$f":"IF(C238=\"\",\"\",VLOOKUP(C238,[1]Matkul!$A$2:$C$332,3,0))","v":4},{"$f":"IF(C238=\"\",\"\",VLOOKUP(C238,[1]Matkul!$A$2:$D$332,4,0))","v":4}]
[]
[53,"Toni Anwar, S.Kom., M.MSI","TI024",{"$f":"IF(C240=\"\",\"\",VLOOKUP(C240,[1]Matkul!$A$2:$B$332,2,0))","v":"Representasi dan Penalaran"},{"$f":"IF(C240=\"\",\"\",VLOOKUP(C240,[1]Matkul!$A$2:$C$332,3,0))","v":3},{"$f":"IF(C240=\"\",\"\",VLOOKUP(C240,[1]Matkul!$A$2:$D$332,4,0))","v":4}]
[null,"Toni Anwar, S.Kom., M.MSI","TI026",{"$f":"IF(C241=\"\",\"\",VLOOKUP(C241,[1]Matkul!$A$2:$B$332,2,0))","v":"Sistem Terdistribusi"},{"$f":"IF(C241=\"\",\"\",VLOOKUP(C241,[1]Matkul!$A$2:$C$332,3,0))","v":3},{"$f":"IF(C241=\"\",\"\",VLOOKUP(C241,[1]Matkul!$A$2:$D$332,4,0))","v":4}]
[null,null,"IF124",{"$f":"IF(C242=\"\",\"\",VLOOKUP(C242,[1]Matkul!$A$2:$B$332,2,0))","v":"Sistem Terdistribusi"},{"$f":"IF(C242=\"\",\"\",VLOOKUP(C242,[1]Matkul!$A$2:$C$332,3,0))","v":3},{"$f":"IF(C242=\"\",\"\",VLOOKUP(C242,[1]Matkul!$A$2:$D$332,4,0))","v":4}]
[]
[54,"Yuli Purwati, M.Kom","IF108",{"$f":"IF(C244=\"\",\"\",VLOOKUP(C244,[1]Matkul!$A$2:$B$332,2,0))","v":"Sistem Basis Data"},{"$f":"IF(C244=\"\",\"\",VLOOKUP(C244,[1]Matkul!$A$2:$C$332,3,0))","v":4},{"$f":"IF(C244=\"\",\"\",VLOOKUP(C244,[1]Matkul!$A$2:$D$332,4,0))","v":1}]
[null,null,"TI008",{"$f":"IF(C245=\"\",\"\",VLOOKUP(C245,[1]Matkul!$A$2:$B$332,2,0))","v":"Sistem Basisdata"},{"$f":"IF(C245=\"\",\"\",VLOOKUP(C245,[1]Matkul!$A$2:$C$332,3,0))","v":4},{"$f":"IF(C245=\"\",\"\",VLOOKUP(C245,[1]Matkul!$A$2:$D$332,4,0))","v":1}]
[null,null,"SI202",{"$f":"IF(C246=\"\",\"\",VLOOKUP(C246,[1]Matkul!$A$2:$B$332,2,0))","v":"Sistem Manajemen Basis Data"},{"$f":"IF(C246=\"\",\"\",VLOOKUP(C246,[1]Matkul!$A$2:$C$332,3,0))","v":4},{"$f":"IF(C246=\"\",\"\",VLOOKUP(C246,[1]Matkul!$A$2:$D$332,4,0))","v":1}]
[null,null,"SI103",{"$f":"IF(C247=\"\",\"\",VLOOKUP(C247,[1]Matkul!$A$2:$B$332,2,0))","v":"Sistem Manajemen Basis Data"},{"$f":"IF(C247=\"\",\"\",VLOOKUP(C247,[1]Matkul!$A$2:$C$332,3,0))","v":4},{"$f":"IF(C247=\"\",\"\",VLOOKUP(C247,[1]Matkul!$A$2:$D$332,4,0))","v":1}]
[]
[55,"Abdul Azis, M. Kom","SI209",{"$f":"IF(C249=\"\",\"\",VLOOKUP(C249,[1]Matkul!$A$2:$B$332,2,0))","v":"Pemrograman Basis Data"},{"$f":"IF(C249=\"\",\"\",VLOOKUP(C249,[1]Matkul!$A$2:$C$332,3,0))","v":4},{"$f":"IF(C249=\"\",\"\",VLOOKUP(C249,[1]Matkul!$A$2:$D$332,4,0))","v":2}]
[null,null,"SI110",{"$f":"IF(C250=\"\",\"\",VLOOKUP(C250,[1]Matkul!$A$2:$B$332,2,0))","v":"Pemrograman Basis Data"},{"$f":"IF(C250=\"\",\"\",VLOOKUP(C250,[1]Matkul!$A$2:$C$332,3,0))","v":4},{"$f":"IF(C250=\"\",\"\",VLOOKUP(C250,[1]Matkul!$A$2:$D$332,4,0))","v":2}]
[null,"Abdul Azis, M. Kom","IF132",{"$f":"IF(C251=\"\",\"\",VLOOKUP(C251,[1]Matkul!$A$2:$B$332,2,0))","v":"Teori Graf"},{"$f":"IF(C251=\"\",\"\",VLOOKUP(C251,[1]Matkul!$A$2:$C$332,3,0))","v":3},{"$f":"IF(C251=\"\",\"\",VLOOKUP(C251,[1]Matkul!$A$2:$D$332,4,0))","v":5},"Kel 1"]
[]
[56,"Desty Rakhmawati, S.Si., M.Sc.","IF110",{"$f":"IF(C253=\"\",\"\",VLOOKUP(C253,[1]Matkul!$A$2:$B$332,2,0))","v":"Statistik Probabilitas"},{"$f":"IF(C253=\"\",\"\",VLOOKUP(C253,[1]Matkul!$A$2:$C$332,3,0))","v":3},{"$f":"IF(C253=\"\",\"\",VLOOKUP(C253,[1]Matkul!$A$2:$D$332,4,0))","v":2},"Kel 1"]
[{"$nulls":3},{"$f":"IF(C254=\"\",\"\",VLOOKUP(C254,[1]Matkul!$A$2:$B$332,2,0))","v":""},{"$f":"IF(C254=\"\",\"\",VLOOKUP(C254,[1]Matkul!$A$2:$C$332,3,0))","v":""},{"$f":"IF(C254=\"\",\"\",VLOOKUP(C254,[1]Matkul!$A$2:$D$332,4,0))","v":""}]
[57,"Adam Prayogo K, M.Kom.","IF132",{"$f":"IF(C255=\"\",\"\",VLOOKUP(C255,[1]Matkul!$A$2:$B$332,2,0))","v":"Teori Graf"},{"$f":"IF(C255=\"\",\"\",VLOOKUP(C255,[1]Matkul!$A$2:$C$332,3,0))","v":3},{"$f":"IF(C255=\"\",\"\",VLOOKUP(C255,[1]Matkul!$A$2:$D$332,4,0))","v":5},"Kel 2"]
[null,"Adam Prayogo K, M.Kom.","TI037",{"$f":"IF(C256=\"\",\"\",VLOOKUP(C256,[1]Matkul!$A$2:$B$332,2,0))","v":"Teori Graf dan Otomata"},{"$f":"IF(C256=\"\",\"\",VLOOKUP(C256,[1]Matkul!$A$2:$C$332,3,0))","v":3},{"$f":"IF(C256=\"\",\"\",VLOOKUP(C256,[1]Matkul!$A$2:$D$332,4,0))","v":6}]
[]
[58,"Bagus Adhi Kusuma, S.T., M.Eng.","IF132",{"$f":"IF(C258=\"\",\"\",VLOOKUP(C258,[1]Matkul!$A$2:$B$332,2,0))","v":"Teori Graf"},{"$f":"IF(C258=\"\",\"\",VLOOKUP(C258,[1]Matkul!$A$2:$C$332,3,0))","v":3},{"$f":"IF(C258=\"\",\"\",VLOOKUP(C258,[1]Matkul!$A$2:$D$332,4,0))","v":5},"Kel 3"]
[null,"Bagus Adhi Kusuma, S.T., M.Eng.","IF134",{"$f":"IF(C259=\"\",\"\",VLOOKUP(C259,[1]Matkul!$A$2:$B$332,2,0))","v":"Teori Otomata"},{"$f":"IF(C259=\"\",\"\",VLOOKUP(C259,[1]Matkul!$A$2:$C$332,3,0))","v":3},{"$f":"IF(C259=\"\",\"\",VLOOKUP(C259,[1]Matkul!$A$2:$D$332,4,0))","v":6}]