{"text_format":"3","workbook":"xlsx","n_sheets":1,"sheets":["jadwal"],"not_rendered":{"external_links":1},"read":"whole","date_system":"1900"}

{"sheet":"jadwal","index":0,"n_rows":155,"n_cols":11,"rows_kept":155,"merged":[[0,0,0,10],[1,0,1,10],[2,0,2,10]]}
["JADWAL UJIAN MICROSOFT"]
["STMIK AMIKOM PURWOKERTO"]
["PERIODE FEBRUARI 2019"]
[]
["HARI/TANGGAL ",null,": SELASA, 26 FEBRUARI 2019",null,"HARI/TANGGAL ",null,": SELASA, 26 FEBRUARI 2019",null,"HARI/TANGGAL ",null,": SELASA, 26 FEBRUARI 2019"]
["WAKTU",null,": 08.00 - 10.00",null,"WAKTU",null,": 08.00 - 10.00",null,"WAKTU",null,": 10:30 - 12.30"]
["TEMPAT",null,": LAB 4",null,"TEMPAT",null,": LAB 7",null,"TEMPAT",null,": LAB 4"]
["No.","Nim","Nama",null,"No.","Nim","Nama",null,"No.","Nim","Nama"]
[1,"11.11.1994","NUR RISOMUDIN",null,1,"16.12.0217","LUTFIANA RAHAYU UTAMI",null,1,"16.12.0123",{"$f":"IFERROR(VLOOKUP(J9,[1]Sheet1!$A$1288:$B$6495,2,0),\"\")","v":"ZULKARNAIN ROMADHON"}]
[2,"11.11.2002","ARIEF RAHMANTO",null,2,"16.12.0007","PANGKI PRADANA",null,2,"14.11.0251",{"$f":"IFERROR(VLOOKUP(J10,[1]Sheet1!$A$1288:$B$6495,2,0),\"\")","v":"FURQON NURUL'AZIZ"}]
[3,"16.11.0297","ALIF NURAZIZ",null,3,"16.12.0095","NITA PURNAMASARI",null,3,"14.11.0062",{"$f":"IFERROR(VLOOKUP(J11,[1]Sheet1!$A$1288:$B$6495,2,0),\"\")","v":"MUHAMMAD IKHSANUDIN"}]
[4,"16.12.0216","RESTA RAMADANI",null,4,"16.12.0152","NUR WIBI NUGROHO PUTRI",null,4,"16.12.0178",{"$f":"IFERROR(VLOOKUP(J12,[1]Sheet1!$A$1288:$B$6495,2,0),\"\")","v":"MIFTAKHUL RIZKI D"}]
[5,"16.12.0160","WIWIT KURNIA FATHIA",null,5,"16.12.0194","FIKA ZULFA",null,5,"16.12.0148",{"$f":"IFERROR(VLOOKUP(J13,[1]Sheet1!$A$1288:$B$6495,2,0),\"\")","v":"BINTANG RAMADAN"}]
[6,"16.11.0102","AFIANTO AGASI",null,6,"16.12.0147","ESTRIANA KRISDIANTARI",null,6,"16.12.0211",{"$f":"IFERROR(VLOOKUP(J14,[1]Sheet1!$A$1288:$B$6495,2,0),\"\")","v":"TRI MARDANI"}]
[7,"15.12.0074","FEBRI FITRA RAMADHAN",null,7,"14.12.0051","FERDIAN EKA SAPUTRA",null,7,"16.12.0073",{"$f":"IFERROR(VLOOKUP(J15,[1]Sheet1!$A$1288:$B$6495,2,0),\"\")","v":"FAUZAN DAFFA IBNU YUSUF"}]
[8,"16.11.0312","RAHMITA PRATAMA",null,8,"16.12.0139","MUHAMAD MIFTAHUDIN",null,8,"16.12.0104",{"$f":"IFERROR(VLOOKUP(J16,[1]Sheet1!$A$1288:$B$6495,2,0),\"\")","v":"MUHAMAD FARID EL FIRDAUS"}]
[9,"16.11.0055","LINATUN MASROHAH",null,9,"16.12.0020","SETIYAWAN",null,9,"16.12.0165",{"$f":"IFERROR(VLOOKUP(J17,[1]Sheet1!$A$1288:$B$6495,2,0),\"\")","v":"TRIANA NUR SYAMSIYAH"}]
[10,"16.11.0138","HADMIYATI",null,10,"16.12.0174","AFRIANI RAHAYU",null,10,"16.12.0213",{"$f":"IFERROR(VLOOKUP(J18,[1]Sheet1!$A$1288:$B$6495,2,0),\"\")","v":"VEGA DELIA YUSI VEBRIANI"}]
[11,"16.11.0231","SATRIA FACHREZA AKBAR",null,11,"16.12.0177","VITA MELIN NURCHASANAH",null,11,"16.12.0098",{"$f":"IFERROR(VLOOKUP(J19,[1]Sheet1!$A$1288:$B$6495,2,0),\"\")","v":"WIWIT PURWIYATNI"}]
[12,"16.11.0073","YUDHA PRAKOSO",null,12,"16.12.0080","DEVI AYU INDRIYANI",null,12,"16.12.0059",{"$f":"IFERROR(VLOOKUP(J20,[1]Sheet1!$A$1288:$B$6495,2,0),\"\")","v":"VIKI CAHYANI"}]
[13,"16.11.0244","YULI CAHYANINGSIH",null,13,"16.12.0181","TRIANA YULISTIA",null,13,"16.12.0088",{"$f":"IFERROR(VLOOKUP(J21,[1]Sheet1!$A$1288:$B$6495,2,0),\"\")","v":"SEPTI UJI LESTARI"}]
[14,"16.11.0164","DESI PUTRI PRATIWI",null,14,"16.12.0191","AFRILIANI EFA ARSINTA",null,14,"16.12.0107",{"$f":"IFERROR(VLOOKUP(J22,[1]Sheet1!$A$1288:$B$6495,2,0),\"\")","v":"OKTA RIAN IBRAHIM"}]
[15,"16.11.0303","DINI APRILIA",null,15,"16.12.0071","ARINI AMIRUL HAQI",null,15,"16.12.0099",{"$f":"IFERROR(VLOOKUP(J23,[1]Sheet1!$A$1288:$B$6495,2,0),\"\")","v":"TRIO WICAKSONO"}]
[16,"16.11.0292","ALUNG SUSLI",null,16,"16.12.0106","WILA AUDINA",null,16,"16.12.0101",{"$f":"IFERROR(VLOOKUP(J24,[1]Sheet1!$A$1288:$B$6495,2,0),\"\")","v":"YOGA SOEGOMO"}]
[17,"16.11.0187","ZAKHROTUL LAELAFRITA",null,17,"16.12.0115","ARYUSTIAN STYA RAMADHAN",null,17,"16.12.0161",{"$f":"IFERROR(VLOOKUP(J25,[1]Sheet1!$A$1288:$B$6495,2,0),\"\")","v":"RADITYA FAJAR RAMADHAN"}]
[18,"16.11.0257","BUDIYANI HARTATI",null,18,"16.12.0089","RIFKI HIDAYAT",null,18,"16.12.0190",{"$f":"IFERROR(VLOOKUP(J26,[1]Sheet1!$A$1288:$B$6495,2,0),\"\")","v":"RENDRA AGUNG PRABOWO"}]
[19,"16.11.0340","SENIA TRISNA SAPUTRI",null,19,"18.12.0002","AKBHAR PUTRA PRATAMA",null,19,"16.12.0078",{"$f":"IFERROR(VLOOKUP(J27,[1]Sheet1!$A$1288:$B$6495,2,0),\"\")","v":"ROY DWI KUNCORO"}]
[20,"16.11.0247","RAFLI FIRDAUSY IRAWAN",null,20,"16.12.0012","DEDE MISBAHUL MUNIR",null,20,"16.12.0207",{"$f":"IFERROR(VLOOKUP(J28,[1]Sheet1!$A$1288:$B$6495,2,0),\"\")","v":"AVIT LIA ANGGRAENI"}]
[21,"16.11.0068","ZAENUR ROCHMAN",null,21,"16.12.0156","PRISKI FAJAR EKSANDI",null,21,"16.12.0206",{"$f":"IFERROR(VLOOKUP(J29,[1]Sheet1!$A$1288:$B$6495,2,0),\"\")","v":"ADELIA PUTRI WULANDARI"}]
[22,"16.11.0128","UPUT GINANJAR",null,22,"14.12.0254","ALFI MAHARDIKA",null,22,"16.12.0203",{"$f":"IFERROR(VLOOKUP(J30,[1]Sheet1!$A$1288:$B$6495,2,0),\"\")","v":"DIDIT AGUS PRIANTO"}]
[23,"16.11.0070","YAHYA DANI LISHARYANTO",null,23,"16.11.0074","SITI HANIFAH",null,23,"16.12.0143",{"$f":"IFERROR(VLOOKUP(J31,[1]Sheet1!$A$1288:$B$6495,2,0),\"\")","v":"ARIEF SEPTYADY"}]
[24,"16.11.0146","YANUAR ARVIANSYAH",null,24,"16.11.0063","AKHMAD YUSUF FAUZI",null,24,"16.12.0202",{"$f":"IFERROR(VLOOKUP(J32,[1]Sheet1!$A$1288:$B$6495,2,0),\"\")","v":"ANDRIAN ERSA MAULANA"}]
[25,"16.12.0096","FAIZ RAMADANI",null,25,"16.11.0120","SITI ROFIAH",null,25,"16.12.0172",{"$f":"IFERROR(VLOOKUP(J33,[1]Sheet1!$A$1288:$B$6495,2,0),\"\")","v":"BAGUS MAULANA"}]
[26,"16.12.0118","HARIS MUFRONI",null,26,"16.11.0295","RAFLY MAULANA",null,26,"16.12.0102",{"$f":"IFERROR(VLOOKUP(J34,[1]Sheet1!$A$1288:$B$6495,2,0),\"\")","v":"DEDE SETIYO NUGROHO"}]
[27,"16.12.0085","HANIF SATRIA NUGRAHA",null,27,"15.12.0118","TRI SETYA ADI",null,27,"16.12.0067",{"$f":"IFERROR(VLOOKUP(J35,[1]Sheet1!$A$1288:$B$6495,2,0),\"\")","v":"MARETA KUMBARA PUTRI"}]
[28,"16.12.0021","AMBARSARI UTAMI",null,28,"15.12.0131","BIMA CHRISNAJATI PRABOWO",null,28,"14.12.0124",{"$f":"IFERROR(VLOOKUP(J36,[1]Sheet1!$A$1288:$B$6495,2,0),\"\")","v":"NURAFNI IRMAYANTI"}]
[29,"16.12.0170","EFINA NAWANG NOVIANTI",null,29,"14.11.0192","OKI WARAS PAMBUDI",null,29,"15.12.0069",{"$f":"IFERROR(VLOOKUP(J37,[1]Sheet1!$A$1288:$B$6495,2,0),\"\")","v":"UMTY NURUL FAIQOH"}]
[30,"16.12.0138","ARUM RATNA SARI DEWI",null,30,"14.11.0252","SATRIO ADJI PRATAMA",null,30,"16.12.0167",{"$f":"IFERROR(VLOOKUP(J38,[1]Sheet1!$A$1288:$B$6495,2,0),\"\")","v":"ANING WAHYUNI"}]
[31,"16.12.0022","MIYAT SUTOPO",null,31,"16.12.0233","WIBI AFIF ABYANSYAH",null,31,"16.12.0124",{"$f":"IFERROR(VLOOKUP(J39,[1]Sheet1!$A$1288:$B$6495,2,0),\"\")","v":"ASIH UDIANTI"}]
[]
[]
["HARI/TANGGAL ",null,": SELASA, 26 FEBRUARI 2019",null,"HARI/TANGGAL ",null,": SELASA, 26 FEBRUARI 2019",null,"HARI/TANGGAL ",null,": SELASA, 26 FEBRUARI 2019"]
["WAKTU",null,": 10:30 - 12.30",null,"WAKTU",null,": 13.00 - 15.00",null,"WAKTU",null,": 13.00 - 15.00"]
["TEMPAT",null,": LAB 7",null,"TEMPAT",null,": LAB 4",null,"TEMPAT",null,": LAB 7"]
["No.","Nim","Nama",null,"No.","Nim","Nama",null,"No.","Nim","Nama"]
[1,"16.12.0141",{"$f":"IFERROR(VLOOKUP(B46,[1]Sheet1!$A$1288:$B$6495,2,0),\"\")","v":"BELINA INDAH MIANTI"},null,1,"15.11.0314",{"$f":"IFERROR(VLOOKUP(F46,[1]Sheet1!$A$1288:$B$6495,2,0),\"\")","v":"ROMADLON ARIF KURNIADI"},null,1,"16.11.0253","TEGUH SUDRAJAT"]
[2,"16.11.0168",{"$f":"IFERROR(VLOOKUP(B47,[1]Sheet1!$A$1288:$B$6495,2,0),\"\")","v":"ENDAH TRI WINARSIH"},null,2,"15.11.0071",{"$f":"IFERROR(VLOOKUP(F47,[1]Sheet1!$A$1288:$B$6495,2,0),\"\")","v":"ADE NURRIZKY AFFRILIANTO"},null,2,"16.12.0193","ADITYA BAYU IRGIYANTO"]
[3,"16.12.0109",{"$f":"IFERROR(VLOOKUP(B48,[1]Sheet1!$A$1288:$B$6495,2,0),\"\")","v":"CHOIRUNNISA KUSUMAWARDANI"},null,3,"15.11.0182",{"$f":"IFERROR(VLOOKUP(F48,[1]Sheet1!$A$1288:$B$6495,2,0),\"\")","v":"WAHYU HARYADIANTO"},null,3,"16.12.0025","DESSANDY NUR RAMADHAN"]
[4,"16.11.0099",{"$f":"IFERROR(VLOOKUP(B49,[1]Sheet1!$A$1288:$B$6495,2,0),\"\")","v":"WINARA FATIN NIHAYAH"},null,4,"16.12.0121",{"$f":"IFERROR(VLOOKUP(F49,[1]Sheet1!$A$1288:$B$6495,2,0),\"\")","v":"WILDAN ABDILLAH"},null,4,"16.12.0019","ALI YAHYA ASHARI"]
[5,"16.12.0221",{"$f":"IFERROR(VLOOKUP(B50,[1]Sheet1!$A$1288:$B$6495,2,0),\"\")","v":"PUJI SULIS STIAWATI"},null,5,"16.12.0218",{"$f":"IFERROR(VLOOKUP(F50,[1]Sheet1!$A$1288:$B$6495,2,0),\"\")","v":"SHOFI MAULANA DHUHA"},null,5,"16.11.0130","OBI HARI SUTRISNO"]
[6,"16.12.0197",{"$f":"IFERROR(VLOOKUP(B51,[1]Sheet1!$A$1288:$B$6495,2,0),\"\")","v":"DITA KUSUMA"},null,6,"16.11.0011",{"$f":"IFERROR(VLOOKUP(F51,[1]Sheet1!$A$1288:$B$6495,2,0),\"\")","v":"SIDIQ ARIEF PRASETYO"},null,6,"16.11.0191","BOSSI BANI MAJID"]
[7,"16.12.0103",{"$f":"IFERROR(VLOOKUP(B52,[1]Sheet1!$A$1288:$B$6495,2,0),\"\")","v":"ALFINA RIZQIYA"},null,7,"16.11.0012",{"$f":"IFERROR(VLOOKUP(F52,[1]Sheet1!$A$1288:$B$6495,2,0),\"\")","v":"ANGGIT PRAKASA PUTRA"},null,7,"16.11.0141","SEPTYA EKA KURNIAWAN"]
[8,"16.11.0052",{"$f":"IFERROR(VLOOKUP(B53,[1]Sheet1!$A$1288:$B$6495,2,0),\"\")","v":"NUROKTA FAUZY SAPUTRA"},null,8,"16.12.0120",{"$f":"IFERROR(VLOOKUP(F53,[1]Sheet1!$A$1288:$B$6495,2,0),\"\")","v":"ROBBY ARI WIBOWO"},null,8,"16.11.0038","FEGA TRI SUBANTARA"]
[9,"16.11.0301",{"$f":"IFERROR(VLOOKUP(B54,[1]Sheet1!$A$1288:$B$6495,2,0),\"\")","v":"ADENT BIMA PRASETYA"},null,9,"15.11.0020",{"$f":"IFERROR(VLOOKUP(F54,[1]Sheet1!$A$1288:$B$6495,2,0),\"\")","v":"TITO ARI KUSHARYANTO"},null,9,"16.11.0001","FAHMI YAHYA"]
[10,"16.11.0045",{"$f":"IFERROR(VLOOKUP(B55,[1]Sheet1!$A$1288:$B$6495,2,0),\"\")","v":"SINDI ROSITA MULYANI"},null,10,"15.12.0168",{"$f":"IFERROR(VLOOKUP(F55,[1]Sheet1!$A$1288:$B$6495,2,0),\"\")","v":"STEVANI HEPPY HONCE R"},null,10,"16.11.0209","TRI BASKORO"]
[11,"16.11.0067",{"$f":"IFERROR(VLOOKUP(B56,[1]Sheet1!$A$1288:$B$6495,2,0),\"\")","v":"RICCI DIAN FIRMANSYAH"},null,11,"16.12.0176",{"$f":"IFERROR(VLOOKUP(F56,[1]Sheet1!$A$1288:$B$6495,2,0),\"\")","v":"MAULIDIA KARTIKA NUR H"},null,11,"16.11.0149","YOSUA YANUARIFIN"]
[12,"16.11.0195",{"$f":"IFERROR(VLOOKUP(B57,[1]Sheet1!$A$1288:$B$6495,2,0),\"\")","v":"TEGUH MARDIONO"},null,12,"16.12.0201",{"$f":"IFERROR(VLOOKUP(F57,[1]Sheet1!$A$1288:$B$6495,2,0),\"\")","v":"JINNY SEPTIAMI"},null,12,"16.11.0079","FADILA AKTAR ZIYADI"]
[13,"16.11.0192",{"$f":"IFERROR(VLOOKUP(B58,[1]Sheet1!$A$1288:$B$6495,2,0),\"\")","v":"RIZKY FIRDAUSI"},null,13,"16.12.0130",{"$f":"IFERROR(VLOOKUP(F58,[1]Sheet1!$A$1288:$B$6495,2,0),\"\")","v":"FADILA DAROJATU SIDQI"},null,13,"16.11.0065","BAYU IBNU SYAFIQ"]
[14,"16.11.0082",{"$f":"IFERROR(VLOOKUP(B59,[1]Sheet1!$A$1288:$B$6495,2,0),\"\")","v":"SOFYAN FATHUR ROHIM"},null,14,"16.11.0087",{"$f":"IFERROR(VLOOKUP(F59,[1]Sheet1!$A$1288:$B$6495,2,0),\"\")","v":"HASTIN ESA PRAMESTHI"},null,14,"16.11.0136","FADIL"]
[15,"16.11.0233",{"$f":"IFERROR(VLOOKUP(B60,[1]Sheet1!$A$1288:$B$6495,2,0),\"\")","v":"SIDIQ FATKHUL MUGNI"},null,15,"17.11.0188",{"$f":"IFERROR(VLOOKUP(F60,[1]Sheet1!$A$1288:$B$6495,2,0),\"\")","v":"DWI JOKO PURNOMO"},null,15,"16.11.0304","AZIZ WIBIE ADE SATRIO"]
[16,"16.11.0142",{"$f":"IFERROR(VLOOKUP(B61,[1]Sheet1!$A$1288:$B$6495,2,0),\"\")","v":"YUSUP EFENDI"},null,16,"14.11.0060",{"$f":"IFERROR(VLOOKUP(F61,[1]Sheet1!$A$1288:$B$6495,2,0),\"\")","v":"FEBRI ADITYA NUGROHO"},null,16,"16.11.0154","RESTI UNDI INDRAWATI"]
[17,"16.11.0137",{"$f":"IFERROR(VLOOKUP(B62,[1]Sheet1!$A$1288:$B$6495,2,0),\"\")","v":"UNTUNG NUR KHIFNI"},null,17,"14.11.0357",{"$f":"IFERROR(VLOOKUP(F62,[1]Sheet1!$A$1288:$B$6495,2,0),\"\")","v":"ADITIA ALDAMA"},null,17,"16.11.0180","TRIAN DAMAI"]
[18,"16.11.0160",{"$f":"IFERROR(VLOOKUP(B63,[1]Sheet1!$A$1288:$B$6495,2,0),\"\")","v":"ZIDNI MUJIB"},null,18,"15.11.0007",{"$f":"IFERROR(VLOOKUP(F63,[1]Sheet1!$A$1288:$B$6495,2,0),\"\")","v":"ARIF SIDIK PRASETIYO"},null,18,"16.11.0193","NURIZZA AMALIA LARASATI"]
[19,"16.11.0004",{"$f":"IFERROR(VLOOKUP(B64,[1]Sheet1!$A$1288:$B$6495,2,0),\"\")","v":"DANI ALVIANTO"},null,19,"15.11.0230",{"$f":"IFERROR(VLOOKUP(F64,[1]Sheet1!$A$1288:$B$6495,2,0),\"\")","v":"SYIFAUDDIN RAMLY"},null,19,"16.11.0051","NUNIK DWI HIDAYATUN"]
[20,"16.11.0309",{"$f":"IFERROR(VLOOKUP(B65,[1]Sheet1!$A$1288:$B$6495,2,0),\"\")","v":"WAHYU AJI PANGESTU"},null,20,"18.12.0006","WAHYU DWI RATNASARI",null,20,"16.11.0058","AGUNG TRI WIBOWO"]
[21,"17.11.0013",{"$f":"IFERROR(VLOOKUP(B66,[1]Sheet1!$A$1288:$B$6495,2,0),\"\")","v":"RANGGA PRANGWEDANA JANUWARSA"},null,21,"16.11.0310",{"$f":"IFERROR(VLOOKUP(F66,[1]Sheet1!$A$1288:$B$6495,2,0),\"\")","v":"KEVIN ESA SAPUTRA"},null,21,"16.11.0151","FAJAR DWI SETIAWAN"]
[22,"16.11.0017",{"$f":"IFERROR(VLOOKUP(B67,[1]Sheet1!$A$1288:$B$6495,2,0),\"\")","v":"ADIT SETIAWAN"},null,22,"16.11.0161",{"$f":"IFERROR(VLOOKUP(F67,[1]Sheet1!$A$1288:$B$6495,2,0),\"\")","v":"HEGA FAISAL AGUSTIAN"},null,22,"16.11.0097","MEI INDIANI"]
[23,"16.11.0049",{"$f":"IFERROR(VLOOKUP(B68,[1]Sheet1!$A$1288:$B$6495,2,0),\"\")","v":"ALFIANSYAH ARIFUDIN AKBAR"},null,23,"16.12.0127",{"$f":"IFERROR(VLOOKUP(F68,[1]Sheet1!$A$1288:$B$6495,2,0),\"\")","v":"ELSA YULIA AGUSTIN"},null,23,"16.11.0050","HENDRA BUDI SANTOSA"]
[24,"16.11.0296",{"$f":"IFERROR(VLOOKUP(B69,[1]Sheet1!$A$1288:$B$6495,2,0),\"\")","v":"MUCHAMAD ARIEF SIDIK"},null,24,"16.12.0063",{"$f":"IFERROR(VLOOKUP(F69,[1]Sheet1!$A$1288:$B$6495,2,0),\"\")","v":"ANGGER SEFTIYAN BAGUS BAHARI"},null,24,"16.11.0158","IDHA APRIAN FIRMANSYAH"]
[25,"16.11.0076",{"$f":"IFERROR(VLOOKUP(B70,[1]Sheet1!$A$1288:$B$6495,2,0),\"\")","v":"MUHAMMAD YUNUS"},null,25,"16.12.0065",{"$f":"IFERROR(VLOOKUP(F70,[1]Sheet1!$A$1288:$B$6495,2,0),\"\")","v":"LALU GERY HIDAYAT"},null,25,"16.11.0005","DHANDY DARMA BOJANTO"]
[26,"15.11.0064",{"$f":"IFERROR(VLOOKUP(B71,[1]Sheet1!$A$1288:$B$6495,2,0),\"\")","v":"ANGGI PRADANA"},null,26,"16.11.0315",{"$f":"IFERROR(VLOOKUP(F71,[1]Sheet1!$A$1288:$B$6495,2,0),\"\")","v":"NIZAR MIRZA AFFANDI"},null,26,"16.12.0070","MUHAMMAD YAFIE YULIANTO"]
[27,"15.11.0083",{"$f":"IFERROR(VLOOKUP(B72,[1]Sheet1!$A$1288:$B$6495,2,0),\"\")","v":"PANJI WICAKSONO"},null,27,"16.12.0122",{"$f":"IFERROR(VLOOKUP(F72,[1]Sheet1!$A$1288:$B$6495,2,0),\"\")","v":"RIDYA RISMANDA"},null,27,"16.12.0018","DIMAS SETIA HARTADI"]
[28,"15.11.0074",{"$f":"IFERROR(VLOOKUP(B73,[1]Sheet1!$A$1288:$B$6495,2,0),\"\")","v":"NOVIANTO"},null,28,"16.11.0040",{"$f":"IFERROR(VLOOKUP(F73,[1]Sheet1!$A$1288:$B$6495,2,0),\"\")","v":"TRI SUNDARI"},null,28,"16.11.0337","CAHYA NUR SIDIQ"]
[29,"15.11.0089",{"$f":"IFERROR(VLOOKUP(B74,[1]Sheet1!$A$1288:$B$6495,2,0),\"\")","v":"ADITYA DANU WIBOWO"},null,29,"16.12.0003",{"$f":"IFERROR(VLOOKUP(F74,[1]Sheet1!$A$1288:$B$6495,2,0),\"\")","v":"SUHARTO AGUNG WIBAWANTO"},null,29,"16.11.0290","SHERLINA TYAS UTAMI"]
[30,"15.11.0115",{"$f":"IFERROR(VLOOKUP(B75,[1]Sheet1!$A$1288:$B$6495,2,0),\"\")","v":"FAHMI AZIZ NURAHMAN"},null,30,"16.12.0076",{"$f":"IFERROR(VLOOKUP(F75,[1]Sheet1!$A$1288:$B$6495,2,0),\"\")","v":"SALAFUDIN RIDWAN HIDAYAT"},null,30,"16.11.0059","SAPUTRA HENDARTO"]
[31,"15.11.0183",{"$f":"IFERROR(VLOOKUP(B76,[1]Sheet1!$A$1288:$B$6495,2,0),\"\")","v":"RIFKY NUR SETYADI"},null,31,"16.11.0208",{"$f":"IFERROR(VLOOKUP(F76,[1]Sheet1!$A$1288:$B$6495,2,0),\"\")","v":"AJIB AL HAKIM RAJO MEDAN"},null,31,"16.11.0028","GRISELA DIKI ARDIYANTO"]
[]
[]
["HARI/TANGGAL ",null,": RABU, 27 FEBRUARI 2019",null,"HARI/TANGGAL ",null,": RABU, 27 FEBRUARI 2019",null,"HARI/TANGGAL ",null,": RABU, 27 FEBRUARI 2019"]
["WAKTU",null,": 08.00 - 10.00",null,"WAKTU",null,": 08.00 - 10.00",null,"WAKTU",null,": 10:30 - 12.30"]
["TEMPAT",null,": LAB 4",null,"TEMPAT",null,": LAB 7",null,"TEMPAT",null,": LAB 4"]
["No.","Nim","Nama",null,"No.","Nim","Nama",null,"No.","Nim","Nama"]
[1,"16.11.0062","RIZKY MAIDA KARTIKA",null,1,"16.12.0188","TOFAN EKO JULIANTO",null,1,"16.11.0169","DEDY SUBEHI"]
[2,"16.11.0020","DIDIT JULIANTO INARDI",null,2,"16.12.0169","SOFIAN TOTO PRIYO WIBOWO",null,2,"16.11.0175","CANDRA MAOLANA"]
[3,"16.11.0069","MUHAMMAD REZA",null,3,"16.12.0149","TRI MURNIATI",null,3,"16.11.0254","AHMAD FAUZI"]
[4,"16.11.0098","TIKA OKTAVIA",null,4,"16.12.0081","MARTHA GUSTAN PRASYDA",null,4,"16.11.0171","MAFRUKHIN"]
[5,"16.11.0043","SURATI NINGSIH",null,5,"16.12.0028","KRIS TRIO SATRIYONO",null,5,"16.11.0163","ARIF BAGUS SETIAJI"]
[6,"16.11.0129","RISWATI",null,6,"16.12.0129","ELSA PRAYEKTI SUSONGKO",null,6,"16.11.0018","TOHIRUN"]
[7,"16.11.0106","AGUSTIAN DWI SAMBODO",null,7,"16.11.0037","JUNIATUN ISTIQOMAH",null,7,"16.11.0157","FAJAR BAYU WOCAKSONO"]
[8,"16.11.0184","OKTRI FIANA DEWI",null,8,"16.12.0180","ABDUL AZIZ",null,8,"16.11.0132","WAHYU SUSENO"]
[9,"16.11.0190","AFFAN SUKMA WIBRATA",null,9,"16.12.0125","IRVAN ULUL AZMI",null,9,"16.12.0162","ALIEF MAULANA HISYAM"]
[10,"16.11.0302","AHMAD SUBHAN A'TOILAH",null,10,"15.12.0164","YUDHA DESMA ALFIANI",null,10,"16.11.0334","CASRO"]
[11,"16.11.0236","DEWANGGA BAYU LAKSONO",null,11,"16.11.0090","RAYHAN SHAQUELLE ORIWARDANU SETIAJABUDI",null,11,"16.11.0105","LUSTIYONO PRASETYO NUGROHO"]
[12,"16.11.0182","NUR ANNISA DESTI C",null,12,"16.12.0024","GERI SETIAWAN",null,12,"16.11.0047","RONI WINARTO"]
[13,"16.12.0163","KEMAL PANDU GRAHA",null,13,"15.12.0106","DIMAS TRI ANGGORO",null,13,"16.11.0178","DAMAS BAGUS SANJAYA"]
[14,"16.12.0086","AKHMAD KHANAN AZKA",null,14,"16.11.0343","FAJAR RIZKY FERDRIANTO",null,14,"16.12.0183","ARI PRIONO"]
[15,"15.12.0157","UNGGUH FAIZATURROHMAN",null,15,"16.11.0086","HAMID ASHARI",null,15,"16.11.0010","MARRUNA EXCEL PRADANA"]
[16,"16.12.0222","NIKO PUTRA AKBAR BILLAH",null,16,"16.11.0240","MUHAMMAD RIZQI MAULANA HARUN",null,16,"16.11.0261","FERRY PUTRA WIJAYA"]
[17,"16.12.0195","AGUNG TEJA KUSUMA",null,17,"16.11.0133","RIDHO SANTOSO HANDOYO",null,17,"16.11.0287","CAHYA GIWANGKARA YULIAWAN"]
[18,"16.12.0140","RULY NIKO DWI PUTRA",null,18,"16.11.0140","AZIZ NUR RAHMAN",null,18,"16.12.0126","METI ARIF RAMDANI"]
[19,"16.12.0066","PRASETYO YANUAR ROMADANI",null,19,"16.11.0199","DONI DAMARA",null,19,"16.12.0144","NAEDA FITRIKHATUN LATIFAH"]
[20,"16.12.0150","DANANG FAJAR JUNIANTO",null,20,"16.11.0267","DANANG ALDY KURNIAWAN",null,20,"16.12.0153","NORA WULANDARI"]
[21,"16.12.0168","CICIN RIZKI FH",null,21,"16.11.0248","ESA RIZKI ANANDRIAN",null,21,"16.12.0185","BAHAR FATAH WIJAYANTO"]
[22,"16.12.0229","ADELIA PIPIT S",null,22,"16.11.0221","BAGUS ANJAS PRIYANDOKO",null,22,"16.12.0092","ANDIYUDA PRASETYO"]
[23,"16.12.0166","ALBERTUS NOVIAN BAYU TRI ATMOKO",null,23,"16.11.0229","FADHEL IMADUDDIN ZANKI",null,23,"16.12.0208","ARIS DWI ARIANTO"]
[24,"16.12.0075","JANATA TAMARA RAFIDA",null,24,"16.11.0235","DEDEN WINANTO",null,24,"16.12.0087","KEVIN ADIYANSAH"]
[25,"16.12.0223","DWI SEPTI RAHAYU PRATIWI",null,25,"16.11.0107","MOHAMAD FAHRUL ROZY",null,25,"16.11.0124","INDRA KUSUMA WARDANI"]
[26,"16.12.0179","M MAHDA MASHANI",null,26,"16.11.0053","FADHLI ARDHIASALAM",null,26,"16.11.0145","LABIBUL UMAM"]
[27,"16.12.0146","KUKUH WIJANARKO",null,27,"16.11.0284","TRI WAHYONO",null,27,"16.12.0062","BAYU NAVANTO SADIQ"]
[28,"16.12.0219","IMRON ASHARULLY",null,28,"16.11.0202","ADIFTIAN AL AZIZI",null,28,"16.11.0114","HAFID IMAN SENTOSA"]
[29,"16.12.0026","KRIS BUDIONO",null,29,"16.11.0217","CHARIR MAULANA ACHSAN",null,29,"16.11.0196","KHILMI CHOERUL FUADI"]
[30,"16.12.0236","SOMBA SETIAWAN",null,30,"16.11.0308","DHIMAS GALIH PRASETYO",null,30,"16.11.0298","IKHWAN SETYAWAN"]
[31,"16.12.0182","YUSUF FAUZI PRADANA",null,31,"16.11.0305","BAGUS BUDI SANTOSO",null,31,"16.11.0176","FIKRI LABIB"]
[]
[]
["HARI/TANGGAL ",null,": RABU, 27 FEBRUARI 2019",null,"HARI/TANGGAL ",null,": RABU, 27 FEBRUARI 2019",null,"HARI/TANGGAL ",null,": RABU, 27 FEBRUARI 2019"]
["WAKTU",null,": 10:30 - 12.30",null,"WAKTU",null,": 13.00 - 15.00",null,"WAKTU",null,": 13.00 - 15.00"]
["TEMPAT",null,": LAB 7",null,"TEMPAT",null,": LAB 4",null,"TEMPAT",null,": LAB 7"]
["No.","Nim","Nama",null,"No.","Nim","Nama",null,"No.","Nim","Nama"]
[1,"16.11.0349","JUNIAR RHAMADHAN",null,1,"16.11.0096","ANJASMARA",null,1,"16.12.0171","ADITIA RAMA SETIAWAN"]
[2,"16.11.0159","LUTFI ABDURROHMAN",null,2,"16.11.0294","INTAN FEBRIANI",null,2,"16.11.0127","LUTFI NUGROHO"]
[3,"16.11.0271","HARRY WICHAKSONO",null,3,"16.12.0137","TITA KUSUMA WARDANI",null,3,"16.11.0031","MOCHAMMAD IRFANSYAH"]
[4,"16.11.0289","FAIZ ICHSAN JAYA",null,4,"16.12.0119","OVALYA FAHIR",null,4,"16.12.0184","IN'AMUL WAFA"]
[5,"16.11.0344","IKHSAN SETIAWAN",null,5,"16.12.0214","UMAR ABDUR RAHMAN",null,5,"16.11.0179","DESTA ARI KUNCORO"]
[6,"16.11.0085","FENDI KURNIAWAN",null,6,"16.11.0066","GALANG DEWA NUANSA",null,6,"16.12.0074","ADE AGAM"]
[7,"16.11.0227","GILANG DWI PRASETYO",null,7,"16.12.0117","DEWANGGA KUSUMADANI",null,7,"16.11.0332","MAGHFUR APRIYADIN"]
[8,"16.11.0188","LISTYANINGRUM EKA W",null,8,"16.12.0151","AZHAR SUHARJIANTO",null,8,"16.11.0281","MAKHBUB RIFKI ARROZI"]
[9,"16.11.0077","FIRMAN FAZUR RAHMAN",null,9,"16.12.0069","DIHAN PRIAJI",null,9,"16.11.0060","YOYO SETIAWAN"]
[10,"16.11.0273","LAELI NASIKHATUL KHASANAH",null,10,"16.11.0314","MIFTAHUL CHOIR SUDIYONO",null,10,"16.11.0333","ACHMAD YAZID KAROMI"]
[11,"18.11.0003","RAHMI SETYANINGRUM",null,11,"16.11.0212","MANDRA PRADITA CAHYANI",null,11,"16.11.0194","AKHMAD KAMALUDIN"]
[12,"16.11.0272","LUKY SUFRA ALFARIZI",null,12,"16.11.0108","MOHAMAD RIZA FEBRIANSYAH",null,12,"16.12.0205","BAYU SETIADI"]
[13,"16.11.0206","FAHREZA NUGRAHA FAJAR",null,13,"16.11.0054","MITRA YULIANTI",null,13,"16.12.0008","MUHAMMAD HAIKAL"]
[14,"16.11.0093","FIRMANSAH PUTRA",null,14,"15.11.0178","ERI IFNU FAJAR",null,14,"16.12.0134","ANDI WIRATAMA"]
[15,"16.11.0299","ISNA BUDIATI",null,15,"15.11.0236","SETYA HANDAYANI",null,15,"16.11.0071","MUHAMMAD ALI HASANI"]
[16,"16.11.0316","IBNU ISWANTORO PRABOWO S",null,16,"16.11.0338","ANANG AJI WIBOWO",null,16,"16.11.0123","MOH MUGNI LABIB"]
[17,"16.11.0249","FATHURROHMAN",null,17,"15.11.0305","EKA WAHYU GIANTI",null,17,"16.11.0207","RIFKI KURNIAWAN FAUZI"]
[18,"16.11.0283","ALWI SOFWAN",null,18,"16.12.0131","ANDRE JUNIANTO",null,18,"16.11.0113","HERU SUBIANTO"]
[19,"16.11.0265","ADAM DEVA MAYYELLA",null,19,"16.12.0084","DANI KURNIAWAN",null,19,"16.11.0101","ATA FAZAL AKWAN"]
[20,"16.11.0306","ACHMAD RIZKY",null,20,"16.12.0145","AFUAN DWI MURTONOVAN",null,20,"16.11.0088","ASHAR RAMADAN"]
[21,"16.11.0189","IKUR TRI ISWARA",null,21,"16.12.0072","GENDY SYAFRIRAMA",null,21,"16.11.0274","GHERRY ANDRIANA"]
[22,"16.11.0167","AMIN RIFA'I",null,22,"16.12.0209","ADITYA PRAKOSO",null,22,"16.11.0223","FATHAN MUBINAN HARTONO"]
[23,"16.11.0095","ARGIAN WIBIANTORO",null,23,"16.11.0313","MUHAMAD BAGUS PRABOWO",null,23,"16.11.0218","ERIK HERYANTO"]
[24,"16.11.0174","AGUNG PURWANTO",null,24,"16.11.0250","PAGUH WIBISONO ADHI",null,24,"17.11.0315","MOHAMMAD KHAERUL RIZAL"]
[25,"16.11.0117","ADE PUTRA PRADITYA",null,25,"16.12.0142","DIMAS AJI PURWOKO",null,25,"16.11.0197","AKHMAD DWI RIFAI"]
[26,"16.11.0222","JIHAN NADILA",null,26,"16.11.0186","PANJI DWI SUWARNA",null,26,"16.11.0026","RESA ICHSANUDIN"]
[27,"16.11.0225","MARISA GIVANI",null,27,"16.11.0256","RIKO AJI NUGROHO"]
[28,"16.12.0164","AYI DANAR PRATAMA",null,28,"16.11.0213","ELANG GUSTI HERLIAN"]
[29,"16.11.0122","DINO SETIAWAN",null,29,"16.11.0061","HENI SEPTIANA"]
[30,"16.11.0260","LANANG RIZQI AL AMIN",null,30,"16.12.0001","RAMA DWI PUTRO"]
[31,"16.11.0220","FAJAR AJI PERMANA",null,31,"16.11.0280","KAHAR RIDWAN FUADI"]
[]
[null,"CATATAN:"]
[null,"-MODUL DOT BERUPA FILE E-BOOK DAPAT DI DOWNLOAD BERSAMA PENGUMUMAN INI di"]
[null,"https://drive.google.com/file/d/1G9bcUDTyX4OIZ3MAdSsBa1R7U8sX-by6/view?usp=sharing"]
[null,"-Password: ujiandot2019"]