{"text_format":"3","workbook":"xlsx","n_sheets":1,"sheets":["FCNS"],"not_rendered":{"external_links":1},"read":"whole","date_system":"1900"}

{"sheet":"FCNS","index":0,"n_rows":286,"n_cols":4,"rows_kept":286}
["NO URUT","NIM","NAMA","SERTIFIKASI"]
[1,"17.11.0102",{"$f":"IF(B2=\"\",\"\",VLOOKUP(B2,[1]Mahasiswa!$A$2:$B$999999,2,0))","v":"Abdul Aziz"},"FCNS "]
[2,"17.11.0047",{"$f":"IF(B3=\"\",\"\",VLOOKUP(B3,[1]Mahasiswa!$A$2:$B$999999,2,0))","v":"Abdul Ghofur"},"FCNS"]
[3,"17.11.0231",{"$f":"IF(B4=\"\",\"\",VLOOKUP(B4,[1]Mahasiswa!$A$2:$B$999999,2,0))","v":"Abdurrahman Al Ghofiqi"},"FCNS"]
[4,"17.11.0112",{"$f":"IF(B5=\"\",\"\",VLOOKUP(B5,[1]Mahasiswa!$A$2:$B$999999,2,0))","v":"Abi Dwi Rafdi"},"FCNS"]
[5,"17.11.0307",{"$f":"IF(B6=\"\",\"\",VLOOKUP(B6,[1]Mahasiswa!$A$2:$B$999999,2,0))","v":"Abi Firmansyah"},"FCNS "]
[6,"17.11.0268",{"$f":"IF(B7=\"\",\"\",VLOOKUP(B7,[1]Mahasiswa!$A$2:$B$999999,2,0))","v":"Abi Nandita Arga Apria Kusuma"},"FCNS"]
[7,"17.11.0083",{"$f":"IF(B8=\"\",\"\",VLOOKUP(B8,[1]Mahasiswa!$A$2:$B$999999,2,0))","v":"Abidin Hidayanto"},"FCNS "]
[8,"17.11.0049",{"$f":"IF(B9=\"\",\"\",VLOOKUP(B9,[1]Mahasiswa!$A$2:$B$999999,2,0))","v":"Achmad Dian Rafi'I"},"FCNS"]
[9,"17.11.0046",{"$f":"IF(B10=\"\",\"\",VLOOKUP(B10,[1]Mahasiswa!$A$2:$B$999999,2,0))","v":"Adam Amirudin"},"FCNS"]
[10,"17.12.0016",{"$f":"IF(B11=\"\",\"\",VLOOKUP(B11,[1]Mahasiswa!$A$2:$B$999999,2,0))","v":"Ade Ivan Vanani"},"FCNS"]
[11,"17.11.0167",{"$f":"IF(B12=\"\",\"\",VLOOKUP(B12,[1]Mahasiswa!$A$2:$B$999999,2,0))","v":"Adi Budi Prasetyo"},"FCNS"]
[12,"17.11.0140",{"$f":"IF(B13=\"\",\"\",VLOOKUP(B13,[1]Mahasiswa!$A$2:$B$999999,2,0))","v":"Adimas Syafi'I"},"FCNS"]
[13,"17.11.0032",{"$f":"IF(B14=\"\",\"\",VLOOKUP(B14,[1]Mahasiswa!$A$2:$B$999999,2,0))","v":"Affan Az Zarqoni"},"FCNS"]
[14,"17.11.0134",{"$f":"IF(B15=\"\",\"\",VLOOKUP(B15,[1]Mahasiswa!$A$2:$B$999999,2,0))","v":"Afif Andi Nur Agazi"},"FCNS"]
[15,"17.11.0292",{"$f":"IF(B16=\"\",\"\",VLOOKUP(B16,[1]Mahasiswa!$A$2:$B$999999,2,0))","v":"Afifah Ananda Putri"},"FCNS"]
[16,"17.12.0017",{"$f":"IF(B17=\"\",\"\",VLOOKUP(B17,[1]Mahasiswa!$A$2:$B$999999,2,0))","v":"Afifur Rohman Zain"},"FCNS"]
[17,"17.11.0042",{"$f":"IF(B18=\"\",\"\",VLOOKUP(B18,[1]Mahasiswa!$A$2:$B$999999,2,0))","v":"Afrel Putra Mahendra"},"FCNS"]
[18,"17.11.0258",{"$f":"IF(B19=\"\",\"\",VLOOKUP(B19,[1]Mahasiswa!$A$2:$B$999999,2,0))","v":"Agung Putra Pratama"},"FCNS"]
[19,"16.11.0118",{"$f":"IF(B20=\"\",\"\",VLOOKUP(B20,[1]Mahasiswa!$A$2:$B$999999,2,0))","v":"Ahmad"},"FCNS"]
[20,"17.11.0029",{"$f":"IF(B21=\"\",\"\",VLOOKUP(B21,[1]Mahasiswa!$A$2:$B$999999,2,0))","v":"Ahmad Alwi Rahman"},"FCNS"]
[21,"17.11.0312",{"$f":"IF(B22=\"\",\"\",VLOOKUP(B22,[1]Mahasiswa!$A$2:$B$999999,2,0))","v":"Ahmad Andrian Syah"},"FCNS"]
[22,"16.11.0232",{"$f":"IF(B23=\"\",\"\",VLOOKUP(B23,[1]Mahasiswa!$A$2:$B$999999,2,0))","v":"Ahmad Bagus Novian"},"FCNS"]
[23,"17.12.0113",{"$f":"IF(B24=\"\",\"\",VLOOKUP(B24,[1]Mahasiswa!$A$2:$B$999999,2,0))","v":"Aji Pangestu"},"FCNS"]
[24,"17.11.0175",{"$f":"IF(B25=\"\",\"\",VLOOKUP(B25,[1]Mahasiswa!$A$2:$B$999999,2,0))","v":"Al Hafidz Hanifan Islahi"},"FCNS"]
[25,"17.11.0326",{"$f":"IF(B26=\"\",\"\",VLOOKUP(B26,[1]Mahasiswa!$A$2:$B$999999,2,0))","v":"Aldika Muliyansyah"},"FCNS"]
[26,"17.11.0130",{"$f":"IF(B27=\"\",\"\",VLOOKUP(B27,[1]Mahasiswa!$A$2:$B$999999,2,0))","v":"Aldiliya Ainun Madjid"},"FCNS"]
[27,"17.12.0024",{"$f":"IF(B28=\"\",\"\",VLOOKUP(B28,[1]Mahasiswa!$A$2:$B$999999,2,0))","v":"Aldistya Riesta Sekarini"},"FCNS "]
[28,"17.11.0099",{"$f":"IF(B29=\"\",\"\",VLOOKUP(B29,[1]Mahasiswa!$A$2:$B$999999,2,0))","v":"Alfandi Rifqi Widyadana"},"FCNS"]
[29,"17.12.0148",{"$f":"IF(B30=\"\",\"\",VLOOKUP(B30,[1]Mahasiswa!$A$2:$B$999999,2,0))","v":"Alvian Majid"},"FCNS"]
[30,"17.12.0035",{"$f":"IF(B31=\"\",\"\",VLOOKUP(B31,[1]Mahasiswa!$A$2:$B$999999,2,0))","v":"Amalia Wahyu Utami"},"FCNS "]
[31,"17.12.0111",{"$f":"IF(B32=\"\",\"\",VLOOKUP(B32,[1]Mahasiswa!$A$2:$B$999999,2,0))","v":"Amelia Mawaddah Alfathani"},"FCNS"]
[32,"17.12.0118",{"$f":"IF(B33=\"\",\"\",VLOOKUP(B33,[1]Mahasiswa!$A$2:$B$999999,2,0))","v":"Amelia Putriyani"},"FCNS"]
[33,"17.11.0116",{"$f":"IF(B34=\"\",\"\",VLOOKUP(B34,[1]Mahasiswa!$A$2:$B$999999,2,0))","v":"Ammar Sholeh Aryanto"},"FCNS"]
[34,"17.11.0187",{"$f":"IF(B35=\"\",\"\",VLOOKUP(B35,[1]Mahasiswa!$A$2:$B$999999,2,0))","v":"Anang Sudarmaya"},"FCNS"]
[35,"16.11.0355",{"$f":"IF(B36=\"\",\"\",VLOOKUP(B36,[1]Mahasiswa!$A$2:$B$999999,2,0))","v":"Anggi Saputra Daeng"},"FCNS "]
[36,"16.11.0153",{"$f":"IF(B37=\"\",\"\",VLOOKUP(B37,[1]Mahasiswa!$A$2:$B$999999,2,0))","v":"Anggit Bintang Prasetyo"},"FCNS"]
[37,"17.12.0012",{"$f":"IF(B38=\"\",\"\",VLOOKUP(B38,[1]Mahasiswa!$A$2:$B$999999,2,0))","v":"Anindya Anggelina"},"FCNS"]
[38,"17.12.0082",{"$f":"IF(B39=\"\",\"\",VLOOKUP(B39,[1]Mahasiswa!$A$2:$B$999999,2,0))","v":"Anisa Nur Faizah"},"FCNS"]
[39,"17.12.0159",{"$f":"IF(B40=\"\",\"\",VLOOKUP(B40,[1]Mahasiswa!$A$2:$B$999999,2,0))","v":"Anisa Ummul Latifah"},"FCNS"]
[40,"17.12.0110",{"$f":"IF(B41=\"\",\"\",VLOOKUP(B41,[1]Mahasiswa!$A$2:$B$999999,2,0))","v":"Ankgraeni Kusuma Dewi"},"FCNS"]
[41,"17.12.0067",{"$f":"IF(B42=\"\",\"\",VLOOKUP(B42,[1]Mahasiswa!$A$2:$B$999999,2,0))","v":"Aprilia Meli Kristina"},"FCNS "]
[42,"17.11.0048",{"$f":"IF(B43=\"\",\"\",VLOOKUP(B43,[1]Mahasiswa!$A$2:$B$999999,2,0))","v":"Ari Nur Rizki"},"FCNS"]
[43,"17.11.0016",{"$f":"IF(B44=\"\",\"\",VLOOKUP(B44,[1]Mahasiswa!$A$2:$B$999999,2,0))","v":"Arief Kurnia Ramadhani"},"FCNS"]
[44,"17.11.0069",{"$f":"IF(B45=\"\",\"\",VLOOKUP(B45,[1]Mahasiswa!$A$2:$B$999999,2,0))","v":"Arif Nugroho Aji"},"FCNS"]
[45,"17.12.0025",{"$f":"IF(B46=\"\",\"\",VLOOKUP(B46,[1]Mahasiswa!$A$2:$B$999999,2,0))","v":"Arif Sugiarto"},"FCNS"]
[46,"17.11.0044",{"$f":"IF(B47=\"\",\"\",VLOOKUP(B47,[1]Mahasiswa!$A$2:$B$999999,2,0))","v":"Arif Supriyono"},"FCNS"]
[47,"17.12.0039",{"$f":"IF(B48=\"\",\"\",VLOOKUP(B48,[1]Mahasiswa!$A$2:$B$999999,2,0))","v":"Arjuntoro Ardhy Ferdian"},"FCNS"]
[48,"17.11.0024",{"$f":"IF(B49=\"\",\"\",VLOOKUP(B49,[1]Mahasiswa!$A$2:$B$999999,2,0))","v":"Asep Setiaji"},"FCNS"]
[49,"16.11.0091",{"$f":"IF(B50=\"\",\"\",VLOOKUP(B50,[1]Mahasiswa!$A$2:$B$999999,2,0))","v":"Asep Tri Wibowo"},"FCNS"]
[50,"17.12.0023",{"$f":"IF(B51=\"\",\"\",VLOOKUP(B51,[1]Mahasiswa!$A$2:$B$999999,2,0))","v":"Asif Bahria"},"FCNS"]
[51,"17.12.0119",{"$f":"IF(B52=\"\",\"\",VLOOKUP(B52,[1]Mahasiswa!$A$2:$B$999999,2,0))","v":"Asril Fauzi Nurhakim"},"FCNS"]
[52,"17.12.0076",{"$f":"IF(B53=\"\",\"\",VLOOKUP(B53,[1]Mahasiswa!$A$2:$B$999999,2,0))","v":"Ayu Distariyani Saputri"},"FCNS"]
[53,"17.12.0018",{"$f":"IF(B54=\"\",\"\",VLOOKUP(B54,[1]Mahasiswa!$A$2:$B$999999,2,0))","v":"Azhari Rakhmat Bakhtiar"},"FCNS"]
[54,"17.11.0008",{"$f":"IF(B55=\"\",\"\",VLOOKUP(B55,[1]Mahasiswa!$A$2:$B$999999,2,0))","v":"Azizan Nurhakim"},"FCNS"]
[55,"15.12.0049",{"$f":"IF(B56=\"\",\"\",VLOOKUP(B56,[1]Mahasiswa!$A$2:$B$999999,2,0))","v":"Bachtiar Santiana Permadi"},"FCNS"]
[56,"17.11.0125",{"$f":"IF(B57=\"\",\"\",VLOOKUP(B57,[1]Mahasiswa!$A$2:$B$999999,2,0))","v":"Bagas Suryatama"},"FCNS"]
[57,"17.12.0002",{"$f":"IF(B58=\"\",\"\",VLOOKUP(B58,[1]Mahasiswa!$A$2:$B$999999,2,0))","v":"Bagas Wardana"},"FCNS"]
[58,"17.11.0072",{"$f":"IF(B59=\"\",\"\",VLOOKUP(B59,[1]Mahasiswa!$A$2:$B$999999,2,0))","v":"Baharuddin Al Fadhilah"},"FCNS"]
[59,"17.11.0239",{"$f":"IF(B60=\"\",\"\",VLOOKUP(B60,[1]Mahasiswa!$A$2:$B$999999,2,0))","v":"Bayu Setia Aji"},"FCNS"]
[60,"17.11.0103",{"$f":"IF(B61=\"\",\"\",VLOOKUP(B61,[1]Mahasiswa!$A$2:$B$999999,2,0))","v":"Bayu Setiaji"},"FCNS"]
[61,"17.11.0060",{"$f":"IF(B62=\"\",\"\",VLOOKUP(B62,[1]Mahasiswa!$A$2:$B$999999,2,0))","v":"Bella Agustia"},"FCNS"]
[62,"17.11.0006",{"$f":"IF(B63=\"\",\"\",VLOOKUP(B63,[1]Mahasiswa!$A$2:$B$999999,2,0))","v":"Bima Rasendriya Indrastoto"},"FCNS"]
[63,"17.11.0269",{"$f":"IF(B64=\"\",\"\",VLOOKUP(B64,[1]Mahasiswa!$A$2:$B$999999,2,0))","v":"Bintari Hidayanti"},"FCNS"]
[64,"17.11.0067",{"$f":"IF(B65=\"\",\"\",VLOOKUP(B65,[1]Mahasiswa!$A$2:$B$999999,2,0))","v":"Brilian Alfain Nusa Bhakti"},"FCNS"]
[65,"17.11.0074",{"$f":"IF(B66=\"\",\"\",VLOOKUP(B66,[1]Mahasiswa!$A$2:$B$999999,2,0))","v":"Candra Santika"},"FCNS"]
[66,"17.12.0069",{"$f":"IF(B67=\"\",\"\",VLOOKUP(B67,[1]Mahasiswa!$A$2:$B$999999,2,0))","v":"Carell Yudhi Hernani"},"FCNS"]
[67,"17.11.0141",{"$f":"IF(B68=\"\",\"\",VLOOKUP(B68,[1]Mahasiswa!$A$2:$B$999999,2,0))","v":"Chanif Fauzi"},"FCNS"]
[68,"17.12.0063",{"$f":"IF(B69=\"\",\"\",VLOOKUP(B69,[1]Mahasiswa!$A$2:$B$999999,2,0))","v":"Cholivia Intan Nur Safitri"},"FCNS "]
[69,"17.12.0030",{"$f":"IF(B70=\"\",\"\",VLOOKUP(B70,[1]Mahasiswa!$A$2:$B$999999,2,0))","v":"Cici Wulan Sari"},"FCNS"]
[70,"17.11.0174",{"$f":"IF(B71=\"\",\"\",VLOOKUP(B71,[1]Mahasiswa!$A$2:$B$999999,2,0))","v":"Cynthia Silviana Wijayanti"},"FCNS"]
[71,"17.11.0171",{"$f":"IF(B72=\"\",\"\",VLOOKUP(B72,[1]Mahasiswa!$A$2:$B$999999,2,0))","v":"Danang Rikiyanto"},"FCNS"]
[72,"17.11.0216",{"$f":"IF(B73=\"\",\"\",VLOOKUP(B73,[1]Mahasiswa!$A$2:$B$999999,2,0))","v":"Dani Faisal"},"FCNS"]
[73,"17.12.0092",{"$f":"IF(B74=\"\",\"\",VLOOKUP(B74,[1]Mahasiswa!$A$2:$B$999999,2,0))","v":"Deadra Ivanka Nailufar"},"FCNS"]
[74,"17.11.0015",{"$f":"IF(B75=\"\",\"\",VLOOKUP(B75,[1]Mahasiswa!$A$2:$B$999999,2,0))","v":"Debi Indarto"},"FCNS"]
[75,"17.11.0033",{"$f":"IF(B76=\"\",\"\",VLOOKUP(B76,[1]Mahasiswa!$A$2:$B$999999,2,0))","v":"Dedy Istiady Pujianada"},"FCNS "]
[76,"17.11.0040",{"$f":"IF(B77=\"\",\"\",VLOOKUP(B77,[1]Mahasiswa!$A$2:$B$999999,2,0))","v":"Defria Iskanto"},"FCNS"]
[77,"17.11.0223",{"$f":"IF(B78=\"\",\"\",VLOOKUP(B78,[1]Mahasiswa!$A$2:$B$999999,2,0))","v":"Dema Abubakar"},"FCNS"]
[78,"17.12.0096",{"$f":"IF(B79=\"\",\"\",VLOOKUP(B79,[1]Mahasiswa!$A$2:$B$999999,2,0))","v":"Deppi Puspitasari"},"FCNS"]
[79,"17.12.0027",{"$f":"IF(B80=\"\",\"\",VLOOKUP(B80,[1]Mahasiswa!$A$2:$B$999999,2,0))","v":"Desty Sandra Utami"},"FCNS"]
[80,"17.12.0034",{"$f":"IF(B81=\"\",\"\",VLOOKUP(B81,[1]Mahasiswa!$A$2:$B$999999,2,0))","v":"Devi Nuraeni"},"FCNS "]
[81,"17.12.0154",{"$f":"IF(B82=\"\",\"\",VLOOKUP(B82,[1]Mahasiswa!$A$2:$B$999999,2,0))","v":"Dewi Sulistyowati"},"FCNS"]
[82,"16.12.0023",{"$f":"IF(B83=\"\",\"\",VLOOKUP(B83,[1]Mahasiswa!$A$2:$B$999999,2,0))","v":"Dhika Aulia Athhur"},"FCNS"]
[83,"17.11.0136",{"$f":"IF(B84=\"\",\"\",VLOOKUP(B84,[1]Mahasiswa!$A$2:$B$999999,2,0))","v":"Didik Wicaksono"},"FCNS"]
[84,"17.12.0152",{"$f":"IF(B85=\"\",\"\",VLOOKUP(B85,[1]Mahasiswa!$A$2:$B$999999,2,0))","v":"Dista Trianisfi"},"FCNS"]
[85,"17.11.0001",{"$f":"IF(B86=\"\",\"\",VLOOKUP(B86,[1]Mahasiswa!$A$2:$B$999999,2,0))","v":"Dita Ferdian Bayu Kusuma"},"FCNS"]
[86,"17.11.0045",{"$f":"IF(B87=\"\",\"\",VLOOKUP(B87,[1]Mahasiswa!$A$2:$B$999999,2,0))","v":"Dita Purnamasari"},"FCNS"]
[87,"17.12.0098",{"$f":"IF(B88=\"\",\"\",VLOOKUP(B88,[1]Mahasiswa!$A$2:$B$999999,2,0))","v":"Dwi Meiliana"},"FCNS"]
[88,"16.12.0223",{"$f":"IF(B89=\"\",\"\",VLOOKUP(B89,[1]Mahasiswa!$A$2:$B$999999,2,0))","v":"Dwi Septi Rahayu Pratiwi"},"FCNS"]
[89,"17.11.0090",{"$f":"IF(B90=\"\",\"\",VLOOKUP(B90,[1]Mahasiswa!$A$2:$B$999999,2,0))","v":"Edi Imam Mutaqin"},"FCNS "]
[90,"17.11.0145",{"$f":"IF(B91=\"\",\"\",VLOOKUP(B91,[1]Mahasiswa!$A$2:$B$999999,2,0))","v":"Eka Suci Nopie Hantari"},"FCNS"]
[91,"17.12.0003",{"$f":"IF(B92=\"\",\"\",VLOOKUP(B92,[1]Mahasiswa!$A$2:$B$999999,2,0))","v":"Eky Setiawan"},"FCNS"]
[92,"17.12.0116",{"$f":"IF(B93=\"\",\"\",VLOOKUP(B93,[1]Mahasiswa!$A$2:$B$999999,2,0))","v":"Elfariani Miftakhul Janah"},"FCNS"]
[93,"17.11.0121",{"$f":"IF(B94=\"\",\"\",VLOOKUP(B94,[1]Mahasiswa!$A$2:$B$999999,2,0))","v":"Enggar Pri Pambudi"},"FCNS"]
[94,"17.11.0030",{"$f":"IF(B95=\"\",\"\",VLOOKUP(B95,[1]Mahasiswa!$A$2:$B$999999,2,0))","v":"Entuk Aji Nugroho"},"FCNS"]
[95,"17.12.0086",{"$f":"IF(B96=\"\",\"\",VLOOKUP(B96,[1]Mahasiswa!$A$2:$B$999999,2,0))","v":"Eriana Zahrotul Firdaus"},"FCNS"]
[96,"17.11.0182",{"$f":"IF(B97=\"\",\"\",VLOOKUP(B97,[1]Mahasiswa!$A$2:$B$999999,2,0))","v":"Erick Setio Pamuji"},"FCNS"]
[97,"17.12.0122",{"$f":"IF(B98=\"\",\"\",VLOOKUP(B98,[1]Mahasiswa!$A$2:$B$999999,2,0))","v":"Esa Damayanti"},"FCNS"]
[98,"17.12.0149",{"$f":"IF(B99=\"\",\"\",VLOOKUP(B99,[1]Mahasiswa!$A$2:$B$999999,2,0))","v":"Evi Sindyanti"},"FCNS "]
[99,"17.12.0014",{"$f":"IF(B100=\"\",\"\",VLOOKUP(B100,[1]Mahasiswa!$A$2:$B$999999,2,0))","v":"Fadhlan Nur Khaalish"},"FCNS"]
[100,"17.11.0056",{"$f":"IF(B101=\"\",\"\",VLOOKUP(B101,[1]Mahasiswa!$A$2:$B$999999,2,0))","v":"Faisal Iska Ukhriza"},"FCNS"]
[101,"17.11.0293",{"$f":"IF(B102=\"\",\"\",VLOOKUP(B102,[1]Mahasiswa!$A$2:$B$999999,2,0))","v":"Faishal Anwar Fadhillah"},"FCNS"]
[102,"17.12.0066",{"$f":"IF(B103=\"\",\"\",VLOOKUP(B103,[1]Mahasiswa!$A$2:$B$999999,2,0))","v":"Faizal Amin"},"FCNS"]
[103,"17.11.0124",{"$f":"IF(B104=\"\",\"\",VLOOKUP(B104,[1]Mahasiswa!$A$2:$B$999999,2,0))","v":"Faizal Ramadhan Suyitno Putra"},"FCNS"]
[104,"17.11.0108",{"$f":"IF(B105=\"\",\"\",VLOOKUP(B105,[1]Mahasiswa!$A$2:$B$999999,2,0))","v":"Farhan Bani Rizki"},"FCNS"]
[105,"17.12.0146",{"$f":"IF(B106=\"\",\"\",VLOOKUP(B106,[1]Mahasiswa!$A$2:$B$999999,2,0))","v":"Farinda Eka Putri"},"FCNS"]
[106,"17.12.0123",{"$f":"IF(B107=\"\",\"\",VLOOKUP(B107,[1]Mahasiswa!$A$2:$B$999999,2,0))","v":"Farris Amrullah"},"FCNS"]
[107,"17.11.0034",{"$f":"IF(B108=\"\",\"\",VLOOKUP(B108,[1]Mahasiswa!$A$2:$B$999999,2,0))","v":"Fauzan Aji"},"FCNS "]
[108,"17.11.0285",{"$f":"IF(B109=\"\",\"\",VLOOKUP(B109,[1]Mahasiswa!$A$2:$B$999999,2,0))","v":"Fauzi Tri Hidayat"},"FCNS"]
[109,"17.11.0319",{"$f":"IF(B110=\"\",\"\",VLOOKUP(B110,[1]Mahasiswa!$A$2:$B$999999,2,0))","v":"Fera Ebri Primadani"},"FCNS "]
[110,"17.11.0153",{"$f":"IF(B111=\"\",\"\",VLOOKUP(B111,[1]Mahasiswa!$A$2:$B$999999,2,0))","v":"Ferdynan Ari Rahmadan"},"FCNS"]
[111,"17.11.0050",{"$f":"IF(B112=\"\",\"\",VLOOKUP(B112,[1]Mahasiswa!$A$2:$B$999999,2,0))","v":"Fiqri Ockas Perdana"},"FCNS"]
[112,"17.12.0153",{"$f":"IF(B113=\"\",\"\",VLOOKUP(B113,[1]Mahasiswa!$A$2:$B$999999,2,0))","v":"Firman Wijaya"},"FCNS "]
[113,"17.11.0073",{"$f":"IF(B114=\"\",\"\",VLOOKUP(B114,[1]Mahasiswa!$A$2:$B$999999,2,0))","v":"Gagat Baskoro Syah"},"FCNS"]
[114,"17.11.0218",{"$f":"IF(B115=\"\",\"\",VLOOKUP(B115,[1]Mahasiswa!$A$2:$B$999999,2,0))","v":"Galih Bagaskoro"},"FCNS"]
[115,"17.11.0091",{"$f":"IF(B116=\"\",\"\",VLOOKUP(B116,[1]Mahasiswa!$A$2:$B$999999,2,0))","v":"Ghaushil Badri Amin"},"FCNS"]
[116,"17.11.0179",{"$f":"IF(B117=\"\",\"\",VLOOKUP(B117,[1]Mahasiswa!$A$2:$B$999999,2,0))","v":"Gilang Nur Alfian"},"FCNS "]
[117,"17.12.0156",{"$f":"IF(B118=\"\",\"\",VLOOKUP(B118,[1]Mahasiswa!$A$2:$B$999999,2,0))","v":"Giri Indah Umbarawati"},"FCNS"]
[118,"17.11.0163",{"$f":"IF(B119=\"\",\"\",VLOOKUP(B119,[1]Mahasiswa!$A$2:$B$999999,2,0))","v":"Guntur Eka Prasetyo"},"FCNS"]
[119,"17.12.0077",{"$f":"IF(B120=\"\",\"\",VLOOKUP(B120,[1]Mahasiswa!$A$2:$B$999999,2,0))","v":"Hana Ambar Fatik Wibawa"},"FCNS"]
[120,"17.11.0207",{"$f":"IF(B121=\"\",\"\",VLOOKUP(B121,[1]Mahasiswa!$A$2:$B$999999,2,0))","v":"Hanendyo Andhi Gurita"},"FCNS"]
[121,"17.12.0109",{"$f":"IF(B122=\"\",\"\",VLOOKUP(B122,[1]Mahasiswa!$A$2:$B$999999,2,0))","v":"Hanindya Sekar Putri"},"FCNS"]
[122,"17.11.0208",{"$f":"IF(B123=\"\",\"\",VLOOKUP(B123,[1]Mahasiswa!$A$2:$B$999999,2,0))","v":"Hasananto Zakaria"},"FCNS"]
[123,"17.11.0255",{"$f":"IF(B124=\"\",\"\",VLOOKUP(B124,[1]Mahasiswa!$A$2:$B$999999,2,0))","v":"Hasna Endah Saptawati"},"FCNS"]
[124,"17.12.0078",{"$f":"IF(B125=\"\",\"\",VLOOKUP(B125,[1]Mahasiswa!$A$2:$B$999999,2,0))","v":"Hastiwi Amelia Nurawaliah"},"FCNS"]
[125,"17.11.0144",{"$f":"IF(B126=\"\",\"\",VLOOKUP(B126,[1]Mahasiswa!$A$2:$B$999999,2,0))","v":"Hendri Kuat Febriansyah"},"FCNS"]
[126,"17.12.0100",{"$f":"IF(B127=\"\",\"\",VLOOKUP(B127,[1]Mahasiswa!$A$2:$B$999999,2,0))","v":"Heraya Fitra"},"FCNS"]
[127,"17.11.0087",{"$f":"IF(B128=\"\",\"\",VLOOKUP(B128,[1]Mahasiswa!$A$2:$B$999999,2,0))","v":"Hermawan Dwi Prayitno"},"FCNS"]
[128,"17.11.0119",{"$f":"IF(B129=\"\",\"\",VLOOKUP(B129,[1]Mahasiswa!$A$2:$B$999999,2,0))","v":"Husni Hamzah"},"FCNS "]
[129,"17.12.0105",{"$f":"IF(B130=\"\",\"\",VLOOKUP(B130,[1]Mahasiswa!$A$2:$B$999999,2,0))","v":"I Nyoman Puthut Wijaya"},"FCNS"]
[130,"14.11.0239",{"$f":"IF(B131=\"\",\"\",VLOOKUP(B131,[1]Mahasiswa!$A$2:$B$999999,2,0))","v":"Ibnu Aqil"},"FCNS "]
[131,"17.12.0147",{"$f":"IF(B132=\"\",\"\",VLOOKUP(B132,[1]Mahasiswa!$A$2:$B$999999,2,0))","v":"Ida Laeni"},"FCNS"]
[132,"17.12.0011",{"$f":"IF(B133=\"\",\"\",VLOOKUP(B133,[1]Mahasiswa!$A$2:$B$999999,2,0))","v":"Ifania Oktaviani Putri"},"FCNS"]
[133,"17.11.0052",{"$f":"IF(B134=\"\",\"\",VLOOKUP(B134,[1]Mahasiswa!$A$2:$B$999999,2,0))","v":"Ihwan Prasetio"},"FCNS"]
[134,"16.11.0298",{"$f":"IF(B135=\"\",\"\",VLOOKUP(B135,[1]Mahasiswa!$A$2:$B$999999,2,0))","v":"Ikhwan Setyawan"},"FCNS "]
[135,"17.11.0061",{"$f":"IF(B136=\"\",\"\",VLOOKUP(B136,[1]Mahasiswa!$A$2:$B$999999,2,0))","v":"Ilham Alfan Hidayat"},"FCNS"]
[136,"17.12.0171",{"$f":"IF(B137=\"\",\"\",VLOOKUP(B137,[1]Mahasiswa!$A$2:$B$999999,2,0))","v":"Imam Khadafi"},"FCNS"]
[137,"17.11.0053",{"$f":"IF(B138=\"\",\"\",VLOOKUP(B138,[1]Mahasiswa!$A$2:$B$999999,2,0))","v":"Imam Syafii"},"FCNS"]
[138,"17.12.0135",{"$f":"IF(B139=\"\",\"\",VLOOKUP(B139,[1]Mahasiswa!$A$2:$B$999999,2,0))","v":"Indah Ghina Shafira Wardhany"},"FCNS"]
[139,"17.12.0140",{"$f":"IF(B140=\"\",\"\",VLOOKUP(B140,[1]Mahasiswa!$A$2:$B$999999,2,0))","v":"Indika Manggala Putra"},"FCNS"]
[140,"17.11.0181",{"$f":"IF(B141=\"\",\"\",VLOOKUP(B141,[1]Mahasiswa!$A$2:$B$999999,2,0))","v":"Indra Alan Nugroho"},"FCNS "]
[141,"17.11.0110",{"$f":"IF(B142=\"\",\"\",VLOOKUP(B142,[1]Mahasiswa!$A$2:$B$999999,2,0))","v":"Insan Ikhlasul Amal"},"FCNS"]
[142,"17.11.0085",{"$f":"IF(B143=\"\",\"\",VLOOKUP(B143,[1]Mahasiswa!$A$2:$B$999999,2,0))","v":"Irfan Rifai Aziz"},"FCNS"]
[143,"17.11.0152",{"$f":"IF(B144=\"\",\"\",VLOOKUP(B144,[1]Mahasiswa!$A$2:$B$999999,2,0))","v":"Irham Mohamad Fadli"},"FCNS"]
[144,"17.11.0084",{"$f":"IF(B145=\"\",\"\",VLOOKUP(B145,[1]Mahasiswa!$A$2:$B$999999,2,0))","v":"Irvan Eka Zaenaldi"},"FCNS"]
[145,"17.11.0120",{"$f":"IF(B146=\"\",\"\",VLOOKUP(B146,[1]Mahasiswa!$A$2:$B$999999,2,0))","v":"Ismu Irawan"},"FCNS"]
[146,"17.11.0201",{"$f":"IF(B147=\"\",\"\",VLOOKUP(B147,[1]Mahasiswa!$A$2:$B$999999,2,0))","v":"Ivan Setya Azmi"},"FCNS"]
[147,"17.11.0107",{"$f":"IF(B148=\"\",\"\",VLOOKUP(B148,[1]Mahasiswa!$A$2:$B$999999,2,0))","v":"Jeffri Irawan"},"FCNS"]
[148,"17.11.0105",{"$f":"IF(B149=\"\",\"\",VLOOKUP(B149,[1]Mahasiswa!$A$2:$B$999999,2,0))","v":"Jimmy Handriansyah"},"FCNS"]
[149,"17.11.0098",{"$f":"IF(B150=\"\",\"\",VLOOKUP(B150,[1]Mahasiswa!$A$2:$B$999999,2,0))","v":"Juli Maulana"},"FCNS"]
[150,"17.11.0282",{"$f":"IF(B151=\"\",\"\",VLOOKUP(B151,[1]Mahasiswa!$A$2:$B$999999,2,0))","v":"Julio Bhagaskara Adipradana"},"FCNS"]
[151,"17.11.0310",{"$f":"IF(B152=\"\",\"\",VLOOKUP(B152,[1]Mahasiswa!$A$2:$B$999999,2,0))","v":"Juniar Imandanni Widodo"},"FCNS"]
[152,"15.11.0091",{"$f":"IF(B153=\"\",\"\",VLOOKUP(B153,[1]Mahasiswa!$A$2:$B$999999,2,0))","v":"Kana Fitra Bhaskara"},"FCNS"]
[153,"17.11.0288",{"$f":"IF(B154=\"\",\"\",VLOOKUP(B154,[1]Mahasiswa!$A$2:$B$999999,2,0))","v":"Kanasta Firdaus"},"FCNS "]
[154,"17.11.0238",{"$f":"IF(B155=\"\",\"\",VLOOKUP(B155,[1]Mahasiswa!$A$2:$B$999999,2,0))","v":"Kartiko Hayat Nugroho"},"FCNS"]
[155,"17.12.0091",{"$f":"IF(B156=\"\",\"\",VLOOKUP(B156,[1]Mahasiswa!$A$2:$B$999999,2,0))","v":"Kelly Dhina Aryanita"},"FCNS"]
[156,"17.12.0044",{"$f":"IF(B157=\"\",\"\",VLOOKUP(B157,[1]Mahasiswa!$A$2:$B$999999,2,0))","v":"Kety Novianti"},"FCNS"]
[157,"17.11.0235",{"$f":"IF(B158=\"\",\"\",VLOOKUP(B158,[1]Mahasiswa!$A$2:$B$999999,2,0))","v":"Khautal Adani"},"FCNS"]
[158,"17.11.0018",{"$f":"IF(B159=\"\",\"\",VLOOKUP(B159,[1]Mahasiswa!$A$2:$B$999999,2,0))","v":"Kurniawan Saputra"},"FCNS"]
[159,"17.11.0004",{"$f":"IF(B160=\"\",\"\",VLOOKUP(B160,[1]Mahasiswa!$A$2:$B$999999,2,0))","v":"Labib Fauzi Ramadan"},"FCNS"]
[160,"17.11.0252",{"$f":"IF(B161=\"\",\"\",VLOOKUP(B161,[1]Mahasiswa!$A$2:$B$999999,2,0))","v":"Laeli Nur Hidayati"},"FCNS"]
[161,"16.11.0260",{"$f":"IF(B162=\"\",\"\",VLOOKUP(B162,[1]Mahasiswa!$A$2:$B$999999,2,0))","v":"Lanang Rizqi Al Amin"},"FCNS "]
[162,"17.12.0102",{"$f":"IF(B163=\"\",\"\",VLOOKUP(B163,[1]Mahasiswa!$A$2:$B$999999,2,0))","v":"Lein Ita Nurbaety"},"FCNS"]
[163,"17.12.0056",{"$f":"IF(B164=\"\",\"\",VLOOKUP(B164,[1]Mahasiswa!$A$2:$B$999999,2,0))","v":"Leni Setiani"},"FCNS"]
[164,"17.11.0222",{"$f":"IF(B165=\"\",\"\",VLOOKUP(B165,[1]Mahasiswa!$A$2:$B$999999,2,0))","v":"Lintang Ayu Lailatul Jannah"},"FCNS"]
[165,"17.12.0062",{"$f":"IF(B166=\"\",\"\",VLOOKUP(B166,[1]Mahasiswa!$A$2:$B$999999,2,0))","v":"Lisma Nur Septiana"},"FCNS"]
[166,"17.11.0109",{"$f":"IF(B167=\"\",\"\",VLOOKUP(B167,[1]Mahasiswa!$A$2:$B$999999,2,0))","v":"Lu'Ai Nur Firdaus"},"FCNS"]
[167,"17.12.0054",{"$f":"IF(B168=\"\",\"\",VLOOKUP(B168,[1]Mahasiswa!$A$2:$B$999999,2,0))","v":"Lusy Rahmawan Pangestu"},"FCNS"]
[168,"17.11.0051",{"$f":"IF(B169=\"\",\"\",VLOOKUP(B169,[1]Mahasiswa!$A$2:$B$999999,2,0))","v":"Lutfi Eriyan"},"FCNS"]
[169,"17.11.0086",{"$f":"IF(B170=\"\",\"\",VLOOKUP(B170,[1]Mahasiswa!$A$2:$B$999999,2,0))","v":"Lutfi Nur Dianto"},"FCNS"]
[170,"17.11.0206",{"$f":"IF(B171=\"\",\"\",VLOOKUP(B171,[1]Mahasiswa!$A$2:$B$999999,2,0))","v":"M Sulkhan Tama Ramdhani"},"FCNS"]
[171,"17.11.0260",{"$f":"IF(B172=\"\",\"\",VLOOKUP(B172,[1]Mahasiswa!$A$2:$B$999999,2,0))","v":"M Zidan Najmul Fatah"},"FCNS"]
[172,"17.12.0048",{"$f":"IF(B173=\"\",\"\",VLOOKUP(B173,[1]Mahasiswa!$A$2:$B$999999,2,0))","v":"M.Fiqih Fadli Ilmawan"},"FCNS"]
[173,"17.12.0058",{"$f":"IF(B174=\"\",\"\",VLOOKUP(B174,[1]Mahasiswa!$A$2:$B$999999,2,0))","v":"Maghfira Nurul Isnaini"},"FCNS "]
[174,"17.12.0169",{"$f":"IF(B175=\"\",\"\",VLOOKUP(B175,[1]Mahasiswa!$A$2:$B$999999,2,0))","v":"Maria Sekar Anjani"},"FCNS"]
[175,"17.12.0073",{"$f":"IF(B176=\"\",\"\",VLOOKUP(B176,[1]Mahasiswa!$A$2:$B$999999,2,0))","v":"Ma'Ruf Maftukhin"},"FCNS"]
[176,"17.11.0314",{"$f":"IF(B177=\"\",\"\",VLOOKUP(B177,[1]Mahasiswa!$A$2:$B$999999,2,0))","v":"Masadi Dwi Kurniawan"},"FCNS"]
[177,"17.12.0060",{"$f":"IF(B178=\"\",\"\",VLOOKUP(B178,[1]Mahasiswa!$A$2:$B$999999,2,0))","v":"Menik Purwati"},"FCNS"]
[178,"17.11.0299",{"$f":"IF(B179=\"\",\"\",VLOOKUP(B179,[1]Mahasiswa!$A$2:$B$999999,2,0))","v":"Miqdar Alfi Syahrin"},"FCNS"]
[179,"17.12.0021",{"$f":"IF(B180=\"\",\"\",VLOOKUP(B180,[1]Mahasiswa!$A$2:$B$999999,2,0))","v":"Mochammad Obby Syech Fruddin"},"FCNS"]
[180,"17.11.0189",{"$f":"IF(B181=\"\",\"\",VLOOKUP(B181,[1]Mahasiswa!$A$2:$B$999999,2,0))","v":"Moh Fadlil Faqih"},"FCNS"]
[181,"17.12.0083",{"$f":"IF(B182=\"\",\"\",VLOOKUP(B182,[1]Mahasiswa!$A$2:$B$999999,2,0))","v":"Mohamad Aifan Dwi Wiyatama Andrian"},"FCNS"]
[182,"17.11.0162",{"$f":"IF(B183=\"\",\"\",VLOOKUP(B183,[1]Mahasiswa!$A$2:$B$999999,2,0))","v":"Mohammad Rizaldi Pradana"},"FCNS"]
[183,"17.11.0296",{"$f":"IF(B184=\"\",\"\",VLOOKUP(B184,[1]Mahasiswa!$A$2:$B$999999,2,0))","v":"Mohammad Syifa Ramadhan"},"FCNS"]
[184,"17.11.0094",{"$f":"IF(B185=\"\",\"\",VLOOKUP(B185,[1]Mahasiswa!$A$2:$B$999999,2,0))","v":"Mu'Aziz Fajarudin"},"FCNS"]
[185,"17.11.0300",{"$f":"IF(B186=\"\",\"\",VLOOKUP(B186,[1]Mahasiswa!$A$2:$B$999999,2,0))","v":"Mufid Arzuda"},"FCNS"]
[186,"17.11.0209",{"$f":"IF(B187=\"\",\"\",VLOOKUP(B187,[1]Mahasiswa!$A$2:$B$999999,2,0))","v":"Muflih Dzulfian"},"FCNS"]
[187,"17.11.0228",{"$f":"IF(B188=\"\",\"\",VLOOKUP(B188,[1]Mahasiswa!$A$2:$B$999999,2,0))","v":"Muh. Dani Munif Farin"},"FCNS"]
[188,"17.11.0106",{"$f":"IF(B189=\"\",\"\",VLOOKUP(B189,[1]Mahasiswa!$A$2:$B$999999,2,0))","v":"Muhamad Abdul Mufidz"},"FCNS"]
[189,"16.11.0046",{"$f":"IF(B190=\"\",\"\",VLOOKUP(B190,[1]Mahasiswa!$A$2:$B$999999,2,0))","v":"Muhamad Aris Nur Aziz"},"FCNS"]
[190,"17.12.0106",{"$f":"IF(B191=\"\",\"\",VLOOKUP(B191,[1]Mahasiswa!$A$2:$B$999999,2,0))","v":"Muhamad Faqih Ridho"},"FCNS"]
[191,"17.11.0186",{"$f":"IF(B192=\"\",\"\",VLOOKUP(B192,[1]Mahasiswa!$A$2:$B$999999,2,0))","v":"Muhamad Machfudz Aldiansyah"},"FCNS"]
[192,"17.12.0126",{"$f":"IF(B193=\"\",\"\",VLOOKUP(B193,[1]Mahasiswa!$A$2:$B$999999,2,0))","v":"Muhamad Welly Prayoga"},"FCNS "]
[193,"17.12.0099",{"$f":"IF(B194=\"\",\"\",VLOOKUP(B194,[1]Mahasiswa!$A$2:$B$999999,2,0))","v":"Muhammad Asep Rosyadi"},"FCNS"]
[194,"17.11.0240",{"$f":"IF(B195=\"\",\"\",VLOOKUP(B195,[1]Mahasiswa!$A$2:$B$999999,2,0))","v":"Muhammad Ghozy Lathif"},"FCNS"]
[195,"17.12.0047",{"$f":"IF(B196=\"\",\"\",VLOOKUP(B196,[1]Mahasiswa!$A$2:$B$999999,2,0))","v":"Muhammad Ikhsan Nurdin"},"FCNS "]
[196,"17.11.0199",{"$f":"IF(B197=\"\",\"\",VLOOKUP(B197,[1]Mahasiswa!$A$2:$B$999999,2,0))","v":"Muhammad Ilham Hanafi"},"FCNS"]
[197,"17.11.0211",{"$f":"IF(B198=\"\",\"\",VLOOKUP(B198,[1]Mahasiswa!$A$2:$B$999999,2,0))","v":"Muhammad Marshal Abdallah"},"FCNS"]
[198,"17.11.0147",{"$f":"IF(B199=\"\",\"\",VLOOKUP(B199,[1]Mahasiswa!$A$2:$B$999999,2,0))","v":"Muhammad Rahmat Hadiyamin"},"FCNS "]
[199,"17.11.0281",{"$f":"IF(B200=\"\",\"\",VLOOKUP(B200,[1]Mahasiswa!$A$2:$B$999999,2,0))","v":"Muhammad Rifki Ubaedillah"},"FCNS"]
[200,"17.12.0037",{"$f":"IF(B201=\"\",\"\",VLOOKUP(B201,[1]Mahasiswa!$A$2:$B$999999,2,0))","v":"Muhammad Safrijal Zulmi"},"FCNS"]
[201,"17.12.0163",{"$f":"IF(B202=\"\",\"\",VLOOKUP(B202,[1]Mahasiswa!$A$2:$B$999999,2,0))","v":"Mujiburokhman"},"FCNS"]
[202,"17.11.0137",{"$f":"IF(B203=\"\",\"\",VLOOKUP(B203,[1]Mahasiswa!$A$2:$B$999999,2,0))","v":"Mulki Ali Mubarok"},"FCNS "]
[203,"17.12.0068",{"$f":"IF(B204=\"\",\"\",VLOOKUP(B204,[1]Mahasiswa!$A$2:$B$999999,2,0))","v":"Nabila Aprilianti"},"FCNS"]
[204,"17.12.0059",{"$f":"IF(B205=\"\",\"\",VLOOKUP(B205,[1]Mahasiswa!$A$2:$B$999999,2,0))","v":"Nadilla Putri Utami"},"FCNS "]
[205,"17.12.0151",{"$f":"IF(B206=\"\",\"\",VLOOKUP(B206,[1]Mahasiswa!$A$2:$B$999999,2,0))","v":"Naella Fauziatul Absoni"},"FCNS"]
[206,"17.12.0080",{"$f":"IF(B207=\"\",\"\",VLOOKUP(B207,[1]Mahasiswa!$A$2:$B$999999,2,0))","v":"Nailis Syafi'Ah"},"FCNS"]
[207,"17.11.0005",{"$f":"IF(B208=\"\",\"\",VLOOKUP(B208,[1]Mahasiswa!$A$2:$B$999999,2,0))","v":"Nana Sabrina"},"FCNS"]
[208,"17.11.0118",{"$f":"IF(B209=\"\",\"\",VLOOKUP(B209,[1]Mahasiswa!$A$2:$B$999999,2,0))","v":"Novianto Sidik Pradana"},"FCNS"]
[209,"17.11.0132",{"$f":"IF(B210=\"\",\"\",VLOOKUP(B210,[1]Mahasiswa!$A$2:$B$999999,2,0))","v":"Nur Achmad Mukti Aziz"},"FCNS"]
[210,"17.11.0265",{"$f":"IF(B211=\"\",\"\",VLOOKUP(B211,[1]Mahasiswa!$A$2:$B$999999,2,0))","v":"Nur Aulia Rahmawati"},"FCNS"]
[211,"17.11.0139",{"$f":"IF(B212=\"\",\"\",VLOOKUP(B212,[1]Mahasiswa!$A$2:$B$999999,2,0))","v":"Nur Hanifah"},"FCNS"]
[212,"17.12.0001",{"$f":"IF(B213=\"\",\"\",VLOOKUP(B213,[1]Mahasiswa!$A$2:$B$999999,2,0))","v":"Nur Laeli Rachmawati"},"FCNS"]
[213,"17.11.0038",{"$f":"IF(B214=\"\",\"\",VLOOKUP(B214,[1]Mahasiswa!$A$2:$B$999999,2,0))","v":"Nurazis Adhirama Pamungkas"},"FCNS"]
[214,"17.11.0245",{"$f":"IF(B215=\"\",\"\",VLOOKUP(B215,[1]Mahasiswa!$A$2:$B$999999,2,0))","v":"Purbo Dwi Anggoro"},"FCNS"]
[215,"17.11.0142",{"$f":"IF(B216=\"\",\"\",VLOOKUP(B216,[1]Mahasiswa!$A$2:$B$999999,2,0))","v":"Putri Dwi Erfiyanti"},"FCNS"]
[216,"17.11.0329",{"$f":"IF(B217=\"\",\"\",VLOOKUP(B217,[1]Mahasiswa!$A$2:$B$999999,2,0))","v":"Raeza Yutha Triyundi"},"FCNS "]
[217,"17.11.0101",{"$f":"IF(B218=\"\",\"\",VLOOKUP(B218,[1]Mahasiswa!$A$2:$B$999999,2,0))","v":"Rafi Ramadhan"},"FCNS"]
[218,"17.12.0130",{"$f":"IF(B219=\"\",\"\",VLOOKUP(B219,[1]Mahasiswa!$A$2:$B$999999,2,0))","v":"Rahma Sari Fauziyah"},"FCNS"]
[219,"17.11.0278",{"$f":"IF(B220=\"\",\"\",VLOOKUP(B220,[1]Mahasiswa!$A$2:$B$999999,2,0))","v":"Rahmawan Afianto Saputro"},"FCNS"]
[220,"17.12.0129",{"$f":"IF(B221=\"\",\"\",VLOOKUP(B221,[1]Mahasiswa!$A$2:$B$999999,2,0))","v":"Rahmi Sari Fauziyah"},"FCNS"]
[221,"17.11.0007",{"$f":"IF(B222=\"\",\"\",VLOOKUP(B222,[1]Mahasiswa!$A$2:$B$999999,2,0))","v":"Rangga Gusti Ananta"},"FCNS"]
[222,"17.11.0289",{"$f":"IF(B223=\"\",\"\",VLOOKUP(B223,[1]Mahasiswa!$A$2:$B$999999,2,0))","v":"Refis Aulawy Noor"},"FCNS"]
[223,"17.11.0054",{"$f":"IF(B224=\"\",\"\",VLOOKUP(B224,[1]Mahasiswa!$A$2:$B$999999,2,0))","v":"Reiyval Wilim Pratama"},"FCNS"]
[224,"17.11.0111",{"$f":"IF(B225=\"\",\"\",VLOOKUP(B225,[1]Mahasiswa!$A$2:$B$999999,2,0))","v":"Reno Dermawan Mutiara Putra"},"FCNS"]
[225,"17.12.0031",{"$f":"IF(B226=\"\",\"\",VLOOKUP(B226,[1]Mahasiswa!$A$2:$B$999999,2,0))","v":"Retno Dwi Gusti Hendarwesti"},"FCNS "]
[226,"17.11.0043",{"$f":"IF(B227=\"\",\"\",VLOOKUP(B227,[1]Mahasiswa!$A$2:$B$999999,2,0))","v":"Rian Priadi"},"FCNS"]
[227,"17.11.0248",{"$f":"IF(B228=\"\",\"\",VLOOKUP(B228,[1]Mahasiswa!$A$2:$B$999999,2,0))","v":"Rijal Amri Majid"},"FCNS"]
[228,"17.11.0151",{"$f":"IF(B229=\"\",\"\",VLOOKUP(B229,[1]Mahasiswa!$A$2:$B$999999,2,0))","v":"Rina Elmi Sofiana"},"FCNS"]
[229,"17.12.0081",{"$f":"IF(B230=\"\",\"\",VLOOKUP(B230,[1]Mahasiswa!$A$2:$B$999999,2,0))","v":"Riska Indah Nurani"},"FCNS"]
[230,"17.11.0148",{"$f":"IF(B231=\"\",\"\",VLOOKUP(B231,[1]Mahasiswa!$A$2:$B$999999,2,0))","v":"Riski Rahmatuloh"},"FCNS"]
[231,"17.11.0220",{"$f":"IF(B232=\"\",\"\",VLOOKUP(B232,[1]Mahasiswa!$A$2:$B$999999,2,0))","v":"Rizal Syukron Nugroho"},"FCNS"]
[232,"17.11.0100",{"$f":"IF(B233=\"\",\"\",VLOOKUP(B233,[1]Mahasiswa!$A$2:$B$999999,2,0))","v":"Rizky Bakhtiar"},"FCNS"]
[233,"17.11.0204",{"$f":"IF(B234=\"\",\"\",VLOOKUP(B234,[1]Mahasiswa!$A$2:$B$999999,2,0))","v":"Rizky Yoga Pangestu"},"FCNS"]
[234,"16.11.0147",{"$f":"IF(B235=\"\",\"\",VLOOKUP(B235,[1]Mahasiswa!$A$2:$B$999999,2,0))","v":"Rizqi Adi Prakoso"},"FCNS"]
[235,"17.11.0160",{"$f":"IF(B236=\"\",\"\",VLOOKUP(B236,[1]Mahasiswa!$A$2:$B$999999,2,0))","v":"Rizqi Agung Setia Wibowo"},"FCNS"]
[236,"17.11.0097",{"$f":"IF(B237=\"\",\"\",VLOOKUP(B237,[1]Mahasiswa!$A$2:$B$999999,2,0))","v":"Rizqi Gilang Ramadhan"},"FCNS "]
[237,"17.11.0002",{"$f":"IF(B238=\"\",\"\",VLOOKUP(B238,[1]Mahasiswa!$A$2:$B$999999,2,0))","v":"Rizqi Musthofa"},"FCNS"]
[238,"17.12.0074",{"$f":"IF(B239=\"\",\"\",VLOOKUP(B239,[1]Mahasiswa!$A$2:$B$999999,2,0))","v":"Roy Krisna Pratama"},"FCNS"]
[239,"16.11.0263",{"$f":"IF(B240=\"\",\"\",VLOOKUP(B240,[1]Mahasiswa!$A$2:$B$999999,2,0))","v":"Sahiana Syahrul Nur Ali Subekti"},"FCNS"]
[240,"17.11.0172",{"$f":"IF(B241=\"\",\"\",VLOOKUP(B241,[1]Mahasiswa!$A$2:$B$999999,2,0))","v":"Sendi Setiawan"},"FCNS"]
[241,"17.12.0137",{"$f":"IF(B242=\"\",\"\",VLOOKUP(B242,[1]Mahasiswa!$A$2:$B$999999,2,0))","v":"Septa Ageng Nugroho"},"FCNS"]
[242,"17.11.0014",{"$f":"IF(B243=\"\",\"\",VLOOKUP(B243,[1]Mahasiswa!$A$2:$B$999999,2,0))","v":"Septian Primansyah"},"FCNS"]
[243,"17.11.0122",{"$f":"IF(B244=\"\",\"\",VLOOKUP(B244,[1]Mahasiswa!$A$2:$B$999999,2,0))","v":"Setianingsih"},"FCNS"]
[244,"17.11.0297",{"$f":"IF(B245=\"\",\"\",VLOOKUP(B245,[1]Mahasiswa!$A$2:$B$999999,2,0))","v":"Setyo Prima Aji"},"FCNS"]
[245,"17.11.0290",{"$f":"IF(B246=\"\",\"\",VLOOKUP(B246,[1]Mahasiswa!$A$2:$B$999999,2,0))","v":"Shafrial Azhar"},"FCNS"]
[246,"17.11.0291",{"$f":"IF(B247=\"\",\"\",VLOOKUP(B247,[1]Mahasiswa!$A$2:$B$999999,2,0))","v":"Shandi Destiawan"},"FCNS"]
[247,"17.12.0095",{"$f":"IF(B248=\"\",\"\",VLOOKUP(B248,[1]Mahasiswa!$A$2:$B$999999,2,0))","v":"Siska Putri Utami"},"FCNS"]
[248,"17.12.0134",{"$f":"IF(B249=\"\",\"\",VLOOKUP(B249,[1]Mahasiswa!$A$2:$B$999999,2,0))","v":"Siti Amaliah"},"FCNS"]
[249,"17.12.0007",{"$f":"IF(B250=\"\",\"\",VLOOKUP(B250,[1]Mahasiswa!$A$2:$B$999999,2,0))","v":"Siti Khumaeroh"},"FCNS"]
[250,"17.11.0021",{"$f":"IF(B251=\"\",\"\",VLOOKUP(B251,[1]Mahasiswa!$A$2:$B$999999,2,0))","v":"Soleh Nur Hayat"},"FCNS "]
[251,"17.11.0059",{"$f":"IF(B252=\"\",\"\",VLOOKUP(B252,[1]Mahasiswa!$A$2:$B$999999,2,0))","v":"Sony Gunawan Zen"},"FCNS"]
[252,"16.11.0228",{"$f":"IF(B253=\"\",\"\",VLOOKUP(B253,[1]Mahasiswa!$A$2:$B$999999,2,0))","v":"Subayu"},"FCNS"]
[253,"17.11.0283",{"$f":"IF(B254=\"\",\"\",VLOOKUP(B254,[1]Mahasiswa!$A$2:$B$999999,2,0))","v":"Susi Sulistyaningsih"},"FCNS"]
[254,"17.12.0070",{"$f":"IF(B255=\"\",\"\",VLOOKUP(B255,[1]Mahasiswa!$A$2:$B$999999,2,0))","v":"Syafiq Febri Pangestuning Tyas"},"FCNS"]
[255,"17.12.0061",{"$f":"IF(B256=\"\",\"\",VLOOKUP(B256,[1]Mahasiswa!$A$2:$B$999999,2,0))","v":"Tegar Dwi Ramadhan"},"FCNS"]
[256,"17.11.0161",{"$f":"IF(B257=\"\",\"\",VLOOKUP(B257,[1]Mahasiswa!$A$2:$B$999999,2,0))","v":"Teguh Budi Santoso"},"FCNS"]
[257,"17.12.0038",{"$f":"IF(B258=\"\",\"\",VLOOKUP(B258,[1]Mahasiswa!$A$2:$B$999999,2,0))","v":"Titin Meisaroh"},"FCNS"]
[258,"17.11.0058",{"$f":"IF(B259=\"\",\"\",VLOOKUP(B259,[1]Mahasiswa!$A$2:$B$999999,2,0))","v":"Tri Hastomo"},"FCNS"]
[259,"17.12.0101",{"$f":"IF(B260=\"\",\"\",VLOOKUP(B260,[1]Mahasiswa!$A$2:$B$999999,2,0))","v":"Tri Septi Widi Yanti"},"FCNS"]
[260,"17.12.0150",{"$f":"IF(B261=\"\",\"\",VLOOKUP(B261,[1]Mahasiswa!$A$2:$B$999999,2,0))","v":"Uga Syahril Ramadhan"},"fcns "]
[261,"17.11.0071",{"$f":"IF(B262=\"\",\"\",VLOOKUP(B262,[1]Mahasiswa!$A$2:$B$999999,2,0))","v":"Umam Ega Pratama"},"FCNS"]
[262,"17.11.0180",{"$f":"IF(B263=\"\",\"\",VLOOKUP(B263,[1]Mahasiswa!$A$2:$B$999999,2,0))","v":"Utami Dini Puspita"},"FCNS"]
[263,"16.11.0216",{"$f":"IF(B264=\"\",\"\",VLOOKUP(B264,[1]Mahasiswa!$A$2:$B$999999,2,0))","v":"Utomo Budi Santoso"},"FCNS"]
[264,"17.12.0064",{"$f":"IF(B265=\"\",\"\",VLOOKUP(B265,[1]Mahasiswa!$A$2:$B$999999,2,0))","v":"Vera Cindi Monarike"},"FCNS "]
[265,"16.11.0111",{"$f":"IF(B266=\"\",\"\",VLOOKUP(B266,[1]Mahasiswa!$A$2:$B$999999,2,0))","v":"Viqi Apriawan"},"FCNS"]
[266,"17.12.0088",{"$f":"IF(B267=\"\",\"\",VLOOKUP(B267,[1]Mahasiswa!$A$2:$B$999999,2,0))","v":"Vita Listia Andani"},"FCNS"]
[267,"17.11.0039",{"$f":"IF(B268=\"\",\"\",VLOOKUP(B268,[1]Mahasiswa!$A$2:$B$999999,2,0))","v":"Wahyu Budi Prakoso"},"FCNS"]
[268,"17.11.0185",{"$f":"IF(B269=\"\",\"\",VLOOKUP(B269,[1]Mahasiswa!$A$2:$B$999999,2,0))","v":"Wahyu Prasetyo"},"FCNS"]
[269,"17.11.0301",{"$f":"IF(B270=\"\",\"\",VLOOKUP(B270,[1]Mahasiswa!$A$2:$B$999999,2,0))","v":"Wahyu Ramdani"},"FCNS"]
[270,"17.11.0244",{"$f":"IF(B271=\"\",\"\",VLOOKUP(B271,[1]Mahasiswa!$A$2:$B$999999,2,0))","v":"Wahyu Suryo Nurohman"},"FCNS"]
[271,"17.11.0219",{"$f":"IF(B272=\"\",\"\",VLOOKUP(B272,[1]Mahasiswa!$A$2:$B$999999,2,0))","v":"Wahyu Widianto"},"FCNS"]
[272,"16.11.0268",{"$f":"IF(B273=\"\",\"\",VLOOKUP(B273,[1]Mahasiswa!$A$2:$B$999999,2,0))","v":"Widi Santosa Putra"},"FCNS"]
[273,"17.12.0033",{"$f":"IF(B274=\"\",\"\",VLOOKUP(B274,[1]Mahasiswa!$A$2:$B$999999,2,0))","v":"Widya Hana Safitri"},"FCNS"]
[274,"17.11.0295",{"$f":"IF(B275=\"\",\"\",VLOOKUP(B275,[1]Mahasiswa!$A$2:$B$999999,2,0))","v":"Willy Ruby Oktavianus"},"FCNS"]
[275,"17.11.0232",{"$f":"IF(B276=\"\",\"\",VLOOKUP(B276,[1]Mahasiswa!$A$2:$B$999999,2,0))","v":"Windianingsih"},"FCNS"]
[276,"17.11.0031",{"$f":"IF(B277=\"\",\"\",VLOOKUP(B277,[1]Mahasiswa!$A$2:$B$999999,2,0))","v":"Wisnu Prasetya"},"FCNS"]
[277,"16.11.0270",{"$f":"IF(B278=\"\",\"\",VLOOKUP(B278,[1]Mahasiswa!$A$2:$B$999999,2,0))","v":"Witra Dwi Kuntoro"},"FCNS"]
[278,"17.11.0064",{"$f":"IF(B279=\"\",\"\",VLOOKUP(B279,[1]Mahasiswa!$A$2:$B$999999,2,0))","v":"Yoga Agung Prabowo"},"FCNS"]
[279,"17.11.0158",{"$f":"IF(B280=\"\",\"\",VLOOKUP(B280,[1]Mahasiswa!$A$2:$B$999999,2,0))","v":"Yudhistira Janice Al Sava"},"FCNS"]
[280,"15.11.0010",{"$f":"IF(B281=\"\",\"\",VLOOKUP(B281,[1]Mahasiswa!$A$2:$B$999999,2,0))","v":"Yuli Ayuningtias"},"FCNS"]
[281,"17.11.0143",{"$f":"IF(B282=\"\",\"\",VLOOKUP(B282,[1]Mahasiswa!$A$2:$B$999999,2,0))","v":"Yulian Ajri Ardiansyah"},"FCNS"]
[282,"17.12.0052",{"$f":"IF(B283=\"\",\"\",VLOOKUP(B283,[1]Mahasiswa!$A$2:$B$999999,2,0))","v":"Zezya Ramadhany Kharisma Murti"},"FCNS"]
[283,"17.11.0093",{"$f":"IF(B284=\"\",\"\",VLOOKUP(B284,[1]Mahasiswa!$A$2:$B$999999,2,0))","v":"Zida Kumala Sa'Adah"},"FCNS"]
[284,"17.11.0183",{"$f":"IF(B285=\"\",\"\",VLOOKUP(B285,[1]Mahasiswa!$A$2:$B$999999,2,0))","v":"Zsa Zsa Gracia Suprianto"},"FCNS"]
[285,"17.12.0006",{"$f":"IF(B286=\"\",\"\",VLOOKUP(B286,[1]Mahasiswa!$A$2:$B$999999,2,0))","v":"Zulfa Aulia"},"FCNS"]